| Back to Multiple platform build/check report for BioC 3.10 |
|
This page was generated on 2020-04-15 12:28:31 -0400 (Wed, 15 Apr 2020).
| Package 1052/1823 | Hostname | OS / Arch | INSTALL | BUILD | CHECK | BUILD BIN | ||||||
| miRBaseConverter 1.10.1 Taosheng Xu
| malbec1 | Linux (Ubuntu 18.04.4 LTS) / x86_64 | OK | OK | OK | |||||||
| tokay1 | Windows Server 2012 R2 Standard / x64 | [ OK ] | OK | OK | OK | |||||||
| merida1 | OS X 10.11.6 El Capitan / x86_64 | OK | OK | OK | OK |
| Package: miRBaseConverter |
| Version: 1.10.1 |
| Command: C:\cygwin\bin\curl.exe -O https://malbec1.bioconductor.org/BBS/3.10/bioc/src/contrib/miRBaseConverter_1.10.1.tar.gz && rm -rf miRBaseConverter.buildbin-libdir && mkdir miRBaseConverter.buildbin-libdir && C:\Users\biocbuild\bbs-3.10-bioc\R\bin\R.exe CMD INSTALL --merge-multiarch --build --library=miRBaseConverter.buildbin-libdir miRBaseConverter_1.10.1.tar.gz && C:\Users\biocbuild\bbs-3.10-bioc\R\bin\R.exe CMD INSTALL miRBaseConverter_1.10.1.zip && rm miRBaseConverter_1.10.1.tar.gz miRBaseConverter_1.10.1.zip |
| StartedAt: 2020-04-14 18:31:56 -0400 (Tue, 14 Apr 2020) |
| EndedAt: 2020-04-14 18:32:29 -0400 (Tue, 14 Apr 2020) |
| EllapsedTime: 33.4 seconds |
| RetCode: 0 |
| Status: OK |
##############################################################################
##############################################################################
###
### Running command:
###
### C:\cygwin\bin\curl.exe -O https://malbec1.bioconductor.org/BBS/3.10/bioc/src/contrib/miRBaseConverter_1.10.1.tar.gz && rm -rf miRBaseConverter.buildbin-libdir && mkdir miRBaseConverter.buildbin-libdir && C:\Users\biocbuild\bbs-3.10-bioc\R\bin\R.exe CMD INSTALL --merge-multiarch --build --library=miRBaseConverter.buildbin-libdir miRBaseConverter_1.10.1.tar.gz && C:\Users\biocbuild\bbs-3.10-bioc\R\bin\R.exe CMD INSTALL miRBaseConverter_1.10.1.zip && rm miRBaseConverter_1.10.1.tar.gz miRBaseConverter_1.10.1.zip
###
##############################################################################
##############################################################################
% Total % Received % Xferd Average Speed Time Time Time Current
Dload Upload Total Spent Left Speed
0 0 0 0 0 0 0 0 --:--:-- --:--:-- --:--:-- 0
100 2253k 100 2253k 0 0 29.9M 0 --:--:-- --:--:-- --:--:-- 31.4M
install for i386
* installing *source* package 'miRBaseConverter' ...
** using staged installation
** R
** data
*** moving datasets to lazyload DB
** inst
** byte-compile and prepare package for lazy loading
** help
*** installing help indices
converting help for package 'miRBaseConverter'
finding HTML links ... done
checkMiRNAAlive html
checkMiRNAFamily html
checkMiRNAVersion html
getAllMiRNAs html
getAllSpecies html
getAllVersionInfo html
getMiRNAHistory html
getMiRNASequence html
getMiRNATable html
goTo_miRBase html
goTo_miRNAFamily html
miRNATest html
miRNAVersionConvert html
miRNA_AccessionToName html
miRNA_MatureToPrecursor html
miRNA_NameToAccession html
miRNA_PrecursorToMature html
** building package indices
** installing vignettes
** testing if installed package can be loaded from temporary location
** testing if installed package can be loaded from final location
** testing if installed package keeps a record of temporary installation path
install for x64
* installing *source* package 'miRBaseConverter' ...
** testing if installed package can be loaded
* MD5 sums
packaged installation of 'miRBaseConverter' as miRBaseConverter_1.10.1.zip
* DONE (miRBaseConverter)
* installing to library 'C:/Users/biocbuild/bbs-3.10-bioc/R/library'
package 'miRBaseConverter' successfully unpacked and MD5 sums checked