| Back to Multiple platform build/check report for BioC 3.10 | 
  | 
This page was generated on 2020-04-15 12:18:44 -0400 (Wed, 15 Apr 2020).
| Package 1004/1823 | Hostname | OS / Arch | INSTALL | BUILD | CHECK | BUILD BIN | ||||||
| metahdep 1.44.0 John R. Stevens 
  | malbec1 | Linux (Ubuntu 18.04.4 LTS) / x86_64 | OK | OK | WARNINGS | |||||||
| tokay1 | Windows Server 2012 R2 Standard / x64 | [ OK ] | OK | OK | OK | |||||||
| merida1 | OS X 10.11.6 El Capitan / x86_64 | OK | OK | WARNINGS | OK | 
| Package: metahdep | 
| Version: 1.44.0 | 
| Command: C:\cygwin\bin\curl.exe -O https://malbec1.bioconductor.org/BBS/3.10/bioc/src/contrib/metahdep_1.44.0.tar.gz && rm -rf metahdep.buildbin-libdir && mkdir metahdep.buildbin-libdir && C:\Users\biocbuild\bbs-3.10-bioc\R\bin\R.exe CMD INSTALL --merge-multiarch --build --library=metahdep.buildbin-libdir metahdep_1.44.0.tar.gz && C:\Users\biocbuild\bbs-3.10-bioc\R\bin\R.exe CMD INSTALL metahdep_1.44.0.zip && rm metahdep_1.44.0.tar.gz metahdep_1.44.0.zip | 
| StartedAt: 2020-04-14 18:32:15 -0400 (Tue, 14 Apr 2020) | 
| EndedAt: 2020-04-14 18:32:37 -0400 (Tue, 14 Apr 2020) | 
| EllapsedTime: 22.2 seconds | 
| RetCode: 0 | 
| Status: OK | 
##############################################################################
##############################################################################
###
### Running command:
###
###   C:\cygwin\bin\curl.exe -O https://malbec1.bioconductor.org/BBS/3.10/bioc/src/contrib/metahdep_1.44.0.tar.gz && rm -rf metahdep.buildbin-libdir && mkdir metahdep.buildbin-libdir && C:\Users\biocbuild\bbs-3.10-bioc\R\bin\R.exe CMD INSTALL --merge-multiarch --build --library=metahdep.buildbin-libdir metahdep_1.44.0.tar.gz && C:\Users\biocbuild\bbs-3.10-bioc\R\bin\R.exe CMD INSTALL metahdep_1.44.0.zip && rm metahdep_1.44.0.tar.gz metahdep_1.44.0.zip
###
##############################################################################
##############################################################################
  % Total    % Received % Xferd  Average Speed   Time    Time     Time  Current
                                 Dload  Upload   Total   Spent    Left  Speed
  0     0    0     0    0     0      0      0 --:--:-- --:--:-- --:--:--     0
100  232k  100  232k    0     0  4298k      0 --:--:-- --:--:-- --:--:-- 4566k
install for i386
* installing *source* package 'metahdep' ...
** using staged installation
** libs
C:/Rtools/mingw_32/bin/gcc  -I"C:/Users/BIOCBU~1/BBS-3~1.10-/R/include" -DNDEBUG     -I"C:/extsoft/include"     -O3 -Wall  -std=gnu99 -mtune=core2 -c metahdep.c -o metahdep.o
In file included from metahdep.c:3:0:
metahdep.c: In function 'get_row_indices2':
C:/Users/BIOCBU~1/BBS-3~1.10-/R/include/Rinternals.h:510:18: warning: passing argument 5 of 'metan_binary_search_unique' makes integer from pointer without a cast
 #define CHAR(x)  R_CHAR(x)
                  ^
metahdep.c:471:79: note: in expansion of macro 'CHAR'
     index = metan_binary_search_unique(name_list, sort_index, R_old_names, j, CHAR(STRING_ELT(R_old_chipsets, j)), i);
                                                                               ^
metahdep.c:372:6: note: expected 'char' but argument is of type 'const char *'
 SEXP metan_binary_search_unique(SEXP name_list, SEXP sort_index, SEXP gene_name, int gene_index, char chipset_name, int study_num)
      ^
C:/Rtools/mingw_32/bin/gcc -shared -s -static-libgcc -o metahdep.dll tmp.def metahdep.o -LC:/extsoft/lib/i386 -LC:/extsoft/lib -LC:/Users/BIOCBU~1/BBS-3~1.10-/R/bin/i386 -lR
installing to C:/Users/biocbuild/bbs-3.10-bioc/meat/metahdep.buildbin-libdir/00LOCK-metahdep/00new/metahdep/libs/i386
** R
** data
** byte-compile and prepare package for lazy loading
** help
*** installing help indices
  converting help for package 'metahdep'
    finding HTML links ... done
    ES.obj-class                            html  
    HGU.DifExp.list                         html  
    HGU.newnames                            html  
    HGU.prep.list                           html  
    getPLM.es                               html  
    gloss                                   html  
    metahdep.FEMA                           html  
    metahdep.HBLM                           html  
    metahdep.REMA                           html  
    metahdep                                html  
    metahdep.format                         html  
    metahdep.other                          html  
    metaprep-class                          html  
** building package indices
** installing vignettes
** testing if installed package can be loaded from temporary location
** testing if installed package can be loaded from final location
** testing if installed package keeps a record of temporary installation path
install for x64
* installing *source* package 'metahdep' ...
** libs
C:/Rtools/mingw_64/bin/gcc  -I"C:/Users/BIOCBU~1/BBS-3~1.10-/R/include" -DNDEBUG     -I"C:/extsoft/include"     -O2 -Wall  -std=gnu99 -mtune=core2 -c metahdep.c -o metahdep.o
In file included from metahdep.c:3:0:
metahdep.c: In function 'get_row_indices2':
C:/Users/BIOCBU~1/BBS-3~1.10-/R/include/Rinternals.h:510:18: warning: passing argument 5 of 'metan_binary_search_unique' makes integer from pointer without a cast
 #define CHAR(x)  R_CHAR(x)
                  ^
metahdep.c:471:79: note: in expansion of macro 'CHAR'
     index = metan_binary_search_unique(name_list, sort_index, R_old_names, j, CHAR(STRING_ELT(R_old_chipsets, j)), i);
                                                                               ^
metahdep.c:372:6: note: expected 'char' but argument is of type 'const char *'
 SEXP metan_binary_search_unique(SEXP name_list, SEXP sort_index, SEXP gene_name, int gene_index, char chipset_name, int study_num)
      ^
C:/Rtools/mingw_64/bin/gcc -shared -s -static-libgcc -o metahdep.dll tmp.def metahdep.o -LC:/extsoft/lib/x64 -LC:/extsoft/lib -LC:/Users/BIOCBU~1/BBS-3~1.10-/R/bin/x64 -lR
installing to C:/Users/biocbuild/bbs-3.10-bioc/meat/metahdep.buildbin-libdir/metahdep/libs/x64
** testing if installed package can be loaded
* MD5 sums
packaged installation of 'metahdep' as metahdep_1.44.0.zip
* DONE (metahdep)
* installing to library 'C:/Users/biocbuild/bbs-3.10-bioc/R/library'
package 'metahdep' successfully unpacked and MD5 sums checked