| Back to Multiple platform build/check report for BioC 3.10 |
|
This page was generated on 2020-04-15 12:22:21 -0400 (Wed, 15 Apr 2020).
| Package 1007/1823 | Hostname | OS / Arch | INSTALL | BUILD | CHECK | BUILD BIN | ||||||
| metaSeq 1.26.0 Koki Tsuyuzaki
| malbec1 | Linux (Ubuntu 18.04.4 LTS) / x86_64 | OK | OK | OK | |||||||
| tokay1 | Windows Server 2012 R2 Standard / x64 | [ OK ] | OK | OK | OK | |||||||
| merida1 | OS X 10.11.6 El Capitan / x86_64 | OK | OK | OK | OK |
| Package: metaSeq |
| Version: 1.26.0 |
| Command: C:\cygwin\bin\curl.exe -O https://malbec1.bioconductor.org/BBS/3.10/bioc/src/contrib/metaSeq_1.26.0.tar.gz && rm -rf metaSeq.buildbin-libdir && mkdir metaSeq.buildbin-libdir && C:\Users\biocbuild\bbs-3.10-bioc\R\bin\R.exe CMD INSTALL --merge-multiarch --build --library=metaSeq.buildbin-libdir metaSeq_1.26.0.tar.gz && C:\Users\biocbuild\bbs-3.10-bioc\R\bin\R.exe CMD INSTALL metaSeq_1.26.0.zip && rm metaSeq_1.26.0.tar.gz metaSeq_1.26.0.zip |
| StartedAt: 2020-04-14 18:46:41 -0400 (Tue, 14 Apr 2020) |
| EndedAt: 2020-04-14 18:47:17 -0400 (Tue, 14 Apr 2020) |
| EllapsedTime: 35.8 seconds |
| RetCode: 0 |
| Status: OK |
##############################################################################
##############################################################################
###
### Running command:
###
### C:\cygwin\bin\curl.exe -O https://malbec1.bioconductor.org/BBS/3.10/bioc/src/contrib/metaSeq_1.26.0.tar.gz && rm -rf metaSeq.buildbin-libdir && mkdir metaSeq.buildbin-libdir && C:\Users\biocbuild\bbs-3.10-bioc\R\bin\R.exe CMD INSTALL --merge-multiarch --build --library=metaSeq.buildbin-libdir metaSeq_1.26.0.tar.gz && C:\Users\biocbuild\bbs-3.10-bioc\R\bin\R.exe CMD INSTALL metaSeq_1.26.0.zip && rm metaSeq_1.26.0.tar.gz metaSeq_1.26.0.zip
###
##############################################################################
##############################################################################
% Total % Received % Xferd Average Speed Time Time Time Current
Dload Upload Total Spent Left Speed
0 0 0 0 0 0 0 0 --:--:-- --:--:-- --:--:-- 0
100 6245k 100 6245k 0 0 62.9M 0 --:--:-- --:--:-- --:--:-- 65.5M
install for i386
* installing *source* package 'metaSeq' ...
** using staged installation
** R
** data
** inst
** byte-compile and prepare package for lazy loading
** help
*** installing help indices
converting help for package 'metaSeq'
finding HTML links ... done
Accelerate.NOISeq html
BreastCancer html
Fisher.test html
Reset.Accelerate.NOISeq html
Result.Meta html
Stouffer.test html
StudyA html
meta.oneside.noiseq html
meta.readData html
metaSeq-package html
other.oneside.pvalues html
pvals html
text.busca_unix html
text.busca_win html
text.n.menor_unix html
text.n.menor_win html
** building package indices
** installing vignettes
** testing if installed package can be loaded from temporary location
** testing if installed package can be loaded from final location
** testing if installed package keeps a record of temporary installation path
install for x64
* installing *source* package 'metaSeq' ...
** testing if installed package can be loaded
* MD5 sums
packaged installation of 'metaSeq' as metaSeq_1.26.0.zip
* DONE (metaSeq)
* installing to library 'C:/Users/biocbuild/bbs-3.10-bioc/R/library'
package 'metaSeq' successfully unpacked and MD5 sums checked