| Back to Multiple platform build/check report for BioC 3.10 |
|
This page was generated on 2020-04-15 12:24:13 -0400 (Wed, 15 Apr 2020).
| Package 977/1823 | Hostname | OS / Arch | INSTALL | BUILD | CHECK | BUILD BIN | ||||||
| mdgsa 1.18.0 David Montaner
| malbec1 | Linux (Ubuntu 18.04.4 LTS) / x86_64 | OK | OK | OK | |||||||
| tokay1 | Windows Server 2012 R2 Standard / x64 | OK | OK | OK | [ OK ] | |||||||
| merida1 | OS X 10.11.6 El Capitan / x86_64 | OK | OK | OK | OK |
| Package: mdgsa |
| Version: 1.18.0 |
| Command: rm -rf mdgsa.buildbin-libdir && mkdir mdgsa.buildbin-libdir && C:\Users\biocbuild\bbs-3.10-bioc\R\bin\R.exe CMD INSTALL --merge-multiarch --build --library=mdgsa.buildbin-libdir mdgsa_1.18.0.tar.gz |
| StartedAt: 2020-04-15 09:06:37 -0400 (Wed, 15 Apr 2020) |
| EndedAt: 2020-04-15 09:07:24 -0400 (Wed, 15 Apr 2020) |
| EllapsedTime: 46.7 seconds |
| RetCode: 0 |
| Status: OK |
| PackageFile: mdgsa_1.18.0.zip |
| PackageFileSize: 1.971 MiB |
##############################################################################
##############################################################################
###
### Running command:
###
### rm -rf mdgsa.buildbin-libdir && mkdir mdgsa.buildbin-libdir && C:\Users\biocbuild\bbs-3.10-bioc\R\bin\R.exe CMD INSTALL --merge-multiarch --build --library=mdgsa.buildbin-libdir mdgsa_1.18.0.tar.gz
###
##############################################################################
##############################################################################
install for i386
* installing *source* package 'mdgsa' ...
** using staged installation
** R
** inst
** byte-compile and prepare package for lazy loading
** help
*** installing help indices
converting help for package 'mdgsa'
finding HTML links ... done
annotFilter html
annotList2mat html
annotMat2list html
getGOnames html
getKEGGnames html
getOntology html
goLeaves html
indexTransform html
mdGsa html
mdPat html
plotMdGsa html
propagateGO html
pval2index html
revList html
splitOntologies html
transferIndex html
uvGsa html
uvPat html
uvSignif html
** building package indices
** installing vignettes
** testing if installed package can be loaded from temporary location
** testing if installed package can be loaded from final location
** testing if installed package keeps a record of temporary installation path
install for x64
* installing *source* package 'mdgsa' ...
** testing if installed package can be loaded
* MD5 sums
packaged installation of 'mdgsa' as mdgsa_1.18.0.zip
* DONE (mdgsa)