| Back to Multiple platform build/check report for BioC 3.10 |
|
This page was generated on 2020-04-15 12:16:57 -0400 (Wed, 15 Apr 2020).
| Package 953/1823 | Hostname | OS / Arch | INSTALL | BUILD | CHECK | BUILD BIN | ||||||
| marray 1.64.0 Yee Hwa (Jean) Yang
| malbec1 | Linux (Ubuntu 18.04.4 LTS) / x86_64 | OK | OK | OK | |||||||
| tokay1 | Windows Server 2012 R2 Standard / x64 | [ OK ] | OK | OK | OK | |||||||
| merida1 | OS X 10.11.6 El Capitan / x86_64 | OK | OK | OK | OK |
| Package: marray |
| Version: 1.64.0 |
| Command: C:\cygwin\bin\curl.exe -O https://malbec1.bioconductor.org/BBS/3.10/bioc/src/contrib/marray_1.64.0.tar.gz && rm -rf marray.buildbin-libdir && mkdir marray.buildbin-libdir && C:\Users\biocbuild\bbs-3.10-bioc\R\bin\R.exe CMD INSTALL --merge-multiarch --build --library=marray.buildbin-libdir marray_1.64.0.tar.gz && C:\Users\biocbuild\bbs-3.10-bioc\R\bin\R.exe CMD INSTALL marray_1.64.0.zip && rm marray_1.64.0.tar.gz marray_1.64.0.zip |
| StartedAt: 2020-04-14 18:38:24 -0400 (Tue, 14 Apr 2020) |
| EndedAt: 2020-04-14 18:39:29 -0400 (Tue, 14 Apr 2020) |
| EllapsedTime: 64.6 seconds |
| RetCode: 0 |
| Status: OK |
##############################################################################
##############################################################################
###
### Running command:
###
### C:\cygwin\bin\curl.exe -O https://malbec1.bioconductor.org/BBS/3.10/bioc/src/contrib/marray_1.64.0.tar.gz && rm -rf marray.buildbin-libdir && mkdir marray.buildbin-libdir && C:\Users\biocbuild\bbs-3.10-bioc\R\bin\R.exe CMD INSTALL --merge-multiarch --build --library=marray.buildbin-libdir marray_1.64.0.tar.gz && C:\Users\biocbuild\bbs-3.10-bioc\R\bin\R.exe CMD INSTALL marray_1.64.0.zip && rm marray_1.64.0.tar.gz marray_1.64.0.zip
###
##############################################################################
##############################################################################
% Total % Received % Xferd Average Speed Time Time Time Current
Dload Upload Total Spent Left Speed
0 0 0 0 0 0 0 0 --:--:-- --:--:-- --:--:-- 0
100 2818k 100 2818k 0 0 31.5M 0 --:--:-- --:--:-- --:--:-- 33.1M
install for i386
* installing *source* package 'marray' ...
** using staged installation
** R
** data
** inst
** byte-compile and prepare package for lazy loading
** help
*** installing help indices
converting help for package 'marray'
finding HTML links ... done
boxplot html
bracketMethods html
cbind html
checkTargetInfo html
coerce-methods html
dim html
findID html
htmlPage html
image html
ma2D html
maBoxplot html
maColorBar html
maCompCoord html
maCompInd html
maCompLayout html
maCompNormA html
maCompPlate html
maCoord2Ind html
maDefaultPar html
maDotsDefaults html
maDotsMatch html
maGenControls html
maGeneTable html
maImage html
maImage.func html
maInd2Coord html
maLegendLines html
maLoess html
maLoessLines html
maMAD html
maMed html
maNA html
maNorm html
maNorm2D html
maNormLoess html
maNormMAD html
maNormMain html
maNormMed html
maNormScale html
maNum2Logic html
maPalette html
maPlot html
maPlot.func html
maSelectGnames html
maText html
maTop html
maTwoSamples html
mapGeneInfo html
marray-internal html
marrayInfo-class html
marrayLayout-class html
marrayNorm-class html
marrayRaw-class html
opVersionID html
plotMA html
print-methods html
read.Galfile html
read.marrayInfo html
read.marrayLayout html
read.marrayRaw html
rm.na html
showLargeObject html
stat.confband.text html
stat.gnames html
swirl html
write.list html
write.marray html
write.xls html
** building package indices
** installing vignettes
** testing if installed package can be loaded from temporary location
** testing if installed package can be loaded from final location
** testing if installed package keeps a record of temporary installation path
install for x64
* installing *source* package 'marray' ...
** testing if installed package can be loaded
* MD5 sums
packaged installation of 'marray' as marray_1.64.0.zip
* DONE (marray)
* installing to library 'C:/Users/biocbuild/bbs-3.10-bioc/R/library'
package 'marray' successfully unpacked and MD5 sums checked