| Back to Multiple platform build/check report for BioC 3.10 |
|
This page was generated on 2020-04-15 12:25:53 -0400 (Wed, 15 Apr 2020).
| Package 891/1823 | Hostname | OS / Arch | INSTALL | BUILD | CHECK | BUILD BIN | ||||||
| kimod 1.14.0 M L Zingaretti
| malbec1 | Linux (Ubuntu 18.04.4 LTS) / x86_64 | OK | OK | OK | |||||||
| tokay1 | Windows Server 2012 R2 Standard / x64 | OK | OK | OK | [ OK ] | |||||||
| merida1 | OS X 10.11.6 El Capitan / x86_64 | OK | OK | OK | OK |
| Package: kimod |
| Version: 1.14.0 |
| Command: rm -rf kimod.buildbin-libdir && mkdir kimod.buildbin-libdir && C:\Users\biocbuild\bbs-3.10-bioc\R\bin\R.exe CMD INSTALL --merge-multiarch --build --library=kimod.buildbin-libdir kimod_1.14.0.tar.gz |
| StartedAt: 2020-04-15 09:01:45 -0400 (Wed, 15 Apr 2020) |
| EndedAt: 2020-04-15 09:02:23 -0400 (Wed, 15 Apr 2020) |
| EllapsedTime: 37.2 seconds |
| RetCode: 0 |
| Status: OK |
| PackageFile: kimod_1.14.0.zip |
| PackageFileSize: 1.005 MiB |
##############################################################################
##############################################################################
###
### Running command:
###
### rm -rf kimod.buildbin-libdir && mkdir kimod.buildbin-libdir && C:\Users\biocbuild\bbs-3.10-bioc\R\bin\R.exe CMD INSTALL --merge-multiarch --build --library=kimod.buildbin-libdir kimod_1.14.0.tar.gz
###
##############################################################################
##############################################################################
install for i386
* installing *source* package 'kimod' ...
** using staged installation
** R
** data
*** moving datasets to lazyload DB
** inst
** byte-compile and prepare package for lazy loading
** help
*** installing help indices
converting help for package 'kimod'
finding HTML links ... done
BootPlot html
Bootstrap-Class html
Bootstrap-print.Boot html
Bootstrap-summary html
DiStatis-Bootstrap html
DiStatis-Class html
DiStatis-CompPlot html
DiStatis-DiStatis html
DiStatis-PanelPlot html
DiStatis-RVPlot html
DiStatis-SelectVar html
DiStatis-TrajPlot html
DiStatis-print html
DiStatis-summary html
GroupProj-Class html
GroupProj-print html
GroupProj-summary html
GroupProj html
NCI60Selec html
NCI60Selec_ESet html
SelectVar-Biplot html
SelectVar-Class html
SelectVar-print html
SelectVar-summary html
winesassesors html
** building package indices
** installing vignettes
** testing if installed package can be loaded from temporary location
** testing if installed package can be loaded from final location
** testing if installed package keeps a record of temporary installation path
install for x64
* installing *source* package 'kimod' ...
** testing if installed package can be loaded
* MD5 sums
packaged installation of 'kimod' as kimod_1.14.0.zip
* DONE (kimod)