| Back to Multiple platform build/check report for BioC 3.10 | 
 | 
This page was generated on 2020-04-15 12:29:24 -0400 (Wed, 15 Apr 2020).
| Package 879/1823 | Hostname | OS / Arch | INSTALL | BUILD | CHECK | BUILD BIN | ||||||
| ivygapSE 1.8.0 VJ Carey 
 | malbec1 | Linux (Ubuntu 18.04.4 LTS) / x86_64 | OK | OK | OK |  | ||||||
| tokay1 | Windows Server 2012 R2 Standard / x64 | OK | OK | OK | [ OK ] |  | ||||||
| merida1 | OS X 10.11.6 El Capitan / x86_64 | OK | OK | OK | OK |  | 
| Package: ivygapSE | 
| Version: 1.8.0 | 
| Command: rm -rf ivygapSE.buildbin-libdir && mkdir ivygapSE.buildbin-libdir && C:\Users\biocbuild\bbs-3.10-bioc\R\bin\R.exe CMD INSTALL --merge-multiarch --build --library=ivygapSE.buildbin-libdir ivygapSE_1.8.0.tar.gz | 
| StartedAt: 2020-04-15 09:01:05 -0400 (Wed, 15 Apr 2020) | 
| EndedAt: 2020-04-15 09:01:45 -0400 (Wed, 15 Apr 2020) | 
| EllapsedTime: 40.6 seconds | 
| RetCode: 0 | 
| Status: OK | 
| PackageFile: ivygapSE_1.8.0.zip | 
| PackageFileSize: 15.28 MiB | 
##############################################################################
##############################################################################
###
### Running command:
###
###   rm -rf ivygapSE.buildbin-libdir && mkdir ivygapSE.buildbin-libdir && C:\Users\biocbuild\bbs-3.10-bioc\R\bin\R.exe CMD INSTALL --merge-multiarch --build --library=ivygapSE.buildbin-libdir ivygapSE_1.8.0.tar.gz
###
##############################################################################
##############################################################################
install for i386
* installing *source* package 'ivygapSE' ...
** using staged installation
** R
** data
** inst
** byte-compile and prepare package for lazy loading
** help
*** installing help indices
  converting help for package 'ivygapSE'
    finding HTML links ... done
    exprByType                              html  
    getRefLimma                             html  
    helper                                  html  
    imgSupport                              html  
    ivyGlimpse                              html  
    ivySE                                   html  
    makeGeneSets                            html  
** building package indices
** installing vignettes
** testing if installed package can be loaded from temporary location
** testing if installed package can be loaded from final location
** testing if installed package keeps a record of temporary installation path
install for x64
* installing *source* package 'ivygapSE' ...
** testing if installed package can be loaded
* MD5 sums
packaged installation of 'ivygapSE' as ivygapSE_1.8.0.zip
* DONE (ivygapSE)