| Back to Multiple platform build/check report for BioC 3.10 |
|
This page was generated on 2020-04-15 12:16:53 -0400 (Wed, 15 Apr 2020).
| Package 843/1823 | Hostname | OS / Arch | INSTALL | BUILD | CHECK | BUILD BIN | ||||||
| impute 1.60.0 Balasubramanian Narasimhan
| malbec1 | Linux (Ubuntu 18.04.4 LTS) / x86_64 | OK | OK | OK | |||||||
| tokay1 | Windows Server 2012 R2 Standard / x64 | OK | OK | OK | [ OK ] | |||||||
| merida1 | OS X 10.11.6 El Capitan / x86_64 | OK | OK | OK | OK |
| Package: impute |
| Version: 1.60.0 |
| Command: rm -rf impute.buildbin-libdir && mkdir impute.buildbin-libdir && C:\Users\biocbuild\bbs-3.10-bioc\R\bin\R.exe CMD INSTALL --merge-multiarch --build --library=impute.buildbin-libdir impute_1.60.0.tar.gz |
| StartedAt: 2020-04-15 08:58:59 -0400 (Wed, 15 Apr 2020) |
| EndedAt: 2020-04-15 08:59:41 -0400 (Wed, 15 Apr 2020) |
| EllapsedTime: 41.1 seconds |
| RetCode: 0 |
| Status: OK |
| PackageFile: impute_1.60.0.zip |
| PackageFileSize: 664 KiB |
##############################################################################
##############################################################################
###
### Running command:
###
### rm -rf impute.buildbin-libdir && mkdir impute.buildbin-libdir && C:\Users\biocbuild\bbs-3.10-bioc\R\bin\R.exe CMD INSTALL --merge-multiarch --build --library=impute.buildbin-libdir impute_1.60.0.tar.gz
###
##############################################################################
##############################################################################
install for i386
* installing *source* package 'impute' ...
** using staged installation
** libs
C:/Rtools/mingw_32/bin/gfortran -O3 -mtune=core2 -c knnimpute.f -o knnimpute.o
C:/Rtools/mingw_32/bin/gcc -shared -s -static-libgcc -o impute.dll tmp.def knnimpute.o -LC:/extsoft/lib/i386 -LC:/extsoft/lib -lgfortran -lm -lquadmath -LC:/Users/BIOCBU~1/BBS-3~1.10-/R/bin/i386 -lR
installing to C:/Users/biocbuild/bbs-3.10-bioc/meat/impute.buildbin-libdir/00LOCK-impute/00new/impute/libs/i386
** R
** data
** byte-compile and prepare package for lazy loading
** help
*** installing help indices
converting help for package 'impute'
finding HTML links ... done
impute.knn html
khanmiss html
** building package indices
** testing if installed package can be loaded from temporary location
** testing if installed package can be loaded from final location
** testing if installed package keeps a record of temporary installation path
install for x64
* installing *source* package 'impute' ...
** libs
C:/Rtools/mingw_64/bin/gfortran -O2 -mtune=core2 -c knnimpute.f -o knnimpute.o
C:/Rtools/mingw_64/bin/gcc -shared -s -static-libgcc -o impute.dll tmp.def knnimpute.o -LC:/extsoft/lib/x64 -LC:/extsoft/lib -lgfortran -lm -lquadmath -LC:/Users/BIOCBU~1/BBS-3~1.10-/R/bin/x64 -lR
installing to C:/Users/biocbuild/bbs-3.10-bioc/meat/impute.buildbin-libdir/impute/libs/x64
** testing if installed package can be loaded
* MD5 sums
packaged installation of 'impute' as impute_1.60.0.zip
* DONE (impute)