| Back to Multiple platform build/check report for BioC 3.10 |
|
This page was generated on 2020-04-15 12:09:47 -0400 (Wed, 15 Apr 2020).
| Package 839/1823 | Hostname | OS / Arch | INSTALL | BUILD | CHECK | BUILD BIN | ||||||
| immunoClust 1.18.1 Till Soerensen
| malbec1 | Linux (Ubuntu 18.04.4 LTS) / x86_64 | [ OK ] | OK | OK | |||||||
| tokay1 | Windows Server 2012 R2 Standard / x64 | OK | OK | OK | OK | |||||||
| merida1 | OS X 10.11.6 El Capitan / x86_64 | OK | OK | OK | OK |
| Package: immunoClust |
| Version: 1.18.1 |
| Command: /home/biocbuild/bbs-3.10-bioc/R/bin/R CMD INSTALL immunoClust |
| StartedAt: 2020-04-14 18:58:27 -0400 (Tue, 14 Apr 2020) |
| EndedAt: 2020-04-14 18:58:47 -0400 (Tue, 14 Apr 2020) |
| EllapsedTime: 20.0 seconds |
| RetCode: 0 |
| Status: OK |
##############################################################################
##############################################################################
###
### Running command:
###
### /home/biocbuild/bbs-3.10-bioc/R/bin/R CMD INSTALL immunoClust
###
##############################################################################
##############################################################################
* installing to library ‘/home/biocbuild/bbs-3.10-bioc/R/library’
* installing *source* package ‘immunoClust’ ...
** using staged installation
checking for pkg-config... /usr/bin/pkg-config
checking pkg-config is at least version 0.9.0... yes
checking for GSL... yes
configure: creating ./config.status
config.status: creating src/Makevars
** libs
g++ -std=gnu++11 -I"/home/biocbuild/bbs-3.10-bioc/R/include" -DNDEBUG -I/usr/local/include -fpic -g -O2 -Wall -c R_meta.cpp -o R_meta.o
g++ -std=gnu++11 -I"/home/biocbuild/bbs-3.10-bioc/R/include" -DNDEBUG -I/usr/local/include -fpic -g -O2 -Wall -c R_model.cpp -o R_model.o
g++ -std=gnu++11 -I"/home/biocbuild/bbs-3.10-bioc/R/include" -DNDEBUG -I/usr/local/include -fpic -g -O2 -Wall -c dist_mvn.cpp -o dist_mvn.o
dist_mvn.cpp: In member function ‘int dist_mvn::hellinger(double*)’:
dist_mvn.cpp:56:14: warning: variable ‘det_k’ set but not used [-Wunused-but-set-variable]
double det, det_k, det_l, logD;
^~~~~
g++ -std=gnu++11 -I"/home/biocbuild/bbs-3.10-bioc/R/include" -DNDEBUG -I/usr/local/include -fpic -g -O2 -Wall -c em_meta.cpp -o em_meta.o
em_meta.cpp: In member function ‘int em_meta::wt_step()’:
em_meta.cpp:160:9: warning: variable ‘minNk’ set but not used [-Wunused-but-set-variable]
double minNk = T_sum;
^~~~~
em_meta.cpp:162:9: warning: variable ‘minDelta’ set but not used [-Wunused-but-set-variable]
double minDelta = FLTMAX;
^~~~~~~~
em_meta.cpp: In member function ‘int em_meta::st_step()’:
em_meta.cpp:227:9: warning: variable ‘minNk’ set but not used [-Wunused-but-set-variable]
double minNk = T_sum;
^~~~~
em_meta.cpp:229:9: warning: variable ‘minDelta’ set but not used [-Wunused-but-set-variable]
double minDelta = FLTMAX;
^~~~~~~~
em_meta.cpp: In member function ‘double em_meta::et_step()’:
em_meta.cpp:412:16: warning: variable ‘sndLike’ set but not used [-Wunused-but-set-variable]
double sndLike = 0.0;
^~~~~~~
em_meta.cpp: In member function ‘double em_meta::fixedN_et_step()’:
em_meta.cpp:698:16: warning: variable ‘sndLike’ set but not used [-Wunused-but-set-variable]
double sndLike = 0.0;
^~~~~~~
g++ -std=gnu++11 -I"/home/biocbuild/bbs-3.10-bioc/R/include" -DNDEBUG -I/usr/local/include -fpic -g -O2 -Wall -c em_meta_bc.cpp -o em_meta_bc.o
em_meta_bc.cpp: In member function ‘double em_meta::bc_et_step()’:
em_meta_bc.cpp:238:16: warning: variable ‘sndLike’ set but not used [-Wunused-but-set-variable]
double sndLike = 0.0;
^~~~~~~
em_meta_bc.cpp: In member function ‘double em_meta::bc_fixedN_et_step()’:
em_meta_bc.cpp:524:16: warning: variable ‘sndLike’ set but not used [-Wunused-but-set-variable]
double sndLike = 0.0;
^~~~~~~
g++ -std=gnu++11 -I"/home/biocbuild/bbs-3.10-bioc/R/include" -DNDEBUG -I/usr/local/include -fpic -g -O2 -Wall -c em_meta_kl.cpp -o em_meta_kl.o
g++ -std=gnu++11 -I"/home/biocbuild/bbs-3.10-bioc/R/include" -DNDEBUG -I/usr/local/include -fpic -g -O2 -Wall -c em_mvn.cpp -o em_mvn.o
em_mvn.cpp: In member function ‘int em_gaussian::build(const int*, double*, int*)’:
em_mvn.cpp:722:13: warning: variable ‘maxClust’ set but not used [-Wunused-but-set-variable]
int maxClust = -1;
^~~~~~~~
g++ -std=gnu++11 -I"/home/biocbuild/bbs-3.10-bioc/R/include" -DNDEBUG -I/usr/local/include -fpic -g -O2 -Wall -c em_mvt.cpp -o em_mvt.o
em_mvt.cpp: In member function ‘int em_mvt::t_step()’:
em_mvt.cpp:522:9: warning: variable ‘minNk’ set but not used [-Wunused-but-set-variable]
double minNk = T_sum;
^~~~~
em_mvt.cpp: In member function ‘int em_mvt::build(const int*, double*, int*)’:
em_mvt.cpp:772:13: warning: variable ‘maxClust’ set but not used [-Wunused-but-set-variable]
int maxClust = -1;
^~~~~~~~
g++ -std=gnu++11 -I"/home/biocbuild/bbs-3.10-bioc/R/include" -DNDEBUG -I/usr/local/include -fpic -g -O2 -Wall -c em_mvt2.cpp -o em_mvt2.o
em_mvt2.cpp: In member function ‘int em_mvt2::t_step()’:
em_mvt2.cpp:509:9: warning: variable ‘minNk’ set but not used [-Wunused-but-set-variable]
double minNk = T_sum;
^~~~~
em_mvt2.cpp: In member function ‘int em_mvt2::build(const int*, double*, int*)’:
em_mvt2.cpp:806:13: warning: variable ‘maxClust’ set but not used [-Wunused-but-set-variable]
int maxClust = -1;
^~~~~~~~
g++ -std=gnu++11 -I"/home/biocbuild/bbs-3.10-bioc/R/include" -DNDEBUG -I/usr/local/include -fpic -g -O2 -Wall -c hc_meta.cpp -o hc_meta.o
hc_meta.cpp: In member function ‘int mvn_dendro::mahalanobis_w(int*, int*, double*)’:
hc_meta.cpp:814:16: warning: variable ‘S_i’ set but not used [-Wunused-but-set-variable]
const double *S_i, *S_j;
^~~
g++ -std=gnu++11 -I"/home/biocbuild/bbs-3.10-bioc/R/include" -DNDEBUG -I/usr/local/include -fpic -g -O2 -Wall -c hc_mvn.cpp -o hc_mvn.o
gcc -I"/home/biocbuild/bbs-3.10-bioc/R/include" -DNDEBUG -I/usr/local/include -fpic -g -O2 -Wall -c immunoClust.c -o immunoClust.o
g++ -std=gnu++11 -I"/home/biocbuild/bbs-3.10-bioc/R/include" -DNDEBUG -I/usr/local/include -fpic -g -O2 -Wall -c meta_norm.cpp -o meta_norm.o
g++ -std=gnu++11 -I"/home/biocbuild/bbs-3.10-bioc/R/include" -DNDEBUG -I/usr/local/include -fpic -g -O2 -Wall -c meta_scale.cpp -o meta_scale.o
meta_scale.cpp: In member function ‘void meta_scale::quantile()’:
meta_scale.cpp:846:10: warning: variable ‘w’ set but not used [-Wunused-but-set-variable]
double *w, *m, *s;
^
g++ -std=gnu++11 -I"/home/biocbuild/bbs-3.10-bioc/R/include" -DNDEBUG -I/usr/local/include -fpic -g -O2 -Wall -c normalize.cpp -o normalize.o
normalize.cpp: In member function ‘int normalize::linear_X(int, int)’:
normalize.cpp:156:5: warning: this ‘if’ clause does not guard... [-Wmisleading-indentation]
if( L < COEFF )
^~
normalize.cpp:159:2: note: ...this statement, but the latter is misleadingly indented as if it were guarded by the ‘if’
int k, j, p;
^~~
normalize.cpp: In member function ‘int normalize::scale_X(int, int)’:
normalize.cpp:271:5: warning: this ‘if’ clause does not guard... [-Wmisleading-indentation]
if( L < COEFF )
^~
normalize.cpp:274:2: note: ...this statement, but the latter is misleadingly indented as if it were guarded by the ‘if’
int k, j, p;
^~~
normalize.cpp: In member function ‘int normalize::linear_Y(int, int)’:
normalize.cpp:377:5: warning: this ‘if’ clause does not guard... [-Wmisleading-indentation]
if( L < COEFF )
^~
normalize.cpp:380:2: note: ...this statement, but the latter is misleadingly indented as if it were guarded by the ‘if’
int k, j, p;
^~~
normalize.cpp: In member function ‘int normalize::scale_Y(int, int)’:
normalize.cpp:459:5: warning: this ‘if’ clause does not guard... [-Wmisleading-indentation]
if( L < COEFF )
^~
normalize.cpp:462:2: note: ...this statement, but the latter is misleadingly indented as if it were guarded by the ‘if’
int k, j, p;
^~~
g++ -std=gnu++11 -I"/home/biocbuild/bbs-3.10-bioc/R/include" -DNDEBUG -I/usr/local/include -fpic -g -O2 -Wall -c sub_mvn.cpp -o sub_mvn.o
g++ -std=gnu++11 -I"/home/biocbuild/bbs-3.10-bioc/R/include" -DNDEBUG -I/usr/local/include -fpic -g -O2 -Wall -c util.cpp -o util.o
g++ -std=gnu++11 -I"/home/biocbuild/bbs-3.10-bioc/R/include" -DNDEBUG -I/usr/local/include -fpic -g -O2 -Wall -c vs_htrans.cpp -o vs_htrans.o
g++ -std=gnu++11 -shared -L/home/biocbuild/bbs-3.10-bioc/R/lib -L/usr/local/lib -o immunoClust.so R_meta.o R_model.o dist_mvn.o em_meta.o em_meta_bc.o em_meta_kl.o em_mvn.o em_mvt.o em_mvt2.o hc_meta.o hc_mvn.o immunoClust.o meta_norm.o meta_scale.o normalize.o sub_mvn.o util.o vs_htrans.o -lgsl -lgslcblas -lm -L/home/biocbuild/bbs-3.10-bioc/R/lib -lR
installing to /home/biocbuild/bbs-3.10-bioc/R/library/00LOCK-immunoClust/00new/immunoClust/libs
** R
** data
** byte-compile and prepare package for lazy loading
** help
*** installing help indices
** building package indices
** installing vignettes
** testing if installed package can be loaded from temporary location
** checking absolute paths in shared objects and dynamic libraries
** testing if installed package can be loaded from final location
** testing if installed package keeps a record of temporary installation path
* DONE (immunoClust)