| Back to Multiple platform build/check report for BioC 3.10 |
|
This page was generated on 2020-04-15 12:19:22 -0400 (Wed, 15 Apr 2020).
| Package 834/1823 | Hostname | OS / Arch | INSTALL | BUILD | CHECK | BUILD BIN | ||||||
| imageHTS 1.36.0 Joseph Barry
| malbec1 | Linux (Ubuntu 18.04.4 LTS) / x86_64 | OK | OK | OK | |||||||
| tokay1 | Windows Server 2012 R2 Standard / x64 | OK | OK | [ OK ] | OK | |||||||
| merida1 | OS X 10.11.6 El Capitan / x86_64 | OK | OK | OK | OK |
| Package: imageHTS |
| Version: 1.36.0 |
| Command: C:\Users\biocbuild\bbs-3.10-bioc\R\bin\R.exe --arch i386 CMD check --no-multiarch --install=check:imageHTS.install-out.txt --library=C:\Users\biocbuild\bbs-3.10-bioc\R\library --no-vignettes --timings imageHTS_1.36.0.tar.gz |
| StartedAt: 2020-04-15 04:01:31 -0400 (Wed, 15 Apr 2020) |
| EndedAt: 2020-04-15 04:05:02 -0400 (Wed, 15 Apr 2020) |
| EllapsedTime: 211.3 seconds |
| RetCode: 0 |
| Status: OK |
| CheckDir: imageHTS.Rcheck |
| Warnings: 0 |
##############################################################################
##############################################################################
###
### Running command:
###
### C:\Users\biocbuild\bbs-3.10-bioc\R\bin\R.exe --arch i386 CMD check --no-multiarch --install=check:imageHTS.install-out.txt --library=C:\Users\biocbuild\bbs-3.10-bioc\R\library --no-vignettes --timings imageHTS_1.36.0.tar.gz
###
##############################################################################
##############################################################################
* using log directory 'C:/Users/biocbuild/bbs-3.10-bioc/meat/imageHTS.Rcheck'
* using R version 3.6.3 (2020-02-29)
* using platform: i386-w64-mingw32 (32-bit)
* using session charset: ISO8859-1
* using option '--no-vignettes'
* checking for file 'imageHTS/DESCRIPTION' ... OK
* this is package 'imageHTS' version '1.36.0'
* checking package namespace information ... OK
* checking package dependencies ... OK
* checking if this is a source package ... OK
* checking if there is a namespace ... OK
* checking for hidden files and directories ... NOTE
Found the following hidden files and directories:
.BBSoptions
These were most likely included in error. See section 'Package
structure' in the 'Writing R Extensions' manual.
* checking for portable file names ... OK
* checking whether package 'imageHTS' can be installed ... OK
* checking installed package size ... OK
* checking package directory ... OK
* checking 'build' directory ... OK
* checking DESCRIPTION meta-information ... OK
* checking top-level files ... OK
* checking for left-over files ... OK
* checking index information ... OK
* checking package subdirectories ... OK
* checking R files for non-ASCII characters ... OK
* checking R files for syntax errors ... OK
* checking whether the package can be loaded ... OK
* checking whether the package can be loaded with stated dependencies ... OK
* checking whether the package can be unloaded cleanly ... OK
* checking whether the namespace can be loaded with stated dependencies ... OK
* checking whether the namespace can be unloaded cleanly ... OK
* checking dependencies in R code ... OK
* checking S3 generic/method consistency ... OK
* checking replacement functions ... OK
* checking foreign function calls ... OK
* checking R code for possible problems ... OK
* checking Rd files ... OK
* checking Rd metadata ... OK
* checking Rd cross-references ... OK
* checking for missing documentation entries ... OK
* checking for code/documentation mismatches ... OK
* checking Rd \usage sections ... OK
* checking Rd contents ... OK
* checking for unstated dependencies in examples ... OK
* checking files in 'vignettes' ... OK
* checking examples ... OK
Examples with CPU or elapsed time > 5s
user system elapsed
extractFeatures 15.93 0.76 16.86
countObjects 7.03 0.46 8.45
segmentWells 5.33 0.27 5.59
getWellFeatures 3.06 0.01 5.17
* checking for unstated dependencies in vignettes ... OK
* checking package vignettes in 'inst/doc' ... OK
* checking running R code from vignettes ... SKIPPED
* checking re-building of vignette outputs ... SKIPPED
* checking PDF version of manual ... OK
* DONE
Status: 1 NOTE
See
'C:/Users/biocbuild/bbs-3.10-bioc/meat/imageHTS.Rcheck/00check.log'
for details.
imageHTS.Rcheck/00install.out
##############################################################################
##############################################################################
###
### Running command:
###
### C:\Users\biocbuild\bbs-3.10-bioc\R\bin\R.exe --arch i386 CMD INSTALL --no-multiarch imageHTS
###
##############################################################################
##############################################################################
* installing to library 'C:/Users/biocbuild/bbs-3.10-bioc/R/library'
* installing *source* package 'imageHTS' ...
** using staged installation
** R
** inst
** byte-compile and prepare package for lazy loading
** help
*** installing help indices
converting help for package 'imageHTS'
finding HTML links ... done
collectCellFeatures html
countObjects html
extractFeatures html
fileHTS html
getImageConf html
getUnames html
getWellFeatures html
finding level-2 HTML links ... done
highlightSegmentation html
imageHTS html
installCellPicker html
makeCellHTS html
parseDCF html
parseImageConf html
popCellPicker html
prw2uname html
readLearnTS html
segmentATH html
segmentWells html
segmentYeastBF html
summarizeWells html
zprime html
** building package indices
** installing vignettes
** testing if installed package can be loaded from temporary location
** testing if installed package can be loaded from final location
** testing if installed package keeps a record of temporary installation path
* DONE (imageHTS)
Making 'packages.html' ... done
imageHTS.Rcheck/imageHTS-Ex.timings
| name | user | system | elapsed | |
| collectCellFeatures | 0 | 0 | 0 | |
| countObjects | 7.03 | 0.46 | 8.45 | |
| extractFeatures | 15.93 | 0.76 | 16.86 | |
| fileHTS | 1.91 | 0.02 | 2.90 | |
| getImageConf | 1.14 | 0.00 | 1.14 | |
| getUnames | 2.97 | 0.00 | 2.97 | |
| getWellFeatures | 3.06 | 0.01 | 5.17 | |
| highlightSegmentation | 0 | 0 | 0 | |
| installCellPicker | 1.75 | 0.00 | 3.05 | |
| makeCellHTS | 0 | 0 | 0 | |
| parseDCF | 0 | 0 | 0 | |
| parseImageConf | 1.05 | 0.00 | 1.05 | |
| popCellPicker | 1.05 | 0.00 | 1.04 | |
| prw2uname | 0 | 0 | 0 | |
| readLearnTS | 0 | 0 | 0 | |
| segmentATH | 0 | 0 | 0 | |
| segmentWells | 5.33 | 0.27 | 5.59 | |
| segmentYeastBF | 2.95 | 0.75 | 3.83 | |
| summarizeWells | 0 | 0 | 0 | |
| zprime | 2.46 | 0.01 | 2.61 | |