| Back to Multiple platform build/check report for BioC 3.10 |
|
This page was generated on 2020-04-15 12:25:48 -0400 (Wed, 15 Apr 2020).
| Package 822/1823 | Hostname | OS / Arch | INSTALL | BUILD | CHECK | BUILD BIN | ||||||
| iCOBRA 1.14.0 Charlotte Soneson
| malbec1 | Linux (Ubuntu 18.04.4 LTS) / x86_64 | OK | OK | OK | |||||||
| tokay1 | Windows Server 2012 R2 Standard / x64 | OK | OK | OK | [ OK ] | |||||||
| merida1 | OS X 10.11.6 El Capitan / x86_64 | OK | OK | OK | OK |
| Package: iCOBRA |
| Version: 1.14.0 |
| Command: rm -rf iCOBRA.buildbin-libdir && mkdir iCOBRA.buildbin-libdir && C:\Users\biocbuild\bbs-3.10-bioc\R\bin\R.exe CMD INSTALL --merge-multiarch --build --library=iCOBRA.buildbin-libdir iCOBRA_1.14.0.tar.gz |
| StartedAt: 2020-04-15 08:57:48 -0400 (Wed, 15 Apr 2020) |
| EndedAt: 2020-04-15 08:58:35 -0400 (Wed, 15 Apr 2020) |
| EllapsedTime: 47.5 seconds |
| RetCode: 0 |
| Status: OK |
| PackageFile: iCOBRA_1.14.0.zip |
| PackageFileSize: 2.417 MiB |
##############################################################################
##############################################################################
###
### Running command:
###
### rm -rf iCOBRA.buildbin-libdir && mkdir iCOBRA.buildbin-libdir && C:\Users\biocbuild\bbs-3.10-bioc\R\bin\R.exe CMD INSTALL --merge-multiarch --build --library=iCOBRA.buildbin-libdir iCOBRA_1.14.0.tar.gz
###
##############################################################################
##############################################################################
install for i386
* installing *source* package 'iCOBRA' ...
** using staged installation
** R
** data
*** moving datasets to lazyload DB
** inst
** byte-compile and prepare package for lazy loading
** help
*** installing help indices
converting help for package 'iCOBRA'
finding HTML links ... done
COBRAData html
COBRAPerformance html
COBRAPlot html
COBRAapp html
Extract html
basemethods html
calculate_adjp html
calculate_performance html
cobradata_example html
cobradata_example_sval html
coerce html
corr html
deviation html
facetted html
fdrnbr html
fdrnbrcurve html
fdrtpr html
fdrtprcurve html
fpc html
fpr html
fsrnbr html
fsrnbrcurve html
maxsplit html
onlyshared html
overlap html
padj html
plot_corr html
plot_deviation html
plot_fdrnbrcurve html
plot_fdrtprcurve html
plot_fpc html
plot_fpr html
plot_fsrnbrcurve html
plot_overlap html
plot_roc html
plot_scatter html
plot_tpr html
plot_upset html
plotcolors html
prepare_data_for_plot html
pval html
reorder_levels html
roc html
scatter html
score html
splv html
stratiflevels html
sval html
tpr html
truth html
update_cobradata html
update_cobraperformance html
** building package indices
** installing vignettes
** testing if installed package can be loaded from temporary location
** testing if installed package can be loaded from final location
** testing if installed package keeps a record of temporary installation path
install for x64
* installing *source* package 'iCOBRA' ...
** testing if installed package can be loaded
* MD5 sums
packaged installation of 'iCOBRA' as iCOBRA_1.14.0.zip
* DONE (iCOBRA)