| Back to Multiple platform build/check report for BioC 3.10 |
|
This page was generated on 2020-04-15 12:20:30 -0400 (Wed, 15 Apr 2020).
| Package 765/1823 | Hostname | OS / Arch | INSTALL | BUILD | CHECK | BUILD BIN | ||||||
| gwascat 2.18.0 VJ Carey
| malbec1 | Linux (Ubuntu 18.04.4 LTS) / x86_64 | OK | OK | WARNINGS | |||||||
| tokay1 | Windows Server 2012 R2 Standard / x64 | OK | OK | WARNINGS | [ OK ] | |||||||
| merida1 | OS X 10.11.6 El Capitan / x86_64 | OK | OK | WARNINGS | OK |
| Package: gwascat |
| Version: 2.18.0 |
| Command: rm -rf gwascat.buildbin-libdir && mkdir gwascat.buildbin-libdir && C:\Users\biocbuild\bbs-3.10-bioc\R\bin\R.exe CMD INSTALL --merge-multiarch --build --library=gwascat.buildbin-libdir gwascat_2.18.0.tar.gz |
| StartedAt: 2020-04-15 08:54:50 -0400 (Wed, 15 Apr 2020) |
| EndedAt: 2020-04-15 08:55:47 -0400 (Wed, 15 Apr 2020) |
| EllapsedTime: 56.6 seconds |
| RetCode: 0 |
| Status: OK |
| PackageFile: gwascat_2.18.0.zip |
| PackageFileSize: 38.66 MiB |
##############################################################################
##############################################################################
###
### Running command:
###
### rm -rf gwascat.buildbin-libdir && mkdir gwascat.buildbin-libdir && C:\Users\biocbuild\bbs-3.10-bioc\R\bin\R.exe CMD INSTALL --merge-multiarch --build --library=gwascat.buildbin-libdir gwascat_2.18.0.tar.gz
###
##############################################################################
##############################################################################
install for i386
* installing *source* package 'gwascat' ...
** using staged installation
** R
** data
** inst
** byte-compile and prepare package for lazy loading
** help
*** installing help indices
converting help for package 'gwascat'
finding HTML links ... done
bindcadd_snv html
gwascat-package html
gwastagger html
gwaswloc-class html
finding level-2 HTML links ... done
gwcex2gviz html
gwdf_2012_02_02 html
ldtagr html
locon6 html
makeCurrentGwascat html
obo2graphNEL html
riskyAlleleCount html
topTraits html
traitsManh html
** building package indices
** installing vignettes
** testing if installed package can be loaded from temporary location
** testing if installed package can be loaded from final location
** testing if installed package keeps a record of temporary installation path
install for x64
* installing *source* package 'gwascat' ...
** testing if installed package can be loaded
* MD5 sums
packaged installation of 'gwascat' as gwascat_2.18.0.zip
* DONE (gwascat)