| Back to Multiple platform build/check report for BioC 3.10 |
|
This page was generated on 2020-04-15 12:31:11 -0400 (Wed, 15 Apr 2020).
| Package 732/1823 | Hostname | OS / Arch | INSTALL | BUILD | CHECK | BUILD BIN | ||||||
| gpart 1.4.0 Sun Ah Kim
| malbec1 | Linux (Ubuntu 18.04.4 LTS) / x86_64 | OK | OK | OK | |||||||
| tokay1 | Windows Server 2012 R2 Standard / x64 | OK | OK | OK | [ OK ] | |||||||
| merida1 | OS X 10.11.6 El Capitan / x86_64 | OK | OK | OK | OK |
| Package: gpart |
| Version: 1.4.0 |
| Command: rm -rf gpart.buildbin-libdir && mkdir gpart.buildbin-libdir && C:\Users\biocbuild\bbs-3.10-bioc\R\bin\R.exe CMD INSTALL --merge-multiarch --build --library=gpart.buildbin-libdir gpart_1.4.0.tar.gz |
| StartedAt: 2020-04-15 08:52:56 -0400 (Wed, 15 Apr 2020) |
| EndedAt: 2020-04-15 08:54:03 -0400 (Wed, 15 Apr 2020) |
| EllapsedTime: 67.0 seconds |
| RetCode: 0 |
| Status: OK |
| PackageFile: gpart_1.4.0.zip |
| PackageFileSize: 1.54 MiB |
##############################################################################
##############################################################################
###
### Running command:
###
### rm -rf gpart.buildbin-libdir && mkdir gpart.buildbin-libdir && C:\Users\biocbuild\bbs-3.10-bioc\R\bin\R.exe CMD INSTALL --merge-multiarch --build --library=gpart.buildbin-libdir gpart_1.4.0.tar.gz
###
##############################################################################
##############################################################################
install for i386
* installing *source* package 'gpart' ...
** using staged installation
** libs
C:/Rtools/mingw_32/bin/g++ -std=gnu++11 -I"C:/Users/BIOCBU~1/BBS-3~1.10-/R/include" -DNDEBUG -I"C:/Users/biocbuild/bbs-3.10-bioc/R/library/Rcpp/include" -I"C:/extsoft/include" -O2 -Wall -mtune=core2 -c RcppExports.cpp -o RcppExports.o
C:/Rtools/mingw_32/bin/g++ -std=gnu++11 -I"C:/Users/BIOCBU~1/BBS-3~1.10-/R/include" -DNDEBUG -I"C:/Users/biocbuild/bbs-3.10-bioc/R/library/Rcpp/include" -I"C:/extsoft/include" -O2 -Wall -mtune=core2 -c gpart_cpp.cpp -o gpart_cpp.o
C:/Rtools/mingw_32/bin/g++ -std=gnu++11 -shared -s -static-libgcc -o gpart.dll tmp.def RcppExports.o gpart_cpp.o -LC:/extsoft/lib/i386 -LC:/extsoft/lib -LC:/Users/BIOCBU~1/BBS-3~1.10-/R/bin/i386 -lR
installing to C:/Users/biocbuild/bbs-3.10-bioc/meat/gpart.buildbin-libdir/00LOCK-gpart/00new/gpart/libs/i386
** R
** data
*** moving datasets to lazyload DB
** inst
** byte-compile and prepare package for lazy loading
** help
*** installing help indices
converting help for package 'gpart'
finding HTML links ... done
BigLD html
CLQD html
GPART html
LDblockHeatmap html
SNPinfo html
convert2GRange html
geneinfo html
geno html
gpart-package html
** building package indices
** installing vignettes
** testing if installed package can be loaded from temporary location
** testing if installed package can be loaded from final location
** testing if installed package keeps a record of temporary installation path
install for x64
* installing *source* package 'gpart' ...
** libs
C:/Rtools/mingw_64/bin/g++ -std=gnu++11 -I"C:/Users/BIOCBU~1/BBS-3~1.10-/R/include" -DNDEBUG -I"C:/Users/biocbuild/bbs-3.10-bioc/R/library/Rcpp/include" -I"C:/extsoft/include" -O2 -Wall -mtune=core2 -c RcppExports.cpp -o RcppExports.o
C:/Rtools/mingw_64/bin/g++ -std=gnu++11 -I"C:/Users/BIOCBU~1/BBS-3~1.10-/R/include" -DNDEBUG -I"C:/Users/biocbuild/bbs-3.10-bioc/R/library/Rcpp/include" -I"C:/extsoft/include" -O2 -Wall -mtune=core2 -c gpart_cpp.cpp -o gpart_cpp.o
C:/Rtools/mingw_64/bin/g++ -std=gnu++11 -shared -s -static-libgcc -o gpart.dll tmp.def RcppExports.o gpart_cpp.o -LC:/extsoft/lib/x64 -LC:/extsoft/lib -LC:/Users/BIOCBU~1/BBS-3~1.10-/R/bin/x64 -lR
installing to C:/Users/biocbuild/bbs-3.10-bioc/meat/gpart.buildbin-libdir/gpart/libs/x64
** testing if installed package can be loaded
* MD5 sums
packaged installation of 'gpart' as gpart_1.4.0.zip
* DONE (gpart)