| Back to Multiple platform build/check report for BioC 3.10 |
|
This page was generated on 2020-04-15 12:06:03 -0400 (Wed, 15 Apr 2020).
| Package 623/1823 | Hostname | OS / Arch | INSTALL | BUILD | CHECK | BUILD BIN | ||||||
| gage 2.36.0 Weijun Luo
| malbec1 | Linux (Ubuntu 18.04.4 LTS) / x86_64 | OK | [ OK ] | WARNINGS | |||||||
| tokay1 | Windows Server 2012 R2 Standard / x64 | OK | OK | WARNINGS | OK | |||||||
| merida1 | OS X 10.11.6 El Capitan / x86_64 | OK | OK | WARNINGS | OK |
| Package: gage |
| Version: 2.36.0 |
| Command: /home/biocbuild/bbs-3.10-bioc/R/bin/R CMD build --keep-empty-dirs --no-resave-data gage |
| StartedAt: 2020-04-14 19:52:26 -0400 (Tue, 14 Apr 2020) |
| EndedAt: 2020-04-14 19:55:39 -0400 (Tue, 14 Apr 2020) |
| EllapsedTime: 192.9 seconds |
| RetCode: 0 |
| Status: OK |
| PackageFile: gage_2.36.0.tar.gz |
| PackageFileSize: 2.544 MiB |
############################################################################## ############################################################################## ### ### Running command: ### ### /home/biocbuild/bbs-3.10-bioc/R/bin/R CMD build --keep-empty-dirs --no-resave-data gage ### ############################################################################## ############################################################################## * checking for file ‘gage/DESCRIPTION’ ... OK * preparing ‘gage’: * checking DESCRIPTION meta-information ... OK * installing the package to build vignettes * creating vignettes ... OK * checking for LF line-endings in source and make files and shell scripts * checking for empty or unneeded directories * looking to see if a ‘data/datalist’ file should be added * building ‘gage_2.36.0.tar.gz’