| Back to Multiple platform build/check report for BioC 3.10 |
|
This page was generated on 2020-04-15 12:19:04 -0400 (Wed, 15 Apr 2020).
| Package 615/1823 | Hostname | OS / Arch | INSTALL | BUILD | CHECK | BUILD BIN | ||||||
| frma 1.38.0 Matthew N. McCall
| malbec1 | Linux (Ubuntu 18.04.4 LTS) / x86_64 | OK | OK | OK | |||||||
| tokay1 | Windows Server 2012 R2 Standard / x64 | OK | OK | OK | [ OK ] | |||||||
| merida1 | OS X 10.11.6 El Capitan / x86_64 | OK | OK | OK | OK |
| Package: frma |
| Version: 1.38.0 |
| Command: rm -rf frma.buildbin-libdir && mkdir frma.buildbin-libdir && C:\Users\biocbuild\bbs-3.10-bioc\R\bin\R.exe CMD INSTALL --merge-multiarch --build --library=frma.buildbin-libdir frma_1.38.0.tar.gz |
| StartedAt: 2020-04-15 08:45:11 -0400 (Wed, 15 Apr 2020) |
| EndedAt: 2020-04-15 08:45:55 -0400 (Wed, 15 Apr 2020) |
| EllapsedTime: 44.1 seconds |
| RetCode: 0 |
| Status: OK |
| PackageFile: frma_1.38.0.zip |
| PackageFileSize: 614.2 KiB |
##############################################################################
##############################################################################
###
### Running command:
###
### rm -rf frma.buildbin-libdir && mkdir frma.buildbin-libdir && C:\Users\biocbuild\bbs-3.10-bioc\R\bin\R.exe CMD INSTALL --merge-multiarch --build --library=frma.buildbin-libdir frma_1.38.0.tar.gz
###
##############################################################################
##############################################################################
install for i386
* installing *source* package 'frma' ...
** using staged installation
** R
** inst
** byte-compile and prepare package for lazy loading
No methods found in package 'RSQLite' for request: 'dbListFields' when loading 'oligo'
** help
*** installing help indices
converting help for package 'frma'
finding HTML links ... done
GNUSE html
barcode html
frma html
frmaExpressionSet-class html
** building package indices
** installing vignettes
** testing if installed package can be loaded from temporary location
No methods found in package 'RSQLite' for request: 'dbListFields' when loading 'oligo'
** testing if installed package can be loaded from final location
No methods found in package 'RSQLite' for request: 'dbListFields' when loading 'oligo'
** testing if installed package keeps a record of temporary installation path
install for x64
* installing *source* package 'frma' ...
** testing if installed package can be loaded
No methods found in package 'RSQLite' for request: 'dbListFields' when loading 'oligo'
* MD5 sums
packaged installation of 'frma' as frma_1.38.0.zip
* DONE (frma)