| Back to Multiple platform build/check report for BioC 3.10 |
|
This page was generated on 2020-04-15 12:24:55 -0400 (Wed, 15 Apr 2020).
| Package 608/1823 | Hostname | OS / Arch | INSTALL | BUILD | CHECK | BUILD BIN | ||||||
| flowVS 1.18.0 Ariful Azad
| malbec1 | Linux (Ubuntu 18.04.4 LTS) / x86_64 | OK | OK | OK | |||||||
| tokay1 | Windows Server 2012 R2 Standard / x64 | [ OK ] | OK | OK | OK | |||||||
| merida1 | OS X 10.11.6 El Capitan / x86_64 | OK | OK | OK | OK |
| Package: flowVS |
| Version: 1.18.0 |
| Command: C:\cygwin\bin\curl.exe -O https://malbec1.bioconductor.org/BBS/3.10/bioc/src/contrib/flowVS_1.18.0.tar.gz && rm -rf flowVS.buildbin-libdir && mkdir flowVS.buildbin-libdir && C:\Users\biocbuild\bbs-3.10-bioc\R\bin\R.exe CMD INSTALL --merge-multiarch --build --library=flowVS.buildbin-libdir flowVS_1.18.0.tar.gz && C:\Users\biocbuild\bbs-3.10-bioc\R\bin\R.exe CMD INSTALL flowVS_1.18.0.zip && rm flowVS_1.18.0.tar.gz flowVS_1.18.0.zip |
| StartedAt: 2020-04-14 19:45:41 -0400 (Tue, 14 Apr 2020) |
| EndedAt: 2020-04-14 19:46:26 -0400 (Tue, 14 Apr 2020) |
| EllapsedTime: 45.3 seconds |
| RetCode: 0 |
| Status: OK |
##############################################################################
##############################################################################
###
### Running command:
###
### C:\cygwin\bin\curl.exe -O https://malbec1.bioconductor.org/BBS/3.10/bioc/src/contrib/flowVS_1.18.0.tar.gz && rm -rf flowVS.buildbin-libdir && mkdir flowVS.buildbin-libdir && C:\Users\biocbuild\bbs-3.10-bioc\R\bin\R.exe CMD INSTALL --merge-multiarch --build --library=flowVS.buildbin-libdir flowVS_1.18.0.tar.gz && C:\Users\biocbuild\bbs-3.10-bioc\R\bin\R.exe CMD INSTALL flowVS_1.18.0.zip && rm flowVS_1.18.0.tar.gz flowVS_1.18.0.zip
###
##############################################################################
##############################################################################
% Total % Received % Xferd Average Speed Time Time Time Current
Dload Upload Total Spent Left Speed
0 0 0 0 0 0 0 0 --:--:-- --:--:-- --:--:-- 0
100 3440k 100 3440k 0 0 9.8M 0 --:--:-- --:--:-- --:--:-- 9.9M
install for i386
* installing *source* package 'flowVS' ...
** using staged installation
** R
** data
** byte-compile and prepare package for lazy loading
** help
*** installing help indices
converting help for package 'flowVS'
finding HTML links ... done
HD html
estParamFlowVS html
flowVS-package html
lymphs html
microVS html
plotMeanSd html
transFlowVS html
** building package indices
** installing vignettes
** testing if installed package can be loaded from temporary location
** testing if installed package can be loaded from final location
** testing if installed package keeps a record of temporary installation path
install for x64
* installing *source* package 'flowVS' ...
** testing if installed package can be loaded
* MD5 sums
packaged installation of 'flowVS' as flowVS_1.18.0.zip
* DONE (flowVS)
* installing to library 'C:/Users/biocbuild/bbs-3.10-bioc/R/library'
package 'flowVS' successfully unpacked and MD5 sums checked