| Back to Multiple platform build/check report for BioC 3.10 | 
  | 
This page was generated on 2020-04-15 12:32:25 -0400 (Wed, 15 Apr 2020).
| Package 524/1823 | Hostname | OS / Arch | INSTALL | BUILD | CHECK | BUILD BIN | ||||||
| enrichTF 1.2.3 Zheng Wei 
  | malbec1 | Linux (Ubuntu 18.04.4 LTS) / x86_64 | OK | OK | OK | |||||||
| tokay1 | Windows Server 2012 R2 Standard / x64 | [ OK ] | OK | OK | OK | |||||||
| merida1 | OS X 10.11.6 El Capitan / x86_64 | OK | OK | OK | OK | 
| Package: enrichTF | 
| Version: 1.2.3 | 
| Command: C:\cygwin\bin\curl.exe -O https://malbec1.bioconductor.org/BBS/3.10/bioc/src/contrib/enrichTF_1.2.3.tar.gz && rm -rf enrichTF.buildbin-libdir && mkdir enrichTF.buildbin-libdir && C:\Users\biocbuild\bbs-3.10-bioc\R\bin\R.exe CMD INSTALL --merge-multiarch --build --library=enrichTF.buildbin-libdir enrichTF_1.2.3.tar.gz && C:\Users\biocbuild\bbs-3.10-bioc\R\bin\R.exe CMD INSTALL enrichTF_1.2.3.zip && rm enrichTF_1.2.3.tar.gz enrichTF_1.2.3.zip | 
| StartedAt: 2020-04-14 20:25:11 -0400 (Tue, 14 Apr 2020) | 
| EndedAt: 2020-04-14 20:27:05 -0400 (Tue, 14 Apr 2020) | 
| EllapsedTime: 114.0 seconds | 
| RetCode: 0 | 
| Status: OK | 
##############################################################################
##############################################################################
###
### Running command:
###
###   C:\cygwin\bin\curl.exe -O https://malbec1.bioconductor.org/BBS/3.10/bioc/src/contrib/enrichTF_1.2.3.tar.gz && rm -rf enrichTF.buildbin-libdir && mkdir enrichTF.buildbin-libdir && C:\Users\biocbuild\bbs-3.10-bioc\R\bin\R.exe CMD INSTALL --merge-multiarch --build --library=enrichTF.buildbin-libdir enrichTF_1.2.3.tar.gz && C:\Users\biocbuild\bbs-3.10-bioc\R\bin\R.exe CMD INSTALL enrichTF_1.2.3.zip && rm enrichTF_1.2.3.tar.gz enrichTF_1.2.3.zip
###
##############################################################################
##############################################################################
  % Total    % Received % Xferd  Average Speed   Time    Time     Time  Current
                                 Dload  Upload   Total   Spent    Left  Speed
  0     0    0     0    0     0      0      0 --:--:-- --:--:-- --:--:--     0
 11 1003k   11  112k    0     0   287k      0  0:00:03 --:--:--  0:00:03  289k
100 1003k  100 1003k    0     0  1700k      0 --:--:-- --:--:-- --:--:-- 1709k
install for i386
* installing *source* package 'enrichTF' ...
** using staged installation
** R
** inst
** byte-compile and prepare package for lazy loading
No methods found in package 'IRanges' for request: 'score' when loading 'TFBSTools'
** help
*** installing help indices
  converting help for package 'enrichTF'
    finding HTML links ... done
    EnrichStep-class                        html  
    GenBackground                           html  
    finding level-2 HTML links ... done
    GeneOntology                            html  
    MotifsInRegions                         html  
    Pipelines                               html  
    RegionConnectTargetGene                 html  
    SingleSampleReport                      html  
    TFsEnrichInRegions                      html  
    TissueOpennessConserve                  html  
    TissueOpennessSpecificity               html  
    UnzipAndMergeBed                        html  
** building package indices
** installing vignettes
** testing if installed package can be loaded from temporary location
No methods found in package 'IRanges' for request: 'score' when loading 'TFBSTools'
** testing if installed package can be loaded from final location
No methods found in package 'IRanges' for request: 'score' when loading 'TFBSTools'
** testing if installed package keeps a record of temporary installation path
install for x64
* installing *source* package 'enrichTF' ...
** testing if installed package can be loaded
No methods found in package 'IRanges' for request: 'score' when loading 'TFBSTools'
* MD5 sums
packaged installation of 'enrichTF' as enrichTF_1.2.3.zip
* DONE (enrichTF)
* installing to library 'C:/Users/biocbuild/bbs-3.10-bioc/R/library'
package 'enrichTF' successfully unpacked and MD5 sums checked