| Back to Multiple platform build/check report for BioC 3.10 | 
  | 
This page was generated on 2020-04-15 12:35:51 -0400 (Wed, 15 Apr 2020).
| Package 494/1823 | Hostname | OS / Arch | INSTALL | BUILD | CHECK | BUILD BIN | ||||||
| dyebias 1.46.0 Philip Lijnzaad 
  | malbec1 | Linux (Ubuntu 18.04.4 LTS) / x86_64 | OK | OK | OK | |||||||
| tokay1 | Windows Server 2012 R2 Standard / x64 | OK | OK | OK | OK | |||||||
| merida1 | OS X 10.11.6 El Capitan / x86_64 | OK | OK | OK | [ OK ] | 
| Package: dyebias | 
| Version: 1.46.0 | 
| Command: rm -rf dyebias.buildbin-libdir && mkdir dyebias.buildbin-libdir && /Users/biocbuild/BBS/utils/build-universal.sh dyebias_1.46.0.tar.gz /Library/Frameworks/R.framework/Versions/Current/Resources/bin/R dyebias.buildbin-libdir | 
| StartedAt: 2020-04-15 07:21:28 -0400 (Wed, 15 Apr 2020) | 
| EndedAt: 2020-04-15 07:22:11 -0400 (Wed, 15 Apr 2020) | 
| EllapsedTime: 43.0 seconds | 
| RetCode: 0 | 
| Status: OK | 
| PackageFile: dyebias_1.46.0.tgz | 
| PackageFileSize: 646.4 KiB | 
############################################################################## ############################################################################## ### ### Running command: ### ### rm -rf dyebias.buildbin-libdir && mkdir dyebias.buildbin-libdir && /Users/biocbuild/BBS/utils/build-universal.sh dyebias_1.46.0.tar.gz /Library/Frameworks/R.framework/Versions/Current/Resources/bin/R dyebias.buildbin-libdir ### ############################################################################## ############################################################################## >>>>>>> >>>>>>> INSTALLATION WITH 'R CMD INSTALL --preclean --no-multiarch --library=dyebias.buildbin-libdir dyebias_1.46.0.tar.gz' >>>>>>> * installing *source* package ‘dyebias’ ... ** using staged installation ** R ** inst ** byte-compile and prepare package for lazy loading ** help *** installing help indices ** building package indices ** installing vignettes ** testing if installed package can be loaded from temporary location ** testing if installed package can be loaded from final location ** testing if installed package keeps a record of temporary installation path * DONE (dyebias)