| Back to Multiple platform build/check report for BioC 3.10 |
|
This page was generated on 2020-04-15 12:22:39 -0400 (Wed, 15 Apr 2020).
| Package 491/1823 | Hostname | OS / Arch | INSTALL | BUILD | CHECK | BUILD BIN | ||||||
| dualKS 1.46.0 Eric J. Kort
| malbec1 | Linux (Ubuntu 18.04.4 LTS) / x86_64 | OK | OK | OK | |||||||
| tokay1 | Windows Server 2012 R2 Standard / x64 | OK | OK | OK | [ OK ] | |||||||
| merida1 | OS X 10.11.6 El Capitan / x86_64 | OK | OK | OK | OK |
| Package: dualKS |
| Version: 1.46.0 |
| Command: rm -rf dualKS.buildbin-libdir && mkdir dualKS.buildbin-libdir && C:\Users\biocbuild\bbs-3.10-bioc\R\bin\R.exe CMD INSTALL --merge-multiarch --build --library=dualKS.buildbin-libdir dualKS_1.46.0.tar.gz |
| StartedAt: 2020-04-15 08:37:47 -0400 (Wed, 15 Apr 2020) |
| EndedAt: 2020-04-15 08:38:15 -0400 (Wed, 15 Apr 2020) |
| EllapsedTime: 27.6 seconds |
| RetCode: 0 |
| Status: OK |
| PackageFile: dualKS_1.46.0.zip |
| PackageFileSize: 509.4 KiB |
##############################################################################
##############################################################################
###
### Running command:
###
### rm -rf dualKS.buildbin-libdir && mkdir dualKS.buildbin-libdir && C:\Users\biocbuild\bbs-3.10-bioc\R\bin\R.exe CMD INSTALL --merge-multiarch --build --library=dualKS.buildbin-libdir dualKS_1.46.0.tar.gz
###
##############################################################################
##############################################################################
install for i386
* installing *source* package 'dualKS' ...
** using staged installation
** R
** data
** inst
** byte-compile and prepare package for lazy loading
** help
*** installing help indices
converting help for package 'dualKS'
finding HTML links ... done
KS html
class.DKSClassifier html
class.DKSGeneScores html
class.DKSGeneSet html
class.DKSPredicted html
dks html
dksClassify html
dksCustomClass html
dksPerm html
dksSelectGenes html
dksTrain html
dksWeights html
dualKS-package html
** building package indices
** installing vignettes
** testing if installed package can be loaded from temporary location
** testing if installed package can be loaded from final location
** testing if installed package keeps a record of temporary installation path
install for x64
* installing *source* package 'dualKS' ...
** testing if installed package can be loaded
* MD5 sums
packaged installation of 'dualKS' as dualKS_1.46.0.zip
* DONE (dualKS)