| Back to Multiple platform build/check report for BioC 3.10 |
|
This page was generated on 2020-04-15 12:31:48 -0400 (Wed, 15 Apr 2020).
| Package 465/1823 | Hostname | OS / Arch | INSTALL | BUILD | CHECK | BUILD BIN | ||||||
| divergence 1.2.0 Wikum Dinalankara
| malbec1 | Linux (Ubuntu 18.04.4 LTS) / x86_64 | OK | OK | OK | |||||||
| tokay1 | Windows Server 2012 R2 Standard / x64 | [ OK ] | OK | OK | OK | |||||||
| merida1 | OS X 10.11.6 El Capitan / x86_64 | OK | OK | OK | OK |
| Package: divergence |
| Version: 1.2.0 |
| Command: C:\cygwin\bin\curl.exe -O https://malbec1.bioconductor.org/BBS/3.10/bioc/src/contrib/divergence_1.2.0.tar.gz && rm -rf divergence.buildbin-libdir && mkdir divergence.buildbin-libdir && C:\Users\biocbuild\bbs-3.10-bioc\R\bin\R.exe CMD INSTALL --merge-multiarch --build --library=divergence.buildbin-libdir divergence_1.2.0.tar.gz && C:\Users\biocbuild\bbs-3.10-bioc\R\bin\R.exe CMD INSTALL divergence_1.2.0.zip && rm divergence_1.2.0.tar.gz divergence_1.2.0.zip |
| StartedAt: 2020-04-14 19:36:22 -0400 (Tue, 14 Apr 2020) |
| EndedAt: 2020-04-14 19:36:58 -0400 (Tue, 14 Apr 2020) |
| EllapsedTime: 35.8 seconds |
| RetCode: 0 |
| Status: OK |
##############################################################################
##############################################################################
###
### Running command:
###
### C:\cygwin\bin\curl.exe -O https://malbec1.bioconductor.org/BBS/3.10/bioc/src/contrib/divergence_1.2.0.tar.gz && rm -rf divergence.buildbin-libdir && mkdir divergence.buildbin-libdir && C:\Users\biocbuild\bbs-3.10-bioc\R\bin\R.exe CMD INSTALL --merge-multiarch --build --library=divergence.buildbin-libdir divergence_1.2.0.tar.gz && C:\Users\biocbuild\bbs-3.10-bioc\R\bin\R.exe CMD INSTALL divergence_1.2.0.zip && rm divergence_1.2.0.tar.gz divergence_1.2.0.zip
###
##############################################################################
##############################################################################
% Total % Received % Xferd Average Speed Time Time Time Current
Dload Upload Total Spent Left Speed
0 0 0 0 0 0 0 0 --:--:-- --:--:-- --:--:-- 0
100 1919k 100 1919k 0 0 45.9M 0 --:--:-- --:--:-- --:--:-- 50.6M
install for i386
* installing *source* package 'divergence' ...
** using staged installation
** R
** data
*** moving datasets to lazyload DB
** byte-compile and prepare package for lazy loading
** help
*** installing help indices
converting help for package 'divergence'
finding HTML links ... done
breastTCGA_ER html
breastTCGA_Group html
breastTCGA_Mat html
computeChiSquaredTest html
computeMultivariateBinaryMatrix html
computeMultivariateDigitization html
computeMultivariateSupport html
computeQuantileMatrix html
computeUnivariateDigitization html
computeUnivariateSupport html
computeUnivariateTernaryMatrix html
findMultivariateGammaWithSupport html
findUnivariateGammaWithSupport html
msigdb_Hallmarks html
** building package indices
** installing vignettes
** testing if installed package can be loaded from temporary location
** testing if installed package can be loaded from final location
** testing if installed package keeps a record of temporary installation path
install for x64
* installing *source* package 'divergence' ...
** testing if installed package can be loaded
* MD5 sums
packaged installation of 'divergence' as divergence_1.2.0.zip
* DONE (divergence)
* installing to library 'C:/Users/biocbuild/bbs-3.10-bioc/R/library'
package 'divergence' successfully unpacked and MD5 sums checked