| Back to Multiple platform build/check report for BioC 3.10 |
|
This page was generated on 2020-04-15 12:31:24 -0400 (Wed, 15 Apr 2020).
| Package 353/1823 | Hostname | OS / Arch | INSTALL | BUILD | CHECK | BUILD BIN | ||||||
| consensusDE 1.4.0 Ashley J. Waardenberg
| malbec1 | Linux (Ubuntu 18.04.4 LTS) / x86_64 | OK | OK | OK | |||||||
| tokay1 | Windows Server 2012 R2 Standard / x64 | OK | OK | OK | [ OK ] | |||||||
| merida1 | OS X 10.11.6 El Capitan / x86_64 | OK | OK | OK | OK |
| Package: consensusDE |
| Version: 1.4.0 |
| Command: rm -rf consensusDE.buildbin-libdir && mkdir consensusDE.buildbin-libdir && C:\Users\biocbuild\bbs-3.10-bioc\R\bin\R.exe CMD INSTALL --merge-multiarch --build --library=consensusDE.buildbin-libdir consensusDE_1.4.0.tar.gz |
| StartedAt: 2020-04-15 08:28:43 -0400 (Wed, 15 Apr 2020) |
| EndedAt: 2020-04-15 08:29:47 -0400 (Wed, 15 Apr 2020) |
| EllapsedTime: 63.6 seconds |
| RetCode: 0 |
| Status: OK |
| PackageFile: consensusDE_1.4.0.zip |
| PackageFileSize: 516.8 KiB |
##############################################################################
##############################################################################
###
### Running command:
###
### rm -rf consensusDE.buildbin-libdir && mkdir consensusDE.buildbin-libdir && C:\Users\biocbuild\bbs-3.10-bioc\R\bin\R.exe CMD INSTALL --merge-multiarch --build --library=consensusDE.buildbin-libdir consensusDE_1.4.0.tar.gz
###
##############################################################################
##############################################################################
install for i386
* installing *source* package 'consensusDE' ...
** using staged installation
** R
** inst
** byte-compile and prepare package for lazy loading
** help
*** installing help indices
converting help for package 'consensusDE'
finding HTML links ... done
buildSummarized html
diag_plots html
multi_de_pairs html
** building package indices
** installing vignettes
** testing if installed package can be loaded from temporary location
** testing if installed package can be loaded from final location
** testing if installed package keeps a record of temporary installation path
install for x64
* installing *source* package 'consensusDE' ...
** testing if installed package can be loaded
* MD5 sums
packaged installation of 'consensusDE' as consensusDE_1.4.0.zip
* DONE (consensusDE)