| Back to Multiple platform build/check report for BioC 3.10 |
|
This page was generated on 2020-04-15 12:48:37 -0400 (Wed, 15 Apr 2020).
| Package 341/1823 | Hostname | OS / Arch | INSTALL | BUILD | CHECK | BUILD BIN | ||||||
| cola 1.2.1 Zuguang Gu
| malbec1 | Linux (Ubuntu 18.04.4 LTS) / x86_64 | OK | OK | OK | |||||||
| tokay1 | Windows Server 2012 R2 Standard / x64 | OK | OK | OK | OK | |||||||
| merida1 | OS X 10.11.6 El Capitan / x86_64 | OK | OK | [ OK ] | OK |
| Package: cola |
| Version: 1.2.1 |
| Command: /Library/Frameworks/R.framework/Versions/Current/Resources/bin/R CMD check --install=check:cola.install-out.txt --library=/Library/Frameworks/R.framework/Versions/Current/Resources/library --no-vignettes --timings cola_1.2.1.tar.gz |
| StartedAt: 2020-04-15 01:23:03 -0400 (Wed, 15 Apr 2020) |
| EndedAt: 2020-04-15 01:25:31 -0400 (Wed, 15 Apr 2020) |
| EllapsedTime: 148.2 seconds |
| RetCode: 0 |
| Status: OK |
| CheckDir: cola.Rcheck |
| Warnings: 0 |
##############################################################################
##############################################################################
###
### Running command:
###
### /Library/Frameworks/R.framework/Versions/Current/Resources/bin/R CMD check --install=check:cola.install-out.txt --library=/Library/Frameworks/R.framework/Versions/Current/Resources/library --no-vignettes --timings cola_1.2.1.tar.gz
###
##############################################################################
##############################################################################
* using log directory ‘/Users/biocbuild/bbs-3.10-bioc/meat/cola.Rcheck’
* using R version 3.6.3 (2020-02-29)
* using platform: x86_64-apple-darwin15.6.0 (64-bit)
* using session charset: UTF-8
* using option ‘--no-vignettes’
* checking for file ‘cola/DESCRIPTION’ ... OK
* checking extension type ... Package
* this is package ‘cola’ version ‘1.2.1’
* checking package namespace information ... OK
* checking package dependencies ... OK
* checking if this is a source package ... OK
* checking if there is a namespace ... OK
* checking for hidden files and directories ... OK
* checking for portable file names ... OK
* checking for sufficient/correct file permissions ... OK
* checking whether package ‘cola’ can be installed ... OK
* checking installed package size ... OK
* checking package directory ... OK
* checking ‘build’ directory ... OK
* checking DESCRIPTION meta-information ... OK
* checking top-level files ... OK
* checking for left-over files ... OK
* checking index information ... OK
* checking package subdirectories ... OK
* checking R files for non-ASCII characters ... OK
* checking R files for syntax errors ... OK
* checking whether the package can be loaded ... OK
* checking whether the package can be loaded with stated dependencies ... OK
* checking whether the package can be unloaded cleanly ... OK
* checking whether the namespace can be loaded with stated dependencies ... OK
* checking whether the namespace can be unloaded cleanly ... OK
* checking dependencies in R code ... OK
* checking S3 generic/method consistency ... OK
* checking replacement functions ... OK
* checking foreign function calls ... OK
* checking R code for possible problems ... OK
* checking Rd files ... OK
* checking Rd metadata ... OK
* checking Rd cross-references ... OK
* checking for missing documentation entries ... OK
* checking for code/documentation mismatches ... OK
* checking Rd \usage sections ... OK
* checking Rd contents ... OK
* checking for unstated dependencies in examples ... OK
* checking contents of ‘data’ directory ... OK
* checking data for non-ASCII characters ... OK
* checking data for ASCII and uncompressed saves ... OK
* checking line endings in C/C++/Fortran sources/headers ... OK
* checking compiled code ... NOTE
Note: information on .o files is not available
* checking files in ‘vignettes’ ... OK
* checking examples ... OK
Examples with CPU or elapsed time > 5s
user system elapsed
consensus_partition 35.860 0.164 36.298
collect_plots-ConsensusPartitionList-method 13.677 0.511 14.154
* checking for unstated dependencies in ‘tests’ ... OK
* checking tests ...
Running ‘test-all.R’
OK
* checking for unstated dependencies in vignettes ... OK
* checking package vignettes in ‘inst/doc’ ... OK
* checking running R code from vignettes ... SKIPPED
* checking re-building of vignette outputs ... SKIPPED
* checking PDF version of manual ... OK
* DONE
Status: 1 NOTE
See
‘/Users/biocbuild/bbs-3.10-bioc/meat/cola.Rcheck/00check.log’
for details.
cola.Rcheck/00install.out
############################################################################## ############################################################################## ### ### Running command: ### ### /Library/Frameworks/R.framework/Versions/Current/Resources/bin/R CMD INSTALL cola ### ############################################################################## ############################################################################## * installing to library ‘/Library/Frameworks/R.framework/Versions/3.6/Resources/library’ * installing *source* package ‘cola’ ... ** using staged installation ** libs clang++ -std=gnu++11 -I"/Library/Frameworks/R.framework/Resources/include" -DNDEBUG -I"/Library/Frameworks/R.framework/Versions/3.6/Resources/library/Rcpp/include" -isysroot /Library/Developer/CommandLineTools/SDKs/MacOSX.sdk -I/usr/local/include -fPIC -Wall -g -O2 -c RcppExports.cpp -o RcppExports.o clang++ -std=gnu++11 -I"/Library/Frameworks/R.framework/Resources/include" -DNDEBUG -I"/Library/Frameworks/R.framework/Versions/3.6/Resources/library/Rcpp/include" -isysroot /Library/Developer/CommandLineTools/SDKs/MacOSX.sdk -I/usr/local/include -fPIC -Wall -g -O2 -c cal_consensus_mat.cpp -o cal_consensus_mat.o clang++ -std=gnu++11 -I"/Library/Frameworks/R.framework/Resources/include" -DNDEBUG -I"/Library/Frameworks/R.framework/Versions/3.6/Resources/library/Rcpp/include" -isysroot /Library/Developer/CommandLineTools/SDKs/MacOSX.sdk -I/usr/local/include -fPIC -Wall -g -O2 -c pdist.cpp -o pdist.o clang++ -std=gnu++11 -dynamiclib -Wl,-headerpad_max_install_names -undefined dynamic_lookup -single_module -multiply_defined suppress -L/Library/Frameworks/R.framework/Resources/lib -L/usr/local/lib -o cola.so RcppExports.o cal_consensus_mat.o pdist.o -F/Library/Frameworks/R.framework/.. -framework R -Wl,-framework -Wl,CoreFoundation installing to /Library/Frameworks/R.framework/Versions/3.6/Resources/library/00LOCK-cola/00new/cola/libs ** R ** data ** inst ** byte-compile and prepare package for lazy loading ** help *** installing help indices ** building package indices ** installing vignettes ** testing if installed package can be loaded from temporary location ** checking absolute paths in shared objects and dynamic libraries ** testing if installed package can be loaded from final location ** testing if installed package keeps a record of temporary installation path * DONE (cola)
cola.Rcheck/tests/test-all.Rout
R version 3.6.3 (2020-02-29) -- "Holding the Windsock"
Copyright (C) 2020 The R Foundation for Statistical Computing
Platform: x86_64-apple-darwin15.6.0 (64-bit)
R is free software and comes with ABSOLUTELY NO WARRANTY.
You are welcome to redistribute it under certain conditions.
Type 'license()' or 'licence()' for distribution details.
R is a collaborative project with many contributors.
Type 'contributors()' for more information and
'citation()' on how to cite R or R packages in publications.
Type 'demo()' for some demos, 'help()' for on-line help, or
'help.start()' for an HTML browser interface to help.
Type 'q()' to quit R.
> library(testthat)
> suppressWarnings(suppressPackageStartupMessages(library(cola)))
>
> test_check("cola")
══ testthat results ═══════════════════════════════════════════════════════════
[ OK: 11 | SKIPPED: 0 | WARNINGS: 0 | FAILED: 0 ]
>
>
> proc.time()
user system elapsed
2.624 0.175 2.788
cola.Rcheck/cola-Ex.timings
| name | user | system | elapsed | |
| ATC | 0.170 | 0.025 | 0.195 | |
| ConsensusPartition-class | 0 | 0 | 0 | |
| ConsensusPartitionList-class | 0 | 0 | 0 | |
| Extract.ConsensusPartitionList | 0.517 | 0.025 | 0.546 | |
| ExtractExtract.ConsensusPartitionList | 0.119 | 0.010 | 0.130 | |
| FCC | 0.178 | 0.017 | 0.195 | |
| PAC | 0.155 | 0.012 | 0.167 | |
| aPAC | 0.143 | 0.015 | 0.159 | |
| adjust_matrix | 0.004 | 0.000 | 0.004 | |
| adjust_outlier | 0.000 | 0.000 | 0.001 | |
| all_partition_methods | 0.001 | 0.001 | 0.001 | |
| all_top_value_methods | 0.001 | 0.000 | 0.000 | |
| cola | 0.043 | 0.002 | 0.046 | |
| cola_opt | 0.036 | 0.004 | 0.040 | |
| cola_report-ConsensusPartition-method | 0 | 0 | 0 | |
| cola_report-ConsensusPartitionList-method | 0 | 0 | 0 | |
| cola_report-dispatch | 0.000 | 0.000 | 0.001 | |
| cola_rl | 0.168 | 0.013 | 0.185 | |
| collect_classes-ConsensusPartition-method | 2.236 | 0.030 | 2.286 | |
| collect_classes-ConsensusPartitionList-method | 4.013 | 0.028 | 4.067 | |
| collect_classes-dispatch | 0 | 0 | 0 | |
| collect_plots-ConsensusPartition-method | 0.000 | 0.000 | 0.001 | |
| collect_plots-ConsensusPartitionList-method | 13.677 | 0.511 | 14.154 | |
| collect_plots-dispatch | 0.001 | 0.000 | 0.000 | |
| collect_stats-ConsensusPartition-method | 0.001 | 0.000 | 0.001 | |
| collect_stats-ConsensusPartitionList-method | 1.082 | 0.045 | 1.132 | |
| collect_stats-dispatch | 0.000 | 0.000 | 0.001 | |
| colnames-ConsensusPartition-method | 0.000 | 0.000 | 0.001 | |
| colnames-ConsensusPartitionList-method | 0.000 | 0.000 | 0.001 | |
| colnames-dispatch | 0.000 | 0.001 | 0.000 | |
| compare_signatures-ConsensusPartition-method | 0 | 0 | 0 | |
| concordance | 0.124 | 0.015 | 0.138 | |
| consensus_heatmap-ConsensusPartition-method | 0.568 | 0.014 | 0.584 | |
| consensus_partition | 35.860 | 0.164 | 36.298 | |
| correspond_between_rankings | 0.100 | 0.002 | 0.104 | |
| correspond_between_two_rankings | 0.042 | 0.002 | 0.044 | |
| dim.ConsensusPartition | 0.000 | 0.000 | 0.001 | |
| dim.ConsensusPartitionList | 0 | 0 | 0 | |
| dimension_reduction-ConsensusPartition-method | 1.958 | 0.123 | 2.096 | |
| dimension_reduction-dispatch | 0.000 | 0.000 | 0.001 | |
| dimension_reduction-matrix-method | 0 | 0 | 0 | |
| find_best_km | 0.001 | 0.000 | 0.000 | |
| functional_enrichment-ANY-method | 0 | 0 | 0 | |
| functional_enrichment-ConsensusPartition-method | 0.000 | 0.001 | 0.000 | |
| functional_enrichment-ConsensusPartitionList-method | 0 | 0 | 0 | |
| functional_enrichment-dispatch | 0 | 0 | 0 | |
| get_anno-ConsensusPartition-method | 0 | 0 | 0 | |
| get_anno-ConsensusPartitionList-method | 0.001 | 0.000 | 0.000 | |
| get_anno-dispatch | 0 | 0 | 0 | |
| get_anno_col-ConsensusPartition-method | 0 | 0 | 0 | |
| get_anno_col-ConsensusPartitionList-method | 0.000 | 0.001 | 0.001 | |
| get_anno_col-dispatch | 0.000 | 0.000 | 0.001 | |
| get_classes-ConsensusPartition-method | 0.161 | 0.021 | 0.183 | |
| get_classes-ConsensusPartitionList-method | 0.146 | 0.014 | 0.163 | |
| get_classes-dispatch | 0 | 0 | 0 | |
| get_consensus-ConsensusPartition-method | 0.164 | 0.026 | 0.192 | |
| get_matrix-ConsensusPartition-method | 0.154 | 0.029 | 0.182 | |
| get_matrix-ConsensusPartitionList-method | 0.151 | 0.024 | 0.177 | |
| get_matrix-dispatch | 0 | 0 | 0 | |
| get_membership-ConsensusPartition-method | 0.174 | 0.046 | 0.221 | |
| get_membership-ConsensusPartitionList-method | 0.146 | 0.019 | 0.165 | |
| get_membership-dispatch | 0 | 0 | 0 | |
| get_param-ConsensusPartition-method | 0.190 | 0.029 | 0.219 | |
| get_signatures-ConsensusPartition-method | 0.000 | 0.001 | 0.000 | |
| get_stats-ConsensusPartition-method | 0.126 | 0.009 | 0.137 | |
| get_stats-ConsensusPartitionList-method | 0.144 | 0.011 | 0.157 | |
| get_stats-dispatch | 0.000 | 0.000 | 0.001 | |
| is_best_k-ConsensusPartition-method | 0.001 | 0.000 | 0.000 | |
| is_best_k-ConsensusPartitionList-method | 0 | 0 | 0 | |
| is_best_k-dispatch | 0.000 | 0.000 | 0.001 | |
| is_stable_k-ConsensusPartition-method | 0 | 0 | 0 | |
| is_stable_k-ConsensusPartitionList-method | 0.001 | 0.001 | 0.000 | |
| is_stable_k-dispatch | 0 | 0 | 0 | |
| knitr_add_tab_item | 0 | 0 | 0 | |
| knitr_insert_tabs | 0.000 | 0.001 | 0.001 | |
| map_to_entrez_id | 0 | 0 | 0 | |
| membership_heatmap-ConsensusPartition-method | 0.731 | 0.014 | 0.749 | |
| ncol-ConsensusPartition-method | 0.000 | 0.001 | 0.001 | |
| ncol-ConsensusPartitionList-method | 0.001 | 0.000 | 0.000 | |
| ncol-dispatch | 0.001 | 0.000 | 0.001 | |
| nrow-ConsensusPartition-method | 0 | 0 | 0 | |
| nrow-ConsensusPartitionList-method | 0.000 | 0.000 | 0.001 | |
| nrow-dispatch | 0 | 0 | 0 | |
| plot_ecdf-ConsensusPartition-method | 0.164 | 0.010 | 0.175 | |
| recalc_stats | 0 | 0 | 0 | |
| register_NMF | 0.000 | 0.000 | 0.001 | |
| register_SOM | 0 | 0 | 0 | |
| register_partition_methods | 0.244 | 0.002 | 0.246 | |
| register_top_value_methods | 0.03 | 0.00 | 0.03 | |
| relabel_class | 0.014 | 0.002 | 0.015 | |
| remove_partition_methods | 0 | 0 | 0 | |
| remove_top_value_methods | 0.000 | 0.000 | 0.001 | |
| rownames-ConsensusPartition-method | 0.000 | 0.001 | 0.000 | |
| rownames-ConsensusPartitionList-method | 0.000 | 0.000 | 0.001 | |
| rownames-dispatch | 0 | 0 | 0 | |
| run_all_consensus_partition_methods | 0.176 | 0.010 | 0.186 | |
| select_partition_number-ConsensusPartition-method | 0.159 | 0.009 | 0.169 | |
| show-ConsensusPartition-method | 0 | 0 | 0 | |
| show-ConsensusPartitionList-method | 0.001 | 0.000 | 0.000 | |
| show-dispatch | 0.000 | 0.000 | 0.001 | |
| submit_to_david | 0.000 | 0.001 | 0.000 | |
| suggest_best_k-ConsensusPartition-method | 0.148 | 0.013 | 0.162 | |
| suggest_best_k-ConsensusPartitionList-method | 0.156 | 0.010 | 0.167 | |
| suggest_best_k-dispatch | 0 | 0 | 0 | |
| test_between_factors | 0.018 | 0.001 | 0.018 | |
| test_to_known_factors-ConsensusPartition-method | 0.193 | 0.011 | 0.205 | |
| test_to_known_factors-ConsensusPartitionList-method | 0.373 | 0.010 | 0.384 | |
| test_to_known_factors-dispatch | 0 | 0 | 0 | |
| top_elements_overlap | 0.095 | 0.006 | 0.102 | |
| top_rows_heatmap-ConsensusPartitionList-method | 0.000 | 0.000 | 0.001 | |
| top_rows_heatmap-dispatch | 0.001 | 0.000 | 0.000 | |
| top_rows_heatmap-matrix-method | 3.116 | 0.268 | 3.330 | |
| top_rows_overlap-ConsensusPartitionList-method | 0.319 | 0.018 | 0.339 | |
| top_rows_overlap-dispatch | 0 | 0 | 0 | |
| top_rows_overlap-matrix-method | 0.357 | 0.006 | 0.366 | |