| Back to Multiple platform build/check report for BioC 3.10 |
|
This page was generated on 2020-04-15 12:37:26 -0400 (Wed, 15 Apr 2020).
| Package 316/1823 | Hostname | OS / Arch | INSTALL | BUILD | CHECK | BUILD BIN | ||||||
| cn.mops 1.32.0 Guenter Klambauer
| malbec1 | Linux (Ubuntu 18.04.4 LTS) / x86_64 | OK | OK | OK | |||||||
| tokay1 | Windows Server 2012 R2 Standard / x64 | OK | OK | OK | OK | |||||||
| merida1 | OS X 10.11.6 El Capitan / x86_64 | OK | OK | [ OK ] | OK |
| Package: cn.mops |
| Version: 1.32.0 |
| Command: /Library/Frameworks/R.framework/Versions/Current/Resources/bin/R CMD check --install=check:cn.mops.install-out.txt --library=/Library/Frameworks/R.framework/Versions/Current/Resources/library --no-vignettes --timings cn.mops_1.32.0.tar.gz |
| StartedAt: 2020-04-15 01:18:40 -0400 (Wed, 15 Apr 2020) |
| EndedAt: 2020-04-15 01:23:06 -0400 (Wed, 15 Apr 2020) |
| EllapsedTime: 265.4 seconds |
| RetCode: 0 |
| Status: OK |
| CheckDir: cn.mops.Rcheck |
| Warnings: 0 |
##############################################################################
##############################################################################
###
### Running command:
###
### /Library/Frameworks/R.framework/Versions/Current/Resources/bin/R CMD check --install=check:cn.mops.install-out.txt --library=/Library/Frameworks/R.framework/Versions/Current/Resources/library --no-vignettes --timings cn.mops_1.32.0.tar.gz
###
##############################################################################
##############################################################################
* using log directory ‘/Users/biocbuild/bbs-3.10-bioc/meat/cn.mops.Rcheck’
* using R version 3.6.3 (2020-02-29)
* using platform: x86_64-apple-darwin15.6.0 (64-bit)
* using session charset: UTF-8
* using option ‘--no-vignettes’
* checking for file ‘cn.mops/DESCRIPTION’ ... OK
* checking extension type ... Package
* this is package ‘cn.mops’ version ‘1.32.0’
* checking package namespace information ... OK
* checking package dependencies ... OK
* checking if this is a source package ... OK
* checking if there is a namespace ... OK
* checking for hidden files and directories ... OK
* checking for portable file names ... OK
* checking for sufficient/correct file permissions ... OK
* checking whether package ‘cn.mops’ can be installed ... OK
* checking installed package size ... OK
* checking package directory ... OK
* checking ‘build’ directory ... OK
* checking DESCRIPTION meta-information ... OK
* checking top-level files ... OK
* checking for left-over files ... OK
* checking index information ... OK
* checking package subdirectories ... OK
* checking R files for non-ASCII characters ... OK
* checking R files for syntax errors ... OK
* checking whether the package can be loaded ... OK
* checking whether the package can be loaded with stated dependencies ... OK
* checking whether the package can be unloaded cleanly ... OK
* checking whether the namespace can be loaded with stated dependencies ... OK
* checking whether the namespace can be unloaded cleanly ... OK
* checking dependencies in R code ... OK
* checking S3 generic/method consistency ... OK
* checking replacement functions ... OK
* checking foreign function calls ... OK
* checking R code for possible problems ... OK
* checking Rd files ... OK
* checking Rd metadata ... OK
* checking Rd cross-references ... OK
* checking for missing documentation entries ... OK
* checking for code/documentation mismatches ... OK
* checking Rd \usage sections ... OK
* checking Rd contents ... OK
* checking for unstated dependencies in examples ... OK
* checking contents of ‘data’ directory ... OK
* checking data for non-ASCII characters ... OK
* checking data for ASCII and uncompressed saves ... OK
* checking line endings in C/C++/Fortran sources/headers ... OK
* checking compiled code ... NOTE
Note: information on .o files is not available
* checking sizes of PDF files under ‘inst/doc’ ... OK
* checking files in ‘vignettes’ ... OK
* checking examples ... OK
Examples with CPU or elapsed time > 5s
user system elapsed
referencecn.mops 13.319 0.053 26.465
calcFractionalCopyNumbers 10.268 0.039 10.416
calcFractionalCopyNumbers-CNVDetectionResult-method 10.166 0.072 10.313
cn.mops 9.503 0.173 27.608
haplocn.mops 1.810 0.030 15.747
getReadCountsFromBAM 0.691 0.014 7.305
getSegmentReadCountsFromBAM 0.419 0.008 7.235
* checking for unstated dependencies in vignettes ... OK
* checking package vignettes in ‘inst/doc’ ... OK
* checking running R code from vignettes ... SKIPPED
* checking re-building of vignette outputs ... SKIPPED
* checking PDF version of manual ... OK
* DONE
Status: 1 NOTE
See
‘/Users/biocbuild/bbs-3.10-bioc/meat/cn.mops.Rcheck/00check.log’
for details.
cn.mops.Rcheck/00install.out
##############################################################################
##############################################################################
###
### Running command:
###
### /Library/Frameworks/R.framework/Versions/Current/Resources/bin/R CMD INSTALL cn.mops
###
##############################################################################
##############################################################################
* installing to library ‘/Library/Frameworks/R.framework/Versions/3.6/Resources/library’
* installing *source* package ‘cn.mops’ ...
** using staged installation
** libs
clang -I"/Library/Frameworks/R.framework/Resources/include" -DNDEBUG -isysroot /Library/Developer/CommandLineTools/SDKs/MacOSX.sdk -I/usr/local/include -fPIC -Wall -g -O2 -c R_init_cnmops.c -o R_init_cnmops.o
clang++ -std=gnu++11 -I"/Library/Frameworks/R.framework/Resources/include" -DNDEBUG -isysroot /Library/Developer/CommandLineTools/SDKs/MacOSX.sdk -I/usr/local/include -fPIC -Wall -g -O2 -c cnmops.cpp -o cnmops.o
clang++ -std=gnu++11 -I"/Library/Frameworks/R.framework/Resources/include" -DNDEBUG -isysroot /Library/Developer/CommandLineTools/SDKs/MacOSX.sdk -I/usr/local/include -fPIC -Wall -g -O2 -c segment.cpp -o segment.o
segment.cpp:64:9: warning: unused variable 'Rf_beta' [-Wunused-variable]
double beta,nn;
^
/Library/Frameworks/R.framework/Resources/include/Rmath.h:212:15: note: expanded from macro 'beta'
#define beta Rf_beta
^
1 warning generated.
clang++ -std=gnu++11 -dynamiclib -Wl,-headerpad_max_install_names -undefined dynamic_lookup -single_module -multiply_defined suppress -L/Library/Frameworks/R.framework/Resources/lib -L/usr/local/lib -o cn.mops.so R_init_cnmops.o cnmops.o segment.o -F/Library/Frameworks/R.framework/.. -framework R -Wl,-framework -Wl,CoreFoundation
installing to /Library/Frameworks/R.framework/Versions/3.6/Resources/library/00LOCK-cn.mops/00new/cn.mops/libs
** R
** data
** inst
** byte-compile and prepare package for lazy loading
** help
*** installing help indices
** building package indices
** installing vignettes
** testing if installed package can be loaded from temporary location
** checking absolute paths in shared objects and dynamic libraries
** testing if installed package can be loaded from final location
** testing if installed package keeps a record of temporary installation path
* DONE (cn.mops)
cn.mops.Rcheck/cn.mops-Ex.timings
| name | user | system | elapsed | |
| CNVDetectionResult | 0.002 | 0.000 | 0.002 | |
| calcFractionalCopyNumbers-CNVDetectionResult-method | 10.166 | 0.072 | 10.313 | |
| calcFractionalCopyNumbers | 10.268 | 0.039 | 10.416 | |
| calcIntegerCopyNumbers-CNVDetectionResult-method | 0.659 | 0.008 | 0.676 | |
| calcIntegerCopyNumbers | 0.613 | 0.007 | 0.634 | |
| cn.mops | 9.503 | 0.173 | 27.608 | |
| cnvr-CNVDetectionResult-method | 0.317 | 0.013 | 0.331 | |
| cnvr | 0.353 | 0.032 | 0.386 | |
| cnvs-CNVDetectionResult-method | 0.346 | 0.012 | 0.365 | |
| cnvs | 0.328 | 0.007 | 0.336 | |
| exomecn.mops | 4.137 | 0.051 | 4.223 | |
| getReadCountsFromBAM | 0.691 | 0.014 | 7.305 | |
| getSegmentReadCountsFromBAM | 0.419 | 0.008 | 7.235 | |
| gr-CNVDetectionResult-method | 0.371 | 0.008 | 0.380 | |
| gr | 0.388 | 0.007 | 0.396 | |
| haplocn.mops | 1.810 | 0.030 | 15.747 | |
| individualCall-CNVDetectionResult-method | 0.390 | 0.074 | 0.469 | |
| individualCall | 0.315 | 0.013 | 0.335 | |
| iniCall-CNVDetectionResult-method | 0.324 | 0.027 | 0.352 | |
| iniCall | 0.313 | 0.023 | 0.339 | |
| integerCopyNumber-CNVDetectionResult-method | 0.363 | 0.013 | 0.383 | |
| integerCopyNumber | 0.317 | 0.016 | 0.334 | |
| localAssessments-CNVDetectionResult-method | 0.300 | 0.010 | 0.311 | |
| localAssessments | 0.312 | 0.013 | 0.327 | |
| makeRobustCNVR | 0.526 | 0.014 | 0.543 | |
| normalizeChromosomes | 0.265 | 0.025 | 0.292 | |
| normalizeGenome | 0.299 | 0.016 | 0.319 | |
| normalizedData-CNVDetectionResult-method | 0.330 | 0.006 | 0.338 | |
| normalizedData | 0.372 | 0.006 | 0.380 | |
| params-CNVDetectionResult-method | 0.348 | 0.016 | 0.372 | |
| params | 0.349 | 0.015 | 0.371 | |
| posteriorProbs-CNVDetectionResult-method | 0.341 | 0.007 | 0.354 | |
| posteriorProbs | 0.338 | 0.008 | 0.353 | |
| referencecn.mops | 13.319 | 0.053 | 26.465 | |
| sampleNames-CNVDetectionResult-method | 0.309 | 0.006 | 0.318 | |
| sampleNames | 0.269 | 0.004 | 0.274 | |
| segment | 0.039 | 0.000 | 0.040 | |
| segmentation-CNVDetectionResult-method | 0.270 | 0.005 | 0.277 | |
| segmentation | 0.321 | 0.005 | 0.331 | |
| segplot-CNVDetectionResult-method | 1.272 | 0.009 | 1.291 | |
| segplot | 1.277 | 0.016 | 1.306 | |
| singlecn.mops | 1.126 | 0.021 | 1.156 | |