| Back to Multiple platform build/check report for BioC 3.10 | 
 | 
This page was generated on 2020-04-15 12:22:06 -0400 (Wed, 15 Apr 2020).
| Package 272/1823 | Hostname | OS / Arch | INSTALL | BUILD | CHECK | BUILD BIN | ||||||
| chipenrich 2.10.0 Raymond G. Cavalcante 
 | malbec1 | Linux (Ubuntu 18.04.4 LTS) / x86_64 | OK | OK | OK |  | ||||||
| tokay1 | Windows Server 2012 R2 Standard / x64 | [ OK ] | OK | OK | OK |  | ||||||
| merida1 | OS X 10.11.6 El Capitan / x86_64 | OK | OK | OK | OK |  | 
| Package: chipenrich | 
| Version: 2.10.0 | 
| Command: C:\cygwin\bin\curl.exe -O https://malbec1.bioconductor.org/BBS/3.10/bioc/src/contrib/chipenrich_2.10.0.tar.gz && rm -rf chipenrich.buildbin-libdir && mkdir chipenrich.buildbin-libdir && C:\Users\biocbuild\bbs-3.10-bioc\R\bin\R.exe CMD INSTALL --merge-multiarch --build --library=chipenrich.buildbin-libdir chipenrich_2.10.0.tar.gz && C:\Users\biocbuild\bbs-3.10-bioc\R\bin\R.exe CMD INSTALL chipenrich_2.10.0.zip && rm chipenrich_2.10.0.tar.gz chipenrich_2.10.0.zip | 
| StartedAt: 2020-04-14 19:53:14 -0400 (Tue, 14 Apr 2020) | 
| EndedAt: 2020-04-14 19:54:45 -0400 (Tue, 14 Apr 2020) | 
| EllapsedTime: 91.7 seconds | 
| RetCode: 0 | 
| Status: OK | 
##############################################################################
##############################################################################
###
### Running command:
###
###   C:\cygwin\bin\curl.exe -O https://malbec1.bioconductor.org/BBS/3.10/bioc/src/contrib/chipenrich_2.10.0.tar.gz && rm -rf chipenrich.buildbin-libdir && mkdir chipenrich.buildbin-libdir && C:\Users\biocbuild\bbs-3.10-bioc\R\bin\R.exe CMD INSTALL --merge-multiarch --build --library=chipenrich.buildbin-libdir chipenrich_2.10.0.tar.gz && C:\Users\biocbuild\bbs-3.10-bioc\R\bin\R.exe CMD INSTALL chipenrich_2.10.0.zip && rm chipenrich_2.10.0.tar.gz chipenrich_2.10.0.zip
###
##############################################################################
##############################################################################
  % Total    % Received % Xferd  Average Speed   Time    Time     Time  Current
                                 Dload  Upload   Total   Spent    Left  Speed
  0     0    0     0    0     0      0      0 --:--:-- --:--:-- --:--:--     0
100  114k  100  114k    0     0  1079k      0 --:--:-- --:--:-- --:--:-- 1130k
install for i386
* installing *source* package 'chipenrich' ...
** using staged installation
** R
** inst
** byte-compile and prepare package for lazy loading
** help
*** installing help indices
  converting help for package 'chipenrich'
    finding HTML links ... done
    assign_peak_segments                    html  
    assign_peaks                            html  
    broadenrich                             html  
    calc_peak_gene_overlap                  html  
    chipenrich                              html  
    chipenrich_package                      html  
    filter_genesets                         html  
    genome_to_organism                      html  
    genome_to_orgdb                         html  
    get_test_method                         html  
    hybridenrich                            html  
    load_peaks                              html  
    num_peaks_per_gene                      html  
    peaks2genes                             html  
    plot_chipenrich_spline                  html  
    plot_dist_to_tss                        html  
    plot_gene_coverage                      html  
    plot_polyenrich_spline                  html  
    polyenrich                              html  
    post_process_enrichments                html  
    postprocess_peak_grs                    html  
    proxReg                                 html  
    read_bed                                html  
    read_geneset                            html  
    read_ldef                               html  
    read_mappa                              html  
    recode_peaks                            html  
    reset_ncores_for_windows                html  
    setup_genesets                          html  
    setup_locusdef                          html  
    setup_mappa                             html  
    supported_genesets                      html  
    supported_genomes                       html  
    supported_locusdefs                     html  
    supported_methods                       html  
    supported_read_lengths                  html  
** building package indices
** installing vignettes
** testing if installed package can be loaded from temporary location
** testing if installed package can be loaded from final location
** testing if installed package keeps a record of temporary installation path
install for x64
* installing *source* package 'chipenrich' ...
** testing if installed package can be loaded
* MD5 sums
packaged installation of 'chipenrich' as chipenrich_2.10.0.zip
* DONE (chipenrich)
* installing to library 'C:/Users/biocbuild/bbs-3.10-bioc/R/library'
package 'chipenrich' successfully unpacked and MD5 sums checked