| Back to Multiple platform build/check report for BioC 3.10 |
|
This page was generated on 2020-04-15 12:27:39 -0400 (Wed, 15 Apr 2020).
| Package 269/1823 | Hostname | OS / Arch | INSTALL | BUILD | CHECK | BUILD BIN | ||||||
| chimeraviz 1.12.3 Stian Lågstad
| malbec1 | Linux (Ubuntu 18.04.4 LTS) / x86_64 | OK | OK | OK | |||||||
| tokay1 | Windows Server 2012 R2 Standard / x64 | OK | OK | OK | [ OK ] | |||||||
| merida1 | OS X 10.11.6 El Capitan / x86_64 | OK | OK | OK | OK |
| Package: chimeraviz |
| Version: 1.12.3 |
| Command: rm -rf chimeraviz.buildbin-libdir && mkdir chimeraviz.buildbin-libdir && C:\Users\biocbuild\bbs-3.10-bioc\R\bin\R.exe CMD INSTALL --merge-multiarch --build --library=chimeraviz.buildbin-libdir chimeraviz_1.12.3.tar.gz |
| StartedAt: 2020-04-15 08:23:20 -0400 (Wed, 15 Apr 2020) |
| EndedAt: 2020-04-15 08:24:57 -0400 (Wed, 15 Apr 2020) |
| EllapsedTime: 96.2 seconds |
| RetCode: 0 |
| Status: OK |
| PackageFile: chimeraviz_1.12.3.zip |
| PackageFileSize: 3.065 MiB |
##############################################################################
##############################################################################
###
### Running command:
###
### rm -rf chimeraviz.buildbin-libdir && mkdir chimeraviz.buildbin-libdir && C:\Users\biocbuild\bbs-3.10-bioc\R\bin\R.exe CMD INSTALL --merge-multiarch --build --library=chimeraviz.buildbin-libdir chimeraviz_1.12.3.tar.gz
###
##############################################################################
##############################################################################
install for i386
* installing *source* package 'chimeraviz' ...
** using staged installation
** R
** inst
** byte-compile and prepare package for lazy loading
** help
*** installing help indices
converting help for package 'chimeraviz'
finding HTML links ... done
Fusion-class html
PartnerGene-class html
add_fusion_reads_alignment html
chimeraviz-internals-fusions_to_gene_label_data
html
chimeraviz-internals-fusions_to_link_data
html
chimeraviz-internals-scaleListToInterval
html
chimeraviz html
create_fusion_report html
decide_transcript_category html
down_shift html
downstream_partner_gene html
fetch_reads_from_fastq html
fusion_spanning_reads_count html
fusion_split_reads_count html
fusion_to_data_frame html
get_ensembl_ids html
get_fusion_by_chromosome html
get_fusion_by_gene_name html
get_fusion_by_id html
get_transcripts_ensembl_db html
import_defuse html
import_ericscript html
import_function_non_ucsc html
import_fusioncatcher html
import_fusionmap html
import_infusion html
import_jaffa html
import_oncofuse html
import_prada html
import_soapfuse html
import_starfusion html
partner_gene_ensembl_id html
partner_gene_junction_sequence html
plot_circle html
plot_fusion html
plot_fusion_reads html
plot_fusion_transcript html
plot_fusion_transcript_with_protein_domain
html
plot_fusion_transcripts_graph html
plot_transcripts html
raw_Homo_sapiens.GRCh37.74 html
raw_cytobandhg19 html
raw_cytobandhg38 html
raw_defuse html
raw_ericscript html
raw_fusion5267proteindomains html
raw_fusion5267reads html
raw_fusion5267readsBedGraph html
raw_fusioncatcher html
raw_fusionmap html
raw_infusion html
raw_jaffa html
raw_oncofuse html
raw_prada html
raw_soapfuse html
raw_starfusion html
select_transcript html
show-Fusion-method html
show-PartnerGene-method html
split_on_utr_and_add_feature html
upstream_partner_gene html
write_fusion_reference html
** building package indices
** installing vignettes
** testing if installed package can be loaded from temporary location
** testing if installed package can be loaded from final location
** testing if installed package keeps a record of temporary installation path
install for x64
* installing *source* package 'chimeraviz' ...
** testing if installed package can be loaded
* MD5 sums
packaged installation of 'chimeraviz' as chimeraviz_1.12.3.zip
* DONE (chimeraviz)