| Back to Multiple platform build/check report for BioC 3.10 |
|
This page was generated on 2020-04-15 12:19:08 -0400 (Wed, 15 Apr 2020).
| Package 262/1823 | Hostname | OS / Arch | INSTALL | BUILD | CHECK | BUILD BIN | ||||||
Peter Murakami
| malbec1 | Linux (Ubuntu 18.04.4 LTS) / x86_64 | ERROR | ERROR | skipped | |||||||
| tokay1 | Windows Server 2012 R2 Standard / x64 | [ ERROR ] | ERROR | skipped | skipped | |||||||
| merida1 | OS X 10.11.6 El Capitan / x86_64 | ERROR | ERROR | skipped | skipped |
| Package: charm |
| Version: 2.32.0 |
| Command: C:\cygwin\bin\curl.exe -O https://malbec1.bioconductor.org/BBS/3.10/bioc/src/contrib/charm_2.32.0.tar.gz && rm -rf charm.buildbin-libdir && mkdir charm.buildbin-libdir && C:\Users\biocbuild\bbs-3.10-bioc\R\bin\R.exe CMD INSTALL --merge-multiarch --build --library=charm.buildbin-libdir charm_2.32.0.tar.gz && C:\Users\biocbuild\bbs-3.10-bioc\R\bin\R.exe CMD INSTALL charm_2.32.0.zip && rm charm_2.32.0.tar.gz charm_2.32.0.zip |
| StartedAt: 2020-04-14 19:57:22 -0400 (Tue, 14 Apr 2020) |
| EndedAt: 2020-04-14 19:57:31 -0400 (Tue, 14 Apr 2020) |
| EllapsedTime: 9.0 seconds |
| RetCode: 1 |
| Status: ERROR |
##############################################################################
##############################################################################
###
### Running command:
###
### C:\cygwin\bin\curl.exe -O https://malbec1.bioconductor.org/BBS/3.10/bioc/src/contrib/charm_2.32.0.tar.gz && rm -rf charm.buildbin-libdir && mkdir charm.buildbin-libdir && C:\Users\biocbuild\bbs-3.10-bioc\R\bin\R.exe CMD INSTALL --merge-multiarch --build --library=charm.buildbin-libdir charm_2.32.0.tar.gz && C:\Users\biocbuild\bbs-3.10-bioc\R\bin\R.exe CMD INSTALL charm_2.32.0.zip && rm charm_2.32.0.tar.gz charm_2.32.0.zip
###
##############################################################################
##############################################################################
% Total % Received % Xferd Average Speed Time Time Time Current
Dload Upload Total Spent Left Speed
0 0 0 0 0 0 0 0 --:--:-- --:--:-- --:--:-- 0
0 0 0 0 0 0 0 0 --:--:-- --:--:-- --:--:-- 0
100 85878 100 85878 0 0 353k 0 --:--:-- --:--:-- --:--:-- 356k
install for i386
* installing *source* package 'charm' ...
** using staged installation
** R
** inst
** byte-compile and prepare package for lazy loading
No methods found in package 'RSQLite' for request: 'dbListFields' when loading 'oligo'
Error: object 'ebayes' is not exported by 'namespace:limma'
Execution halted
ERROR: lazy loading failed for package 'charm'
* removing 'C:/Users/biocbuild/bbs-3.10-bioc/meat/charm.buildbin-libdir/charm'