| Back to Multiple platform build/check report for BioC 3.10 |
|
This page was generated on 2020-04-15 12:29:09 -0400 (Wed, 15 Apr 2020).
| Package 232/1823 | Hostname | OS / Arch | INSTALL | BUILD | CHECK | BUILD BIN | ||||||
| cbaf 1.8.1 Arman Shahrisa
| malbec1 | Linux (Ubuntu 18.04.4 LTS) / x86_64 | OK | OK | OK | |||||||
| tokay1 | Windows Server 2012 R2 Standard / x64 | [ OK ] | OK | OK | OK | |||||||
| merida1 | OS X 10.11.6 El Capitan / x86_64 | OK | OK | OK | OK |
| Package: cbaf |
| Version: 1.8.1 |
| Command: C:\cygwin\bin\curl.exe -O https://malbec1.bioconductor.org/BBS/3.10/bioc/src/contrib/cbaf_1.8.1.tar.gz && rm -rf cbaf.buildbin-libdir && mkdir cbaf.buildbin-libdir && C:\Users\biocbuild\bbs-3.10-bioc\R\bin\R.exe CMD INSTALL --merge-multiarch --build --library=cbaf.buildbin-libdir cbaf_1.8.1.tar.gz && C:\Users\biocbuild\bbs-3.10-bioc\R\bin\R.exe CMD INSTALL cbaf_1.8.1.zip && rm cbaf_1.8.1.tar.gz cbaf_1.8.1.zip |
| StartedAt: 2020-04-14 19:22:15 -0400 (Tue, 14 Apr 2020) |
| EndedAt: 2020-04-14 19:23:47 -0400 (Tue, 14 Apr 2020) |
| EllapsedTime: 92.5 seconds |
| RetCode: 0 |
| Status: OK |
##############################################################################
##############################################################################
###
### Running command:
###
### C:\cygwin\bin\curl.exe -O https://malbec1.bioconductor.org/BBS/3.10/bioc/src/contrib/cbaf_1.8.1.tar.gz && rm -rf cbaf.buildbin-libdir && mkdir cbaf.buildbin-libdir && C:\Users\biocbuild\bbs-3.10-bioc\R\bin\R.exe CMD INSTALL --merge-multiarch --build --library=cbaf.buildbin-libdir cbaf_1.8.1.tar.gz && C:\Users\biocbuild\bbs-3.10-bioc\R\bin\R.exe CMD INSTALL cbaf_1.8.1.zip && rm cbaf_1.8.1.tar.gz cbaf_1.8.1.zip
###
##############################################################################
##############################################################################
% Total % Received % Xferd Average Speed Time Time Time Current
Dload Upload Total Spent Left Speed
0 0 0 0 0 0 0 0 --:--:-- --:--:-- --:--:-- 0
0 0 0 0 0 0 0 0 --:--:-- --:--:-- --:--:-- 0
100 553k 100 553k 0 0 3741k 0 --:--:-- --:--:-- --:--:-- 3820k
install for i386
* installing *source* package 'cbaf' ...
** using staged installation
** R
** inst
** byte-compile and prepare package for lazy loading
** help
*** installing help indices
converting help for package 'cbaf'
finding HTML links ... done
automatedStatistics html
availableData html
cleanDatabase html
heatmapOutput html
obtainMultipleStudies html
obtainOneStudy html
processMultipleStudies html
processOneStudy html
xlsxOutput html
** building package indices
** installing vignettes
** testing if installed package can be loaded from temporary location
** testing if installed package can be loaded from final location
** testing if installed package keeps a record of temporary installation path
install for x64
* installing *source* package 'cbaf' ...
** testing if installed package can be loaded
* MD5 sums
packaged installation of 'cbaf' as cbaf_1.8.1.zip
* DONE (cbaf)
* installing to library 'C:/Users/biocbuild/bbs-3.10-bioc/R/library'
package 'cbaf' successfully unpacked and MD5 sums checked