| Back to Multiple platform build/check report for BioC 3.10 | 
 | 
This page was generated on 2020-04-15 12:21:23 -0400 (Wed, 15 Apr 2020).
| Package 170/1823 | Hostname | OS / Arch | INSTALL | BUILD | CHECK | BUILD BIN | ||||||
| biomvRCNS 1.26.0 Yang Du 
 | malbec1 | Linux (Ubuntu 18.04.4 LTS) / x86_64 | OK | OK | OK |  | ||||||
| tokay1 | Windows Server 2012 R2 Standard / x64 | OK | OK | OK | [ OK ] |  | ||||||
| merida1 | OS X 10.11.6 El Capitan / x86_64 | OK | OK | OK | OK |  | 
| Package: biomvRCNS | 
| Version: 1.26.0 | 
| Command: rm -rf biomvRCNS.buildbin-libdir && mkdir biomvRCNS.buildbin-libdir && C:\Users\biocbuild\bbs-3.10-bioc\R\bin\R.exe CMD INSTALL --merge-multiarch --build --library=biomvRCNS.buildbin-libdir biomvRCNS_1.26.0.tar.gz | 
| StartedAt: 2020-04-15 08:17:34 -0400 (Wed, 15 Apr 2020) | 
| EndedAt: 2020-04-15 08:18:50 -0400 (Wed, 15 Apr 2020) | 
| EllapsedTime: 75.7 seconds | 
| RetCode: 0 | 
| Status: OK | 
| PackageFile: biomvRCNS_1.26.0.zip | 
| PackageFileSize: 809.8 KiB | 
##############################################################################
##############################################################################
###
### Running command:
###
###   rm -rf biomvRCNS.buildbin-libdir && mkdir biomvRCNS.buildbin-libdir && C:\Users\biocbuild\bbs-3.10-bioc\R\bin\R.exe CMD INSTALL --merge-multiarch --build --library=biomvRCNS.buildbin-libdir biomvRCNS_1.26.0.tar.gz
###
##############################################################################
##############################################################################
install for i386
* installing *source* package 'biomvRCNS' ...
** using staged installation
** libs
C:/Rtools/mingw_32/bin/gcc  -I"C:/Users/BIOCBU~1/BBS-3~1.10-/R/include" -DNDEBUG     -I"C:/extsoft/include"     -O3 -Wall  -std=gnu99 -mtune=core2 -c biomvRCNS.c -o biomvRCNS.o
C:/Rtools/mingw_32/bin/gcc -shared -s -static-libgcc -o biomvRCNS.dll tmp.def biomvRCNS.o -LC:/extsoft/lib/i386 -LC:/extsoft/lib -LC:/Users/BIOCBU~1/BBS-3~1.10-/R/bin/i386 -lR
installing to C:/Users/biocbuild/bbs-3.10-bioc/meat/biomvRCNS.buildbin-libdir/00LOCK-biomvRCNS/00new/biomvRCNS/libs/i386
** R
** data
** inst
** byte-compile and prepare package for lazy loading
** help
*** installing help indices
  converting help for package 'biomvRCNS'
    finding HTML links ... done
    biomvRCNS-class                         html  
    biomvRGviz                              html  
    biomvRhsmm                              html  
    biomvRmgmr                              html  
    biomvRseg                               html  
    coriell                                 html  
    encodeTP53                              html  
    hsmmRun                                 html  
    maxGapminRun                            html  
    regionSegAlphaNB                        html  
    regionSegCost                           html  
    simSegData                              html  
    sojournAnno                             html  
    splitFarNeighbour                       html  
    variosm                                 html  
** building package indices
** installing vignettes
** testing if installed package can be loaded from temporary location
** testing if installed package can be loaded from final location
** testing if installed package keeps a record of temporary installation path
install for x64
* installing *source* package 'biomvRCNS' ...
** libs
C:/Rtools/mingw_64/bin/gcc  -I"C:/Users/BIOCBU~1/BBS-3~1.10-/R/include" -DNDEBUG     -I"C:/extsoft/include"     -O2 -Wall  -std=gnu99 -mtune=core2 -c biomvRCNS.c -o biomvRCNS.o
C:/Rtools/mingw_64/bin/gcc -shared -s -static-libgcc -o biomvRCNS.dll tmp.def biomvRCNS.o -LC:/extsoft/lib/x64 -LC:/extsoft/lib -LC:/Users/BIOCBU~1/BBS-3~1.10-/R/bin/x64 -lR
installing to C:/Users/biocbuild/bbs-3.10-bioc/meat/biomvRCNS.buildbin-libdir/biomvRCNS/libs/x64
** testing if installed package can be loaded
* MD5 sums
packaged installation of 'biomvRCNS' as biomvRCNS_1.26.0.zip
* DONE (biomvRCNS)