| Back to Multiple platform build/check report for BioC 3.10 | 
 | 
This page was generated on 2020-04-15 12:08:06 -0400 (Wed, 15 Apr 2020).
| Package 144/1823 | Hostname | OS / Arch | INSTALL | BUILD | CHECK | BUILD BIN | ||||||
| bioassayR 1.24.0 Tyler Backman 
 | malbec1 | Linux (Ubuntu 18.04.4 LTS) / x86_64 | OK | OK | [ OK ] |  | ||||||
| tokay1 | Windows Server 2012 R2 Standard / x64 | OK | OK | OK | OK |  | ||||||
| merida1 | OS X 10.11.6 El Capitan / x86_64 | OK | OK | OK | OK |  | 
| Package: bioassayR | 
| Version: 1.24.0 | 
| Command: /home/biocbuild/bbs-3.10-bioc/R/bin/R CMD check --install=check:bioassayR.install-out.txt --library=/home/biocbuild/bbs-3.10-bioc/R/library --no-vignettes --timings bioassayR_1.24.0.tar.gz | 
| StartedAt: 2020-04-15 01:52:45 -0400 (Wed, 15 Apr 2020) | 
| EndedAt: 2020-04-15 01:54:09 -0400 (Wed, 15 Apr 2020) | 
| EllapsedTime: 83.7 seconds | 
| RetCode: 0 | 
| Status: OK | 
| CheckDir: bioassayR.Rcheck | 
| Warnings: 0 | 
############################################################################## ############################################################################## ### ### Running command: ### ### /home/biocbuild/bbs-3.10-bioc/R/bin/R CMD check --install=check:bioassayR.install-out.txt --library=/home/biocbuild/bbs-3.10-bioc/R/library --no-vignettes --timings bioassayR_1.24.0.tar.gz ### ############################################################################## ############################################################################## * using log directory ‘/home/biocbuild/bbs-3.10-bioc/meat/bioassayR.Rcheck’ * using R version 3.6.3 (2020-02-29) * using platform: x86_64-pc-linux-gnu (64-bit) * using session charset: UTF-8 * using option ‘--no-vignettes’ * checking for file ‘bioassayR/DESCRIPTION’ ... OK * checking extension type ... Package * this is package ‘bioassayR’ version ‘1.24.0’ * checking package namespace information ... OK * checking package dependencies ... OK * checking if this is a source package ... OK * checking if there is a namespace ... OK * checking for hidden files and directories ... OK * checking for portable file names ... OK * checking for sufficient/correct file permissions ... OK * checking whether package ‘bioassayR’ can be installed ... OK * checking installed package size ... OK * checking package directory ... OK * checking ‘build’ directory ... OK * checking DESCRIPTION meta-information ... OK * checking top-level files ... OK * checking for left-over files ... OK * checking index information ... OK * checking package subdirectories ... OK * checking R files for non-ASCII characters ... OK * checking R files for syntax errors ... OK * checking whether the package can be loaded ... OK * checking whether the package can be loaded with stated dependencies ... OK * checking whether the package can be unloaded cleanly ... OK * checking whether the namespace can be loaded with stated dependencies ... OK * checking whether the namespace can be unloaded cleanly ... OK * checking dependencies in R code ... OK * checking S3 generic/method consistency ... OK * checking replacement functions ... OK * checking foreign function calls ... OK * checking R code for possible problems ... OK * checking Rd files ... OK * checking Rd metadata ... OK * checking Rd cross-references ... OK * checking for missing documentation entries ... OK * checking for code/documentation mismatches ... OK * checking Rd \usage sections ... OK * checking Rd contents ... OK * checking for unstated dependencies in examples ... OK * checking contents of ‘data’ directory ... OK * checking data for non-ASCII characters ... OK * checking data for ASCII and uncompressed saves ... OK * checking line endings in Makefiles ... OK * checking for GNU extensions in Makefiles ... OK * checking include directives in Makefiles ... OK * checking files in ‘vignettes’ ... OK * checking examples ... OK * checking for unstated dependencies in ‘tests’ ... OK * checking tests ... Running ‘testthat.R’ OK * checking for unstated dependencies in vignettes ... OK * checking package vignettes in ‘inst/doc’ ... OK * checking running R code from vignettes ... SKIPPED * checking re-building of vignette outputs ... SKIPPED * checking PDF version of manual ... OK * DONE Status: OK
bioassayR.Rcheck/00install.out
############################################################################## ############################################################################## ### ### Running command: ### ### /home/biocbuild/bbs-3.10-bioc/R/bin/R CMD INSTALL bioassayR ### ############################################################################## ############################################################################## * installing to library ‘/home/biocbuild/bbs-3.10-bioc/R/library’ * installing *source* package ‘bioassayR’ ... ** using staged installation ** R ** data ** inst ** byte-compile and prepare package for lazy loading Creating a new generic function for ‘organism’ in package ‘bioassayR’ Creating a new generic function for ‘organism<-’ in package ‘bioassayR’ ** help *** installing help indices ** building package indices ** installing vignettes ** testing if installed package can be loaded from temporary location ** testing if installed package can be loaded from final location ** testing if installed package keeps a record of temporary installation path * DONE (bioassayR)
bioassayR.Rcheck/tests/testthat.Rout
R version 3.6.3 (2020-02-29) -- "Holding the Windsock"
Copyright (C) 2020 The R Foundation for Statistical Computing
Platform: x86_64-pc-linux-gnu (64-bit)
R is free software and comes with ABSOLUTELY NO WARRANTY.
You are welcome to redistribute it under certain conditions.
Type 'license()' or 'licence()' for distribution details.
R is a collaborative project with many contributors.
Type 'contributors()' for more information and
'citation()' on how to cite R or R packages in publications.
Type 'demo()' for some demos, 'help()' for on-line help, or
'help.start()' for an HTML browser interface to help.
Type 'q()' to quit R.
> library(testthat)
> library(bioassayR)
Loading required package: DBI
Loading required package: RSQLite
Loading required package: Matrix
Loading required package: rjson
Loading required package: BiocGenerics
Loading required package: parallel
Attaching package: 'BiocGenerics'
The following objects are masked from 'package:parallel':
    clusterApply, clusterApplyLB, clusterCall, clusterEvalQ,
    clusterExport, clusterMap, parApply, parCapply, parLapply,
    parLapplyLB, parRapply, parSapply, parSapplyLB
The following object is masked from 'package:Matrix':
    which
The following objects are masked from 'package:stats':
    IQR, mad, sd, var, xtabs
The following objects are masked from 'package:base':
    Filter, Find, Map, Position, Reduce, anyDuplicated, append,
    as.data.frame, basename, cbind, colnames, dirname, do.call,
    duplicated, eval, evalq, get, grep, grepl, intersect, is.unsorted,
    lapply, mapply, match, mget, order, paste, pmax, pmax.int, pmin,
    pmin.int, rank, rbind, rownames, sapply, setdiff, sort, table,
    tapply, union, unique, unsplit, which, which.max, which.min
Attaching package: 'bioassayR'
The following objects are masked from 'package:BiocGenerics':
    organism, organism<-
> 
> test_check("bioassayR")
══ testthat results  ═══════════════════════════════════════════════════════════
[ OK: 22 | SKIPPED: 0 | WARNINGS: 2 | FAILED: 0 ]
> 
> proc.time()
   user  system elapsed 
  4.716   0.148   4.867 
bioassayR.Rcheck/bioassayR-Ex.timings
| name | user | system | elapsed | |
| BioAssayDB-class | 0.000 | 0.000 | 0.002 | |
| activeAgainst | 0.028 | 0.004 | 0.119 | |
| activeTargets | 0.048 | 0.000 | 0.048 | |
| addBioassayIndex | 0.036 | 0.000 | 0.033 | |
| addDataSource | 0.020 | 0.004 | 0.024 | |
| allCids | 0.008 | 0.000 | 0.006 | |
| allTargets | 0.004 | 0.000 | 0.007 | |
| assaySetTargets | 0.044 | 0.000 | 0.045 | |
| bioactivityFingerprint | 0.144 | 0.000 | 0.143 | |
| bioassay-class | 0.000 | 0.004 | 0.004 | |
| bioassaySet-class | 0 | 0 | 0 | |
| connectBioassayDB | 0.004 | 0.004 | 0.009 | |
| crossReactivityProbability | 0.132 | 0.000 | 0.134 | |
| disconnectBioassayDB | 0.012 | 0.000 | 0.010 | |
| dropBioassay | 0.056 | 0.004 | 0.082 | |
| dropBioassayIndex | 0.040 | 0.000 | 0.039 | |
| getAssay | 0.012 | 0.000 | 0.009 | |
| getAssays | 0.016 | 0.000 | 0.018 | |
| getBioassaySetByCids | 0.116 | 0.000 | 0.118 | |
| inactiveTargets | 0.008 | 0.000 | 0.006 | |
| loadBioassay | 0.024 | 0.004 | 0.027 | |
| loadIdMapping | 0.008 | 0.000 | 0.010 | |
| newBioassayDB | 0.008 | 0.000 | 0.007 | |
| parsePubChemBioassay | 0.008 | 0.000 | 0.008 | |
| perTargetMatrix | 0.14 | 0.00 | 0.14 | |
| queryBioassayDB | 0.02 | 0.00 | 0.02 | |
| samplebioassay | 0.004 | 0.000 | 0.002 | |
| scaleBioassaySet | 0.028 | 0.004 | 0.032 | |
| screenedAtLeast | 0.008 | 0.000 | 0.007 | |
| selectiveAgainst | 0.064 | 0.000 | 0.066 | |
| targetSelectivity | 0.016 | 0.000 | 0.017 | |
| translateTargetId | 0.008 | 0.004 | 0.011 | |
| trinarySimilarity | 0.128 | 0.000 | 0.127 | |