| Back to Multiple platform build/check report for BioC 3.10 |
|
This page was generated on 2020-04-15 12:18:10 -0400 (Wed, 15 Apr 2020).
| Package 133/1823 | Hostname | OS / Arch | INSTALL | BUILD | CHECK | BUILD BIN | ||||||
| bgafun 1.48.0 Iain Wallace
| malbec1 | Linux (Ubuntu 18.04.4 LTS) / x86_64 | OK | OK | OK | |||||||
| tokay1 | Windows Server 2012 R2 Standard / x64 | OK | OK | OK | [ OK ] | |||||||
| merida1 | OS X 10.11.6 El Capitan / x86_64 | OK | OK | OK | OK |
| Package: bgafun |
| Version: 1.48.0 |
| Command: rm -rf bgafun.buildbin-libdir && mkdir bgafun.buildbin-libdir && C:\Users\biocbuild\bbs-3.10-bioc\R\bin\R.exe CMD INSTALL --merge-multiarch --build --library=bgafun.buildbin-libdir bgafun_1.48.0.tar.gz |
| StartedAt: 2020-04-15 08:15:31 -0400 (Wed, 15 Apr 2020) |
| EndedAt: 2020-04-15 08:15:45 -0400 (Wed, 15 Apr 2020) |
| EllapsedTime: 14.2 seconds |
| RetCode: 0 |
| Status: OK |
| PackageFile: bgafun_1.48.0.zip |
| PackageFileSize: 354.7 KiB |
##############################################################################
##############################################################################
###
### Running command:
###
### rm -rf bgafun.buildbin-libdir && mkdir bgafun.buildbin-libdir && C:\Users\biocbuild\bbs-3.10-bioc\R\bin\R.exe CMD INSTALL --merge-multiarch --build --library=bgafun.buildbin-libdir bgafun_1.48.0.tar.gz
###
##############################################################################
##############################################################################
install for i386
* installing *source* package 'bgafun' ...
** using staged installation
** R
** data
** inst
** byte-compile and prepare package for lazy loading
** help
*** installing help indices
converting help for package 'bgafun'
finding HTML links ... done
Calculate_Row_Weights html
Henikoff_weights html
LDH html
LDH.aap html
LDH.aap.ave html
LDH.amino html
LDH.amino.gapless html
LDH.amino.pseudo html
LDH.groups html
Weight_Amino html
add_pseudo_counts html
amino_counts html
average_cols_aap html
bgafun html
calculate_pseudo html
convertAAP.package html
convert_aln_AAP html
convert_aln_amino html
convert_amino.package html
convert_seq_AAP html
convert_seq_amino html
create_colnames_AAP html
create_colnames_amino html
create_probab html
create_profile html
create_profile_strings html
pseudo_counts html
remove_gaps html
remove_gaps_groups html
run_between_pca html
sum_20_aln html
sum_20_cols html
sum_aln html
top_residues_2_groups html
** building package indices
** installing vignettes
** testing if installed package can be loaded from temporary location
** testing if installed package can be loaded from final location
** testing if installed package keeps a record of temporary installation path
install for x64
* installing *source* package 'bgafun' ...
** testing if installed package can be loaded
* MD5 sums
packaged installation of 'bgafun' as bgafun_1.48.0.zip
* DONE (bgafun)