| Back to Multiple platform build/check report for BioC 3.10 |
|
This page was generated on 2020-04-15 12:45:41 -0400 (Wed, 15 Apr 2020).
| Package 126/1823 | Hostname | OS / Arch | INSTALL | BUILD | CHECK | BUILD BIN | ||||||
| beachmat 2.2.1 Aaron Lun
| malbec1 | Linux (Ubuntu 18.04.4 LTS) / x86_64 | OK | OK | OK | |||||||
| tokay1 | Windows Server 2012 R2 Standard / x64 | OK | OK | OK | OK | |||||||
| merida1 | OS X 10.11.6 El Capitan / x86_64 | OK | OK | OK | [ OK ] |
| Package: beachmat |
| Version: 2.2.1 |
| Command: rm -rf beachmat.buildbin-libdir && mkdir beachmat.buildbin-libdir && /Users/biocbuild/BBS/utils/build-universal.sh beachmat_2.2.1.tar.gz /Library/Frameworks/R.framework/Versions/Current/Resources/bin/R beachmat.buildbin-libdir |
| StartedAt: 2020-04-15 06:53:18 -0400 (Wed, 15 Apr 2020) |
| EndedAt: 2020-04-15 06:53:59 -0400 (Wed, 15 Apr 2020) |
| EllapsedTime: 41.4 seconds |
| RetCode: 0 |
| Status: OK |
| PackageFile: beachmat_2.2.1.tgz |
| PackageFileSize: 1.13 MiB |
############################################################################## ############################################################################## ### ### Running command: ### ### rm -rf beachmat.buildbin-libdir && mkdir beachmat.buildbin-libdir && /Users/biocbuild/BBS/utils/build-universal.sh beachmat_2.2.1.tar.gz /Library/Frameworks/R.framework/Versions/Current/Resources/bin/R beachmat.buildbin-libdir ### ############################################################################## ############################################################################## >>>>>>> >>>>>>> INSTALLATION WITH 'R CMD INSTALL --preclean --no-multiarch --library=beachmat.buildbin-libdir beachmat_2.2.1.tar.gz' >>>>>>> * installing *source* package ‘beachmat’ ... ** using staged installation ** R ** inst ** byte-compile and prepare package for lazy loading ** help No man pages found in package ‘beachmat’ *** installing help indices ** building package indices ** installing vignettes ** testing if installed package can be loaded from temporary location ** testing if installed package can be loaded from final location ** testing if installed package keeps a record of temporary installation path * DONE (beachmat)