| Back to Multiple platform build/check report for BioC 3.10 |
|
This page was generated on 2020-04-15 12:32:28 -0400 (Wed, 15 Apr 2020).
| Package 57/1823 | Hostname | OS / Arch | INSTALL | BUILD | CHECK | BUILD BIN | ||||||
| animalcules 1.2.1 Yue Zhao
| malbec1 | Linux (Ubuntu 18.04.4 LTS) / x86_64 | OK | OK | OK | |||||||
| tokay1 | Windows Server 2012 R2 Standard / x64 | OK | OK | OK | [ OK ] | |||||||
| merida1 | OS X 10.11.6 El Capitan / x86_64 | OK | OK | OK | OK |
| Package: animalcules |
| Version: 1.2.1 |
| Command: rm -rf animalcules.buildbin-libdir && mkdir animalcules.buildbin-libdir && C:\Users\biocbuild\bbs-3.10-bioc\R\bin\R.exe CMD INSTALL --merge-multiarch --build --library=animalcules.buildbin-libdir animalcules_1.2.1.tar.gz |
| StartedAt: 2020-04-15 08:10:09 -0400 (Wed, 15 Apr 2020) |
| EndedAt: 2020-04-15 08:11:47 -0400 (Wed, 15 Apr 2020) |
| EllapsedTime: 98.3 seconds |
| RetCode: 0 |
| Status: OK |
| PackageFile: animalcules_1.2.1.zip |
| PackageFileSize: 3.286 MiB |
##############################################################################
##############################################################################
###
### Running command:
###
### rm -rf animalcules.buildbin-libdir && mkdir animalcules.buildbin-libdir && C:\Users\biocbuild\bbs-3.10-bioc\R\bin\R.exe CMD INSTALL --merge-multiarch --build --library=animalcules.buildbin-libdir animalcules_1.2.1.tar.gz
###
##############################################################################
##############################################################################
install for i386
* installing *source* package 'animalcules' ...
** using staged installation
** R
** inst
** byte-compile and prepare package for lazy loading
** help
*** installing help indices
converting help for package 'animalcules'
finding HTML links ... done
alpha_div_boxplot html
alpha_div_test html
animalcules-package html
counts_to_logcpm html
counts_to_relabu html
df_char_to_factor html
differential_abundance html
dimred_pca html
dimred_pcoa html
dimred_tsne html
dimred_umap html
diversities html
diversities_help html
diversity_beta_boxplot html
diversity_beta_heatmap html
diversity_beta_test html
do_alpha_div_test html
filter_categorize html
filter_summary_bar_density html
filter_summary_pie_box html
find_biomarker html
find_taxon_mat html
find_taxonomy html
find_taxonomy_300 html
gini_simpson html
grep_tid html
inverse_simpson html
is_categorical html
is_integer0 html
is_integer1 html
mae_pick_organisms html
mae_pick_samples html
pct2str html
percent html
read_pathoscope_data html
relabu_barplot html
relabu_boxplot html
relabu_heatmap html
run_animalcules html
shannon html
simpson_index html
upsample_counts html
write_to_biom html
** building package indices
** installing vignettes
** testing if installed package can be loaded from temporary location
** testing if installed package can be loaded from final location
** testing if installed package keeps a record of temporary installation path
install for x64
* installing *source* package 'animalcules' ...
** testing if installed package can be loaded
* MD5 sums
packaged installation of 'animalcules' as animalcules_1.2.1.zip
* DONE (animalcules)