| Back to Multiple platform build/check report for BioC 3.10 |
|
This page was generated on 2020-04-15 12:27:28 -0400 (Wed, 15 Apr 2020).
| Package 53/1823 | Hostname | OS / Arch | INSTALL | BUILD | CHECK | BUILD BIN | ||||||
| anamiR 1.14.0 Ti-Tai Wang
| malbec1 | Linux (Ubuntu 18.04.4 LTS) / x86_64 | OK | ERROR | skipped | |||||||
| tokay1 | Windows Server 2012 R2 Standard / x64 | [ OK ] | ERROR | skipped | skipped | |||||||
| merida1 | OS X 10.11.6 El Capitan / x86_64 | OK | ERROR | skipped | skipped |
| Package: anamiR |
| Version: 1.14.0 |
| Command: C:\cygwin\bin\curl.exe -O https://malbec1.bioconductor.org/BBS/3.10/bioc/src/contrib/anamiR_1.14.0.tar.gz && rm -rf anamiR.buildbin-libdir && mkdir anamiR.buildbin-libdir && C:\Users\biocbuild\bbs-3.10-bioc\R\bin\R.exe CMD INSTALL --merge-multiarch --build --library=anamiR.buildbin-libdir anamiR_1.14.0.tar.gz && C:\Users\biocbuild\bbs-3.10-bioc\R\bin\R.exe CMD INSTALL anamiR_1.14.0.zip && rm anamiR_1.14.0.tar.gz anamiR_1.14.0.zip |
| StartedAt: 2020-04-14 20:37:30 -0400 (Tue, 14 Apr 2020) |
| EndedAt: 2020-04-14 20:38:59 -0400 (Tue, 14 Apr 2020) |
| EllapsedTime: 88.9 seconds |
| RetCode: 0 |
| Status: OK |
##############################################################################
##############################################################################
###
### Running command:
###
### C:\cygwin\bin\curl.exe -O https://malbec1.bioconductor.org/BBS/3.10/bioc/src/contrib/anamiR_1.14.0.tar.gz && rm -rf anamiR.buildbin-libdir && mkdir anamiR.buildbin-libdir && C:\Users\biocbuild\bbs-3.10-bioc\R\bin\R.exe CMD INSTALL --merge-multiarch --build --library=anamiR.buildbin-libdir anamiR_1.14.0.tar.gz && C:\Users\biocbuild\bbs-3.10-bioc\R\bin\R.exe CMD INSTALL anamiR_1.14.0.zip && rm anamiR_1.14.0.tar.gz anamiR_1.14.0.zip
###
##############################################################################
##############################################################################
% Total % Received % Xferd Average Speed Time Time Time Current
Dload Upload Total Spent Left Speed
0 0 0 0 0 0 0 0 --:--:-- --:--:-- --:--:-- 0
100 10.4M 100 10.4M 0 0 34.5M 0 --:--:-- --:--:-- --:--:-- 35.0M
install for i386
* installing *source* package 'anamiR' ...
** using staged installation
** R
** data
*** moving datasets to lazyload DB
** inst
** byte-compile and prepare package for lazy loading
No methods found in package 'RSQLite' for request: 'dbListFields' when loading 'lumi'
** help
*** installing help indices
converting help for package 'anamiR'
finding HTML links ... done
GSEA_ana html
GSEA_res html
anamiR html
database_support html
differExp_continuous html
differExp_discrete html
egSymb html
enrichment html
heat_vis html
miR_converter html
mirna html
mrna html
msigdb.gs html
multi_Differ html
negative_cor html
normalization html
pheno.mirna html
pheno.mrna html
table_pre html
** building package indices
** installing vignettes
** testing if installed package can be loaded from temporary location
No methods found in package 'RSQLite' for request: 'dbListFields' when loading 'lumi'
** testing if installed package can be loaded from final location
No methods found in package 'RSQLite' for request: 'dbListFields' when loading 'lumi'
** testing if installed package keeps a record of temporary installation path
install for x64
* installing *source* package 'anamiR' ...
** testing if installed package can be loaded
No methods found in package 'RSQLite' for request: 'dbListFields' when loading 'lumi'
* MD5 sums
packaged installation of 'anamiR' as anamiR_1.14.0.zip
* DONE (anamiR)
* installing to library 'C:/Users/biocbuild/bbs-3.10-bioc/R/library'
package 'anamiR' successfully unpacked and MD5 sums checked