| Back to Multiple platform build/check report for BioC 3.10 |
|
This page was generated on 2020-04-15 12:11:45 -0400 (Wed, 15 Apr 2020).
| Package 45/1823 | Hostname | OS / Arch | INSTALL | BUILD | CHECK | BUILD BIN | ||||||
| alpine 1.12.0 Michael Love
| malbec1 | Linux (Ubuntu 18.04.4 LTS) / x86_64 | OK | OK | [ OK ] | |||||||
| tokay1 | Windows Server 2012 R2 Standard / x64 | OK | OK | OK | OK | |||||||
| merida1 | OS X 10.11.6 El Capitan / x86_64 | OK | OK | OK | OK |
| Package: alpine |
| Version: 1.12.0 |
| Command: /home/biocbuild/bbs-3.10-bioc/R/bin/R CMD check --install=check:alpine.install-out.txt --library=/home/biocbuild/bbs-3.10-bioc/R/library --no-vignettes --timings alpine_1.12.0.tar.gz |
| StartedAt: 2020-04-15 04:06:46 -0400 (Wed, 15 Apr 2020) |
| EndedAt: 2020-04-15 04:12:47 -0400 (Wed, 15 Apr 2020) |
| EllapsedTime: 360.8 seconds |
| RetCode: 0 |
| Status: OK |
| CheckDir: alpine.Rcheck |
| Warnings: 0 |
##############################################################################
##############################################################################
###
### Running command:
###
### /home/biocbuild/bbs-3.10-bioc/R/bin/R CMD check --install=check:alpine.install-out.txt --library=/home/biocbuild/bbs-3.10-bioc/R/library --no-vignettes --timings alpine_1.12.0.tar.gz
###
##############################################################################
##############################################################################
* using log directory ‘/home/biocbuild/bbs-3.10-bioc/meat/alpine.Rcheck’
* using R version 3.6.3 (2020-02-29)
* using platform: x86_64-pc-linux-gnu (64-bit)
* using session charset: UTF-8
* using option ‘--no-vignettes’
* checking for file ‘alpine/DESCRIPTION’ ... OK
* this is package ‘alpine’ version ‘1.12.0’
* checking package namespace information ... OK
* checking package dependencies ... OK
* checking if this is a source package ... OK
* checking if there is a namespace ... OK
* checking for hidden files and directories ... OK
* checking for portable file names ... OK
* checking for sufficient/correct file permissions ... OK
* checking whether package ‘alpine’ can be installed ... OK
* checking installed package size ... OK
* checking package directory ... OK
* checking ‘build’ directory ... OK
* checking DESCRIPTION meta-information ... OK
* checking top-level files ... OK
* checking for left-over files ... OK
* checking index information ... OK
* checking package subdirectories ... OK
* checking R files for non-ASCII characters ... OK
* checking R files for syntax errors ... OK
* checking whether the package can be loaded ... OK
* checking whether the package can be loaded with stated dependencies ... OK
* checking whether the package can be unloaded cleanly ... OK
* checking whether the namespace can be loaded with stated dependencies ... OK
* checking whether the namespace can be unloaded cleanly ... OK
* checking dependencies in R code ... NOTE
Unexported object imported by a ':::' call: ‘S4Vectors:::fancy_mseq’
See the note in ?`:::` about the use of this operator.
* checking S3 generic/method consistency ... OK
* checking replacement functions ... OK
* checking foreign function calls ... OK
* checking R code for possible problems ... OK
* checking Rd files ... OK
* checking Rd metadata ... OK
* checking Rd cross-references ... OK
* checking for missing documentation entries ... OK
* checking for code/documentation mismatches ... OK
* checking Rd \usage sections ... OK
* checking Rd contents ... OK
* checking for unstated dependencies in examples ... OK
* checking contents of ‘data’ directory ... OK
* checking data for non-ASCII characters ... OK
* checking data for ASCII and uncompressed saves ... OK
* checking files in ‘vignettes’ ... OK
* checking examples ... OK
Examples with CPU or elapsed time > 5s
user system elapsed
fitBiasModels 20.032 0.664 21.307
estimateAbundance 17.600 0.544 18.822
predictCoverage 11.080 0.284 11.578
getFragmentWidths 6.484 0.068 6.844
getReadLength 5.084 0.044 5.364
* checking for unstated dependencies in ‘tests’ ... OK
* checking tests ...
Running ‘testthat.R’
OK
* checking for unstated dependencies in vignettes ... OK
* checking package vignettes in ‘inst/doc’ ... OK
* checking running R code from vignettes ... SKIPPED
* checking re-building of vignette outputs ... SKIPPED
* checking PDF version of manual ... OK
* DONE
Status: 1 NOTE
See
‘/home/biocbuild/bbs-3.10-bioc/meat/alpine.Rcheck/00check.log’
for details.
alpine.Rcheck/00install.out
############################################################################## ############################################################################## ### ### Running command: ### ### /home/biocbuild/bbs-3.10-bioc/R/bin/R CMD INSTALL alpine ### ############################################################################## ############################################################################## * installing to library ‘/home/biocbuild/bbs-3.10-bioc/R/library’ * installing *source* package ‘alpine’ ... ** using staged installation ** R ** data ** inst ** byte-compile and prepare package for lazy loading ** help *** installing help indices ** building package indices ** installing vignettes ** testing if installed package can be loaded from temporary location ** testing if installed package can be loaded from final location ** testing if installed package keeps a record of temporary installation path * DONE (alpine)
alpine.Rcheck/tests/testthat.Rout
R version 3.6.3 (2020-02-29) -- "Holding the Windsock"
Copyright (C) 2020 The R Foundation for Statistical Computing
Platform: x86_64-pc-linux-gnu (64-bit)
R is free software and comes with ABSOLUTELY NO WARRANTY.
You are welcome to redistribute it under certain conditions.
Type 'license()' or 'licence()' for distribution details.
R is a collaborative project with many contributors.
Type 'contributors()' for more information and
'citation()' on how to cite R or R packages in publications.
Type 'demo()' for some demos, 'help()' for on-line help, or
'help.start()' for an HTML browser interface to help.
Type 'q()' to quit R.
> library(testthat)
> library(alpine)
> test_check("alpine")
══ testthat results ═══════════════════════════════════════════════════════════
[ OK: 1 | SKIPPED: 0 | WARNINGS: 4 | FAILED: 0 ]
>
> proc.time()
user system elapsed
60.660 2.092 63.303
alpine.Rcheck/alpine-Ex.timings
| name | user | system | elapsed | |
| buildFragtypes | 4.056 | 0.100 | 4.221 | |
| estimateAbundance | 17.600 | 0.544 | 18.822 | |
| extractAlpine | 0.032 | 0.000 | 0.030 | |
| fitBiasModels | 20.032 | 0.664 | 21.307 | |
| getFragmentWidths | 6.484 | 0.068 | 6.844 | |
| getReadLength | 5.084 | 0.044 | 5.364 | |
| mergeGenes | 0.420 | 0.004 | 0.425 | |
| normalizeDESeq | 0.000 | 0.000 | 0.002 | |
| plotFragLen | 0.024 | 0.000 | 0.024 | |
| plotGC | 0.040 | 0.000 | 0.038 | |
| plotGRL | 0.308 | 0.000 | 0.311 | |
| plotOrder0 | 0.068 | 0.000 | 0.068 | |
| plotRelPos | 0.036 | 0.000 | 0.035 | |
| predictCoverage | 11.080 | 0.284 | 11.578 | |
| splitGenesAcrossChroms | 0.560 | 0.016 | 0.578 | |
| splitLongGenes | 0.668 | 0.008 | 0.679 | |