| Back to Multiple platform build/check report for BioC 3.10 |
|
This page was generated on 2020-04-15 12:16:43 -0400 (Wed, 15 Apr 2020).
| Package 24/1823 | Hostname | OS / Arch | INSTALL | BUILD | CHECK | BUILD BIN | ||||||
| affycomp 1.62.0 Rafael A. Irizarry
| malbec1 | Linux (Ubuntu 18.04.4 LTS) / x86_64 | OK | OK | OK | |||||||
| tokay1 | Windows Server 2012 R2 Standard / x64 | OK | OK | WARNINGS | [ OK ] | |||||||
| merida1 | OS X 10.11.6 El Capitan / x86_64 | OK | OK | OK | OK |
| Package: affycomp |
| Version: 1.62.0 |
| Command: rm -rf affycomp.buildbin-libdir && mkdir affycomp.buildbin-libdir && C:\Users\biocbuild\bbs-3.10-bioc\R\bin\R.exe CMD INSTALL --merge-multiarch --build --library=affycomp.buildbin-libdir affycomp_1.62.0.tar.gz |
| StartedAt: 2020-04-15 08:08:03 -0400 (Wed, 15 Apr 2020) |
| EndedAt: 2020-04-15 08:08:24 -0400 (Wed, 15 Apr 2020) |
| EllapsedTime: 20.4 seconds |
| RetCode: 0 |
| Status: OK |
| PackageFile: affycomp_1.62.0.zip |
| PackageFileSize: 7.919 MiB |
##############################################################################
##############################################################################
###
### Running command:
###
### rm -rf affycomp.buildbin-libdir && mkdir affycomp.buildbin-libdir && C:\Users\biocbuild\bbs-3.10-bioc\R\bin\R.exe CMD INSTALL --merge-multiarch --build --library=affycomp.buildbin-libdir affycomp_1.62.0.tar.gz
###
##############################################################################
##############################################################################
install for i386
* installing *source* package 'affycomp' ...
** using staged installation
** R
** data
** inst
** byte-compile and prepare package for lazy loading
** help
*** installing help indices
converting help for package 'affycomp'
finding HTML links ... done
SD html
affycomp.compfigs.auxiliary html
affycomp.figures.auxiliary html
affycomp.table html
affycompPlot html
assessAll html
assessDilution html
assessSD html
assessSpikeIn html
assessSpikeIn2 html
dilution.phenodata html
exprset.log html
hgu133a.spikein.phenodata html
mas5.assessment html
Rd warning: C:/Users/biocbuild/bbs-3.10-bioc/tmpdir/RtmpCI9iRP/R.INSTALL255c5bf74fc7/affycomp/man/mas5.assessment.Rd:10: file link 'ExpressionSet' in package 'Biobase' does not exist and so has been treated as a topic
readin html
remove.hgu133a.xhyb html
spikein.phenodata html
xhyb html
** building package indices
** installing vignettes
** testing if installed package can be loaded from temporary location
** testing if installed package can be loaded from final location
** testing if installed package keeps a record of temporary installation path
install for x64
* installing *source* package 'affycomp' ...
** testing if installed package can be loaded
* MD5 sums
packaged installation of 'affycomp' as affycomp_1.62.0.zip
* DONE (affycomp)