| Back to Multiple platform build/check report for BioC 3.10 |
|
This page was generated on 2020-04-15 12:29:00 -0400 (Wed, 15 Apr 2020).
| Package 1719/1823 | Hostname | OS / Arch | INSTALL | BUILD | CHECK | BUILD BIN | ||||||
| TFHAZ 1.8.0 Alberto Marchesi
| malbec1 | Linux (Ubuntu 18.04.4 LTS) / x86_64 | OK | OK | OK | |||||||
| tokay1 | Windows Server 2012 R2 Standard / x64 | OK | OK | OK | [ OK ] | |||||||
| merida1 | OS X 10.11.6 El Capitan / x86_64 | OK | OK | OK | OK |
| Package: TFHAZ |
| Version: 1.8.0 |
| Command: rm -rf TFHAZ.buildbin-libdir && mkdir TFHAZ.buildbin-libdir && C:\Users\biocbuild\bbs-3.10-bioc\R\bin\R.exe CMD INSTALL --merge-multiarch --build --library=TFHAZ.buildbin-libdir TFHAZ_1.8.0.tar.gz |
| StartedAt: 2020-04-15 09:48:57 -0400 (Wed, 15 Apr 2020) |
| EndedAt: 2020-04-15 09:49:42 -0400 (Wed, 15 Apr 2020) |
| EllapsedTime: 45.0 seconds |
| RetCode: 0 |
| Status: OK |
| PackageFile: TFHAZ_1.8.0.zip |
| PackageFileSize: 3.297 MiB |
##############################################################################
##############################################################################
###
### Running command:
###
### rm -rf TFHAZ.buildbin-libdir && mkdir TFHAZ.buildbin-libdir && C:\Users\biocbuild\bbs-3.10-bioc\R\bin\R.exe CMD INSTALL --merge-multiarch --build --library=TFHAZ.buildbin-libdir TFHAZ_1.8.0.tar.gz
###
##############################################################################
##############################################################################
install for i386
* installing *source* package 'TFHAZ' ...
** using staged installation
** R
** data
*** moving datasets to lazyload DB
** inst
** byte-compile and prepare package for lazy loading
** help
*** installing help indices
converting help for package 'TFHAZ'
finding HTML links ... done
Ishikawa html
TF_acc_w_0 html
TF_dense_w_0 html
TF_dense_w_10 html
TF_dense_w_100 html
TF_dense_w_1000 html
TF_dense_w_10000 html
accumulation html
base_dense_w_10 html
dense_zones html
high_accumulation_zones html
n_zones_PCA html
plot_accumulation html
plot_n_zones html
reg_dense_w_10 html
w_analysis html
** building package indices
** installing vignettes
** testing if installed package can be loaded from temporary location
** testing if installed package can be loaded from final location
** testing if installed package keeps a record of temporary installation path
install for x64
* installing *source* package 'TFHAZ' ...
** testing if installed package can be loaded
* MD5 sums
packaged installation of 'TFHAZ' as TFHAZ_1.8.0.zip
* DONE (TFHAZ)