| Back to Multiple platform build/check report for BioC 3.10 |
|
This page was generated on 2020-04-15 12:19:39 -0400 (Wed, 15 Apr 2020).
| Package 1712/1823 | Hostname | OS / Arch | INSTALL | BUILD | CHECK | BUILD BIN | ||||||
| TDARACNE 1.36.0 Zoppoli Pietro
| malbec1 | Linux (Ubuntu 18.04.4 LTS) / x86_64 | OK | OK | OK | |||||||
| tokay1 | Windows Server 2012 R2 Standard / x64 | OK | OK | OK | [ OK ] | |||||||
| merida1 | OS X 10.11.6 El Capitan / x86_64 | OK | OK | OK | OK |
| Package: TDARACNE |
| Version: 1.36.0 |
| Command: rm -rf TDARACNE.buildbin-libdir && mkdir TDARACNE.buildbin-libdir && C:\Users\biocbuild\bbs-3.10-bioc\R\bin\R.exe CMD INSTALL --merge-multiarch --build --library=TDARACNE.buildbin-libdir TDARACNE_1.36.0.tar.gz |
| StartedAt: 2020-04-15 09:48:33 -0400 (Wed, 15 Apr 2020) |
| EndedAt: 2020-04-15 09:49:18 -0400 (Wed, 15 Apr 2020) |
| EllapsedTime: 44.8 seconds |
| RetCode: 0 |
| Status: OK |
| PackageFile: TDARACNE_1.36.0.zip |
| PackageFileSize: 179.3 KiB |
##############################################################################
##############################################################################
###
### Running command:
###
### rm -rf TDARACNE.buildbin-libdir && mkdir TDARACNE.buildbin-libdir && C:\Users\biocbuild\bbs-3.10-bioc\R\bin\R.exe CMD INSTALL --merge-multiarch --build --library=TDARACNE.buildbin-libdir TDARACNE_1.36.0.tar.gz
###
##############################################################################
##############################################################################
install for i386
* installing *source* package 'TDARACNE' ...
** using staged installation
** R
** data
** inst
** byte-compile and prepare package for lazy loading
** help
*** installing help indices
converting help for package 'TDARACNE'
finding HTML links ... done
CalcMI_time2 html
DPI2_TDAracne html
DPI_TDAracne html
IcEfx html
MItimeIcE2 html
MItimeThreshperm2 html
PercentileC html
RangeRank2 html
TDARACNE html
TDARACNEdataPublished html
ToTheGraph_timeShiftmax2 html
bootstrap html
dataIRMAoff html
dataIRMAon html
dataSOSmean html
dataYeast html
plotRgraphviz html
saveTime html
threshIRMAon html
threshSOSmean html
threshYeast html
** building package indices
** installing vignettes
** testing if installed package can be loaded from temporary location
** testing if installed package can be loaded from final location
** testing if installed package keeps a record of temporary installation path
install for x64
* installing *source* package 'TDARACNE' ...
** testing if installed package can be loaded
* MD5 sums
packaged installation of 'TDARACNE' as TDARACNE_1.36.0.zip
* DONE (TDARACNE)