| Back to Multiple platform build/check report for BioC 3.10 |
|
This page was generated on 2020-04-15 12:10:36 -0400 (Wed, 15 Apr 2020).
| Package 1692/1823 | Hostname | OS / Arch | INSTALL | BUILD | CHECK | BUILD BIN | ||||||
| SWATH2stats 1.16.0 Peter Blattmann
| malbec1 | Linux (Ubuntu 18.04.4 LTS) / x86_64 | OK | OK | [ OK ] | |||||||
| tokay1 | Windows Server 2012 R2 Standard / x64 | OK | OK | OK | OK | |||||||
| merida1 | OS X 10.11.6 El Capitan / x86_64 | OK | OK | OK | OK |
| Package: SWATH2stats |
| Version: 1.16.0 |
| Command: /home/biocbuild/bbs-3.10-bioc/R/bin/R CMD check --install=check:SWATH2stats.install-out.txt --library=/home/biocbuild/bbs-3.10-bioc/R/library --no-vignettes --timings SWATH2stats_1.16.0.tar.gz |
| StartedAt: 2020-04-15 03:24:00 -0400 (Wed, 15 Apr 2020) |
| EndedAt: 2020-04-15 03:26:21 -0400 (Wed, 15 Apr 2020) |
| EllapsedTime: 140.6 seconds |
| RetCode: 0 |
| Status: OK |
| CheckDir: SWATH2stats.Rcheck |
| Warnings: 0 |
##############################################################################
##############################################################################
###
### Running command:
###
### /home/biocbuild/bbs-3.10-bioc/R/bin/R CMD check --install=check:SWATH2stats.install-out.txt --library=/home/biocbuild/bbs-3.10-bioc/R/library --no-vignettes --timings SWATH2stats_1.16.0.tar.gz
###
##############################################################################
##############################################################################
* using log directory ‘/home/biocbuild/bbs-3.10-bioc/meat/SWATH2stats.Rcheck’
* using R version 3.6.3 (2020-02-29)
* using platform: x86_64-pc-linux-gnu (64-bit)
* using session charset: UTF-8
* using option ‘--no-vignettes’
* checking for file ‘SWATH2stats/DESCRIPTION’ ... OK
* checking extension type ... Package
* this is package ‘SWATH2stats’ version ‘1.16.0’
* checking package namespace information ... OK
* checking package dependencies ... NOTE
Packages which this enhances but not available for checking:
'imsbInfer', 'aLFQ'
* checking if this is a source package ... OK
* checking if there is a namespace ... OK
* checking for hidden files and directories ... OK
* checking for portable file names ... OK
* checking for sufficient/correct file permissions ... OK
* checking whether package ‘SWATH2stats’ can be installed ... OK
* checking installed package size ... OK
* checking package directory ... OK
* checking ‘build’ directory ... OK
* checking DESCRIPTION meta-information ... OK
* checking top-level files ... OK
* checking for left-over files ... OK
* checking index information ... OK
* checking package subdirectories ... OK
* checking R files for non-ASCII characters ... OK
* checking R files for syntax errors ... OK
* checking whether the package can be loaded ... OK
* checking whether the package can be loaded with stated dependencies ... OK
* checking whether the package can be unloaded cleanly ... OK
* checking whether the namespace can be loaded with stated dependencies ... OK
* checking whether the namespace can be unloaded cleanly ... OK
* checking dependencies in R code ... OK
* checking S3 generic/method consistency ... OK
* checking replacement functions ... OK
* checking foreign function calls ... OK
* checking R code for possible problems ... OK
* checking Rd files ... OK
* checking Rd metadata ... OK
* checking Rd cross-references ... OK
* checking for missing documentation entries ... OK
* checking for code/documentation mismatches ... OK
* checking Rd \usage sections ... OK
* checking Rd contents ... OK
* checking for unstated dependencies in examples ... OK
* checking contents of ‘data’ directory ... OK
* checking data for non-ASCII characters ... OK
* checking data for ASCII and uncompressed saves ... OK
* checking files in ‘vignettes’ ... OK
* checking examples ... OK
Examples with CPU or elapsed time > 5s
user system elapsed
filter_on_min_peptides 5.744 0.040 1.021
filter_on_max_peptides 5.736 0.036 1.302
* checking for unstated dependencies in ‘tests’ ... OK
* checking tests ...
Running ‘test-all.R’
OK
* checking for unstated dependencies in vignettes ... OK
* checking package vignettes in ‘inst/doc’ ... OK
* checking running R code from vignettes ... SKIPPED
* checking re-building of vignette outputs ... SKIPPED
* checking PDF version of manual ... OK
* DONE
Status: 1 NOTE
See
‘/home/biocbuild/bbs-3.10-bioc/meat/SWATH2stats.Rcheck/00check.log’
for details.
SWATH2stats.Rcheck/00install.out
############################################################################## ############################################################################## ### ### Running command: ### ### /home/biocbuild/bbs-3.10-bioc/R/bin/R CMD INSTALL SWATH2stats ### ############################################################################## ############################################################################## * installing to library ‘/home/biocbuild/bbs-3.10-bioc/R/library’ * installing *source* package ‘SWATH2stats’ ... ** using staged installation ** R ** data ** inst ** byte-compile and prepare package for lazy loading ** help *** installing help indices ** building package indices ** installing vignettes ** testing if installed package can be loaded from temporary location ** testing if installed package can be loaded from final location ** testing if installed package keeps a record of temporary installation path * DONE (SWATH2stats)
SWATH2stats.Rcheck/tests/test-all.Rout
R version 3.6.3 (2020-02-29) -- "Holding the Windsock"
Copyright (C) 2020 The R Foundation for Statistical Computing
Platform: x86_64-pc-linux-gnu (64-bit)
R is free software and comes with ABSOLUTELY NO WARRANTY.
You are welcome to redistribute it under certain conditions.
Type 'license()' or 'licence()' for distribution details.
R is a collaborative project with many contributors.
Type 'contributors()' for more information and
'citation()' on how to cite R or R packages in publications.
Type 'demo()' for some demos, 'help()' for on-line help, or
'help.start()' for an HTML browser interface to help.
Type 'q()' to quit R.
> library(testthat)
> test_check("SWATH2stats")
Loading required package: SWATH2stats
[1] "peterb_J131223_054"
[1] "peterb_L150425_011_SW"
[1] "peterb_L150514_002_SW"
══ testthat results ═══════════════════════════════════════════════════════════
[ OK: 113 | SKIPPED: 0 | WARNINGS: 13 | FAILED: 0 ]
>
> proc.time()
user system elapsed
25.636 0.288 24.036
SWATH2stats.Rcheck/SWATH2stats-Ex.timings
| name | user | system | elapsed | |
| JPP_update | 0.108 | 0.000 | 0.112 | |
| add_genesymbol | 0.008 | 0.000 | 0.008 | |
| assess_decoy_rate | 0.140 | 0.000 | 0.139 | |
| assess_fdr_byrun | 0.164 | 0.000 | 0.161 | |
| assess_fdr_overall | 0.152 | 0.000 | 0.153 | |
| convert4MSstats | 0.596 | 0.004 | 0.600 | |
| convert4PECA | 0.252 | 0.004 | 0.255 | |
| convert4aLFQ | 0.848 | 0.008 | 0.858 | |
| convert4mapDIA | 0.516 | 0.004 | 0.527 | |
| convert4pythonscript | 0.132 | 0.000 | 0.135 | |
| convert_protein_ids | 0.848 | 0.008 | 3.427 | |
| count_analytes | 0.204 | 0.004 | 0.207 | |
| disaggregate | 0.540 | 0.024 | 0.566 | |
| filter_all_peptides | 0.228 | 0.000 | 0.230 | |
| filter_mscore_all | 0.928 | 0.008 | 0.424 | |
| filter_mscore_fdr | 0.612 | 0.000 | 0.613 | |
| filter_on_max_peptides | 5.736 | 0.036 | 1.302 | |
| filter_on_min_peptides | 5.744 | 0.040 | 1.021 | |
| filter_proteotypic_peptides | 0.184 | 0.000 | 0.186 | |
| import_data | 0.620 | 0.020 | 0.646 | |
| load_mart | 0.428 | 0.008 | 2.356 | |
| mscore4assayfdr | 0.36 | 0.00 | 0.36 | |
| mscore4pepfdr | 0.444 | 0.000 | 0.444 | |
| mscore4protfdr | 0.232 | 0.000 | 0.229 | |
| plot.fdr_cube | 0.228 | 0.000 | 0.230 | |
| plot.fdr_table | 0.228 | 0.000 | 0.230 | |
| plot_correlation_between_samples | 0.588 | 0.004 | 0.599 | |
| plot_variation | 0.548 | 0.016 | 0.564 | |
| plot_variation_vs_total | 0.420 | 0.020 | 0.443 | |
| reduce_OpenSWATH_output | 0.116 | 0.000 | 0.113 | |
| removeDecoyProteins | 0.136 | 0.000 | 0.136 | |
| sample_annotation | 0.120 | 0.000 | 0.119 | |
| transform_MSstats_OpenSWATH | 0.004 | 0.000 | 0.004 | |
| unifyProteinGroupLabels | 0.124 | 0.000 | 0.125 | |
| write_matrix_peptides | 0.136 | 0.000 | 0.134 | |
| write_matrix_proteins | 0.424 | 0.000 | 0.425 | |