| Back to Multiple platform build/check report for BioC 3.10 |
|
This page was generated on 2020-04-15 12:25:41 -0400 (Wed, 15 Apr 2020).
| Package 1625/1823 | Hostname | OS / Arch | INSTALL | BUILD | CHECK | BUILD BIN | ||||||
| SNPhood 1.16.0 Christian Arnold
| malbec1 | Linux (Ubuntu 18.04.4 LTS) / x86_64 | OK | OK | OK | |||||||
| tokay1 | Windows Server 2012 R2 Standard / x64 | OK | OK | WARNINGS | [ OK ] | |||||||
| merida1 | OS X 10.11.6 El Capitan / x86_64 | OK | OK | OK | OK |
| Package: SNPhood |
| Version: 1.16.0 |
| Command: rm -rf SNPhood.buildbin-libdir && mkdir SNPhood.buildbin-libdir && C:\Users\biocbuild\bbs-3.10-bioc\R\bin\R.exe CMD INSTALL --merge-multiarch --build --library=SNPhood.buildbin-libdir SNPhood_1.16.0.tar.gz |
| StartedAt: 2020-04-15 09:43:32 -0400 (Wed, 15 Apr 2020) |
| EndedAt: 2020-04-15 09:45:20 -0400 (Wed, 15 Apr 2020) |
| EllapsedTime: 108.0 seconds |
| RetCode: 0 |
| Status: OK |
| PackageFile: SNPhood_1.16.0.zip |
| PackageFileSize: 6.887 MiB |
##############################################################################
##############################################################################
###
### Running command:
###
### rm -rf SNPhood.buildbin-libdir && mkdir SNPhood.buildbin-libdir && C:\Users\biocbuild\bbs-3.10-bioc\R\bin\R.exe CMD INSTALL --merge-multiarch --build --library=SNPhood.buildbin-libdir SNPhood_1.16.0.tar.gz
###
##############################################################################
##############################################################################
install for i386
* installing *source* package 'SNPhood' ...
** using staged installation
** R
** data
*** moving datasets to lazyload DB
** inst
** byte-compile and prepare package for lazy loading
** help
*** installing help indices
converting help for package 'SNPhood'
finding HTML links ... done
SNPhood-class html
SNPhood html
SNPhood.o html
analyzeSNPhood html
finding level-2 HTML links ... done
annotation-methods html
annotationBins html
annotationBins2 html
annotationDatasets html
annotationReadGroups html
annotationRegions html
associateGenotypes html
bins-methods html
changeObjectIntegrityChecking html
collectFiles html
Rd warning: C:/Users/biocbuild/bbs-3.10-bioc/tmpdir/RtmpS0HNst/R.INSTALL289059a57b9a/SNPhood/man/collectFiles.Rd:46: file link 'path' in package 'Rsamtools' does not exist and so has been treated as a topic
convertToAllelicFractions html
counts-method html
datasets-methods html
deleteDatasets html
deleteReadGroups html
deleteRegions html
enrichment-methods html
getDefaultParameterList html
mergeReadGroups html
parameters-methods html
plotAllelicBiasResults html
plotAllelicBiasResultsOverview html
plotAndCalculateCorrelationDatasets html
plotAndCalculateWeakAndStrongGenotype html
plotAndClusterMatrix html
plotAndSummarizeAllelicBiasTest html
plotBinCounts html
plotClusterAverage html
plotFDRResults html
plotGenotypesPerCluster html
plotGenotypesPerSNP html
plotRegionCounts html
readGroups-methods html
regions-methods html
renameBins html
renameDatasets html
renameReadGroups html
renameRegions html
results html
testForAllelicBiases html
** building package indices
** installing vignettes
** testing if installed package can be loaded from temporary location
** testing if installed package can be loaded from final location
** testing if installed package keeps a record of temporary installation path
install for x64
* installing *source* package 'SNPhood' ...
** testing if installed package can be loaded
* MD5 sums
packaged installation of 'SNPhood' as SNPhood_1.16.0.zip
* DONE (SNPhood)