| Back to Multiple platform build/check report for BioC 3.10 |
|
This page was generated on 2020-04-15 12:28:49 -0400 (Wed, 15 Apr 2020).
| Package 1503/1823 | Hostname | OS / Arch | INSTALL | BUILD | CHECK | BUILD BIN | ||||||
| RVS 1.8.0 Thomas Sherman
| malbec1 | Linux (Ubuntu 18.04.4 LTS) / x86_64 | OK | OK | OK | |||||||
| tokay1 | Windows Server 2012 R2 Standard / x64 | OK | OK | [ OK ] | OK | |||||||
| merida1 | OS X 10.11.6 El Capitan / x86_64 | OK | OK | OK | OK |
| Package: RVS |
| Version: 1.8.0 |
| Command: C:\Users\biocbuild\bbs-3.10-bioc\R\bin\R.exe CMD check --force-multiarch --install=check:RVS.install-out.txt --library=C:\Users\biocbuild\bbs-3.10-bioc\R\library --no-vignettes --timings RVS_1.8.0.tar.gz |
| StartedAt: 2020-04-15 06:21:24 -0400 (Wed, 15 Apr 2020) |
| EndedAt: 2020-04-15 06:27:00 -0400 (Wed, 15 Apr 2020) |
| EllapsedTime: 335.9 seconds |
| RetCode: 0 |
| Status: OK |
| CheckDir: RVS.Rcheck |
| Warnings: 0 |
##############################################################################
##############################################################################
###
### Running command:
###
### C:\Users\biocbuild\bbs-3.10-bioc\R\bin\R.exe CMD check --force-multiarch --install=check:RVS.install-out.txt --library=C:\Users\biocbuild\bbs-3.10-bioc\R\library --no-vignettes --timings RVS_1.8.0.tar.gz
###
##############################################################################
##############################################################################
* using log directory 'C:/Users/biocbuild/bbs-3.10-bioc/meat/RVS.Rcheck'
* using R version 3.6.3 (2020-02-29)
* using platform: x86_64-w64-mingw32 (64-bit)
* using session charset: ISO8859-1
* using option '--no-vignettes'
* checking for file 'RVS/DESCRIPTION' ... OK
* checking extension type ... Package
* this is package 'RVS' version '1.8.0'
* package encoding: UTF-8
* checking package namespace information ... OK
* checking package dependencies ... OK
* checking if this is a source package ... OK
* checking if there is a namespace ... OK
* checking for hidden files and directories ... OK
* checking for portable file names ... OK
* checking whether package 'RVS' can be installed ... OK
* checking installed package size ... OK
* checking package directory ... OK
* checking 'build' directory ... OK
* checking DESCRIPTION meta-information ... OK
* checking top-level files ... OK
* checking for left-over files ... OK
* checking index information ... OK
* checking package subdirectories ... OK
* checking R files for non-ASCII characters ... OK
* checking R files for syntax errors ... OK
* loading checks for arch 'i386'
** checking whether the package can be loaded ... OK
** checking whether the package can be loaded with stated dependencies ... OK
** checking whether the package can be unloaded cleanly ... OK
** checking whether the namespace can be loaded with stated dependencies ... OK
** checking whether the namespace can be unloaded cleanly ... OK
* loading checks for arch 'x64'
** checking whether the package can be loaded ... OK
** checking whether the package can be loaded with stated dependencies ... OK
** checking whether the package can be unloaded cleanly ... OK
** checking whether the namespace can be loaded with stated dependencies ... OK
** checking whether the namespace can be unloaded cleanly ... OK
* checking dependencies in R code ... OK
* checking S3 generic/method consistency ... OK
* checking replacement functions ... OK
* checking foreign function calls ... OK
* checking R code for possible problems ... OK
* checking Rd files ... OK
* checking Rd metadata ... OK
* checking Rd cross-references ... OK
* checking for missing documentation entries ... OK
* checking for code/documentation mismatches ... OK
* checking Rd \usage sections ... OK
* checking Rd contents ... OK
* checking for unstated dependencies in examples ... OK
* checking contents of 'data' directory ... OK
* checking data for non-ASCII characters ... OK
* checking data for ASCII and uncompressed saves ... OK
* checking files in 'vignettes' ... OK
* checking examples ...
** running examples for arch 'i386' ... OK
Examples with CPU or elapsed time > 5s
user system elapsed
RVgene 10.12 0.78 11.2
** running examples for arch 'x64' ... OK
Examples with CPU or elapsed time > 5s
user system elapsed
RVgene 11.33 0.43 12.21
* checking for unstated dependencies in 'tests' ... OK
* checking tests ...
** running tests for arch 'i386' ...
Running 'testthat.R'
OK
** running tests for arch 'x64' ...
Running 'testthat.R'
OK
* checking for unstated dependencies in vignettes ... OK
* checking package vignettes in 'inst/doc' ... OK
* checking running R code from vignettes ... SKIPPED
* checking re-building of vignette outputs ... SKIPPED
* checking PDF version of manual ... OK
* DONE
Status: OK
RVS.Rcheck/00install.out
##############################################################################
##############################################################################
###
### Running command:
###
### C:\cygwin\bin\curl.exe -O https://malbec1.bioconductor.org/BBS/3.10/bioc/src/contrib/RVS_1.8.0.tar.gz && rm -rf RVS.buildbin-libdir && mkdir RVS.buildbin-libdir && C:\Users\biocbuild\bbs-3.10-bioc\R\bin\R.exe CMD INSTALL --merge-multiarch --build --library=RVS.buildbin-libdir RVS_1.8.0.tar.gz && C:\Users\biocbuild\bbs-3.10-bioc\R\bin\R.exe CMD INSTALL RVS_1.8.0.zip && rm RVS_1.8.0.tar.gz RVS_1.8.0.zip
###
##############################################################################
##############################################################################
% Total % Received % Xferd Average Speed Time Time Time Current
Dload Upload Total Spent Left Speed
0 0 0 0 0 0 0 0 --:--:-- --:--:-- --:--:-- 0
100 753k 100 753k 0 0 4114k 0 --:--:-- --:--:-- --:--:-- 4207k
install for i386
* installing *source* package 'RVS' ...
** using staged installation
** R
** data
** inst
** byte-compile and prepare package for lazy loading
** help
*** installing help indices
converting help for package 'RVS'
finding HTML links ... done
ComputeKinshipPropCoef-methods html
GeneDrop html
RVS html
RVgene html
RVsharing-methods html
SnpMatrixToCount html
ancestorDistance html
areMating html
checkArgs html
computePFU html
computePhiVec html
convertMatrix html
createNetwork html
denomProb html
enrichmentPValue html
ex.ped.mat html
exactSharingProb html
extract_carriers html
fam15157.vcf html
fam28003.vcf html
founderOccurence html
get.psubset html
inferNumAlleles html
inferTheta html
isDescendant html
marginalProb html
monteCarloSharingProb html
multipleFamilyPValue html
multipleVariantPValue html
numerProb html
oldArgs html
oneFounderSharingProb html
oneFounderSharingProbSplitting html
ped2trio html
processPedigree-methods html
relatedFoundersCorrection html
runMonteCarlo html
samplePedigrees html
simulatePedigree html
snpMat html
twoFounderSharingProb html
** building package indices
** installing vignettes
** testing if installed package can be loaded from temporary location
** testing if installed package can be loaded from final location
** testing if installed package keeps a record of temporary installation path
install for x64
* installing *source* package 'RVS' ...
** testing if installed package can be loaded
* MD5 sums
packaged installation of 'RVS' as RVS_1.8.0.zip
* DONE (RVS)
* installing to library 'C:/Users/biocbuild/bbs-3.10-bioc/R/library'
package 'RVS' successfully unpacked and MD5 sums checked
|
RVS.Rcheck/tests_i386/testthat.Rout
R version 3.6.3 (2020-02-29) -- "Holding the Windsock"
Copyright (C) 2020 The R Foundation for Statistical Computing
Platform: i386-w64-mingw32/i386 (32-bit)
R is free software and comes with ABSOLUTELY NO WARRANTY.
You are welcome to redistribute it under certain conditions.
Type 'license()' or 'licence()' for distribution details.
R is a collaborative project with many contributors.
Type 'contributors()' for more information and
'citation()' on how to cite R or R packages in publications.
Type 'demo()' for some demos, 'help()' for on-line help, or
'help.start()' for an HTML browser interface to help.
Type 'q()' to quit R.
> library(testthat)
> library(RVS)
>
> test_check('RVS')
Founder 2 subped size 20
Founder 4 subped size 11
Founder 5 subped size 16
Founder 9 subped size 5
Founder 13 subped size 5
Founder 14 subped size 3
Founder 16 subped size 5
[1] 0.01873 0.49970 0.48150
== testthat results ===========================================================
[ OK: 111 | SKIPPED: 0 | WARNINGS: 0 | FAILED: 0 ]
>
> proc.time()
user system elapsed
87.06 0.48 88.23
|
RVS.Rcheck/tests_x64/testthat.Rout
R version 3.6.3 (2020-02-29) -- "Holding the Windsock"
Copyright (C) 2020 The R Foundation for Statistical Computing
Platform: x86_64-w64-mingw32/x64 (64-bit)
R is free software and comes with ABSOLUTELY NO WARRANTY.
You are welcome to redistribute it under certain conditions.
Type 'license()' or 'licence()' for distribution details.
R is a collaborative project with many contributors.
Type 'contributors()' for more information and
'citation()' on how to cite R or R packages in publications.
Type 'demo()' for some demos, 'help()' for on-line help, or
'help.start()' for an HTML browser interface to help.
Type 'q()' to quit R.
> library(testthat)
> library(RVS)
>
> test_check('RVS')
Founder 2 subped size 20
Founder 4 subped size 11
Founder 5 subped size 16
Founder 9 subped size 5
Founder 13 subped size 5
Founder 14 subped size 3
Founder 16 subped size 5
[1] 0.01873 0.49970 0.48150
== testthat results ===========================================================
[ OK: 111 | SKIPPED: 0 | WARNINGS: 0 | FAILED: 0 ]
>
> proc.time()
user system elapsed
97.67 0.25 97.95
|
|
RVS.Rcheck/examples_i386/RVS-Ex.timings
|
RVS.Rcheck/examples_x64/RVS-Ex.timings
|