| Back to Multiple platform build/check report for BioC 3.10 |
|
This page was generated on 2020-04-15 12:27:53 -0400 (Wed, 15 Apr 2020).
| Package 1492/1823 | Hostname | OS / Arch | INSTALL | BUILD | CHECK | BUILD BIN | ||||||
| RTNduals 1.10.0 Mauro Castro
| malbec1 | Linux (Ubuntu 18.04.4 LTS) / x86_64 | OK | OK | OK | |||||||
| tokay1 | Windows Server 2012 R2 Standard / x64 | OK | OK | [ OK ] | OK | |||||||
| merida1 | OS X 10.11.6 El Capitan / x86_64 | OK | OK | OK | OK |
| Package: RTNduals |
| Version: 1.10.0 |
| Command: C:\Users\biocbuild\bbs-3.10-bioc\R\bin\R.exe CMD check --force-multiarch --install=check:RTNduals.install-out.txt --library=C:\Users\biocbuild\bbs-3.10-bioc\R\library --no-vignettes --timings RTNduals_1.10.0.tar.gz |
| StartedAt: 2020-04-15 06:19:28 -0400 (Wed, 15 Apr 2020) |
| EndedAt: 2020-04-15 06:28:15 -0400 (Wed, 15 Apr 2020) |
| EllapsedTime: 526.7 seconds |
| RetCode: 0 |
| Status: OK |
| CheckDir: RTNduals.Rcheck |
| Warnings: 0 |
##############################################################################
##############################################################################
###
### Running command:
###
### C:\Users\biocbuild\bbs-3.10-bioc\R\bin\R.exe CMD check --force-multiarch --install=check:RTNduals.install-out.txt --library=C:\Users\biocbuild\bbs-3.10-bioc\R\library --no-vignettes --timings RTNduals_1.10.0.tar.gz
###
##############################################################################
##############################################################################
* using log directory 'C:/Users/biocbuild/bbs-3.10-bioc/meat/RTNduals.Rcheck'
* using R version 3.6.3 (2020-02-29)
* using platform: x86_64-w64-mingw32 (64-bit)
* using session charset: ISO8859-1
* using option '--no-vignettes'
* checking for file 'RTNduals/DESCRIPTION' ... OK
* checking extension type ... Package
* this is package 'RTNduals' version '1.10.0'
* package encoding: UTF-8
* checking package namespace information ... OK
* checking package dependencies ... OK
* checking if this is a source package ... OK
* checking if there is a namespace ... OK
* checking for hidden files and directories ... OK
* checking for portable file names ... OK
* checking whether package 'RTNduals' can be installed ... OK
* checking installed package size ... OK
* checking package directory ... OK
* checking 'build' directory ... OK
* checking DESCRIPTION meta-information ... OK
* checking top-level files ... OK
* checking for left-over files ... OK
* checking index information ... OK
* checking package subdirectories ... OK
* checking R files for non-ASCII characters ... OK
* checking R files for syntax errors ... OK
* loading checks for arch 'i386'
** checking whether the package can be loaded ... OK
** checking whether the package can be loaded with stated dependencies ... OK
** checking whether the package can be unloaded cleanly ... OK
** checking whether the namespace can be loaded with stated dependencies ... OK
** checking whether the namespace can be unloaded cleanly ... OK
* loading checks for arch 'x64'
** checking whether the package can be loaded ... OK
** checking whether the package can be loaded with stated dependencies ... OK
** checking whether the package can be unloaded cleanly ... OK
** checking whether the namespace can be loaded with stated dependencies ... OK
** checking whether the namespace can be unloaded cleanly ... OK
* checking dependencies in R code ... OK
* checking S3 generic/method consistency ... OK
* checking replacement functions ... OK
* checking foreign function calls ... OK
* checking R code for possible problems ... OK
* checking Rd files ... OK
* checking Rd metadata ... OK
* checking Rd cross-references ... OK
* checking for missing documentation entries ... OK
* checking for code/documentation mismatches ... OK
* checking Rd \usage sections ... OK
* checking Rd contents ... OK
* checking for unstated dependencies in examples ... OK
* checking files in 'vignettes' ... OK
* checking examples ...
** running examples for arch 'i386' ... OK
Examples with CPU or elapsed time > 5s
user system elapsed
mbrAssociation-methods 29.93 0.80 31.26
mbrPriorEvidenceTable-methods 28.94 0.67 29.62
tni2mbrPreprocess-methods 28.24 0.61 28.84
mbrPlotDuals 27.81 0.63 28.43
mbrGet-methods 27.25 0.42 27.68
** running examples for arch 'x64' ... OK
Examples with CPU or elapsed time > 5s
user system elapsed
mbrAssociation-methods 30.82 1.19 32.03
mbrPlotDuals 29.75 1.31 31.09
mbrPriorEvidenceTable-methods 27.38 1.12 28.50
mbrGet-methods 25.34 1.05 26.39
tni2mbrPreprocess-methods 23.90 0.99 24.89
* checking for unstated dependencies in 'tests' ... OK
* checking tests ...
** running tests for arch 'i386' ...
Running 'runTests.R'
OK
** running tests for arch 'x64' ...
Running 'runTests.R'
OK
* checking for unstated dependencies in vignettes ... OK
* checking package vignettes in 'inst/doc' ... OK
* checking running R code from vignettes ... SKIPPED
* checking re-building of vignette outputs ... SKIPPED
* checking PDF version of manual ... OK
* DONE
Status: OK
RTNduals.Rcheck/00install.out
##############################################################################
##############################################################################
###
### Running command:
###
### C:\cygwin\bin\curl.exe -O https://malbec1.bioconductor.org/BBS/3.10/bioc/src/contrib/RTNduals_1.10.0.tar.gz && rm -rf RTNduals.buildbin-libdir && mkdir RTNduals.buildbin-libdir && C:\Users\biocbuild\bbs-3.10-bioc\R\bin\R.exe CMD INSTALL --merge-multiarch --build --library=RTNduals.buildbin-libdir RTNduals_1.10.0.tar.gz && C:\Users\biocbuild\bbs-3.10-bioc\R\bin\R.exe CMD INSTALL RTNduals_1.10.0.zip && rm RTNduals_1.10.0.tar.gz RTNduals_1.10.0.zip
###
##############################################################################
##############################################################################
% Total % Received % Xferd Average Speed Time Time Time Current
Dload Upload Total Spent Left Speed
0 0 0 0 0 0 0 0 --:--:-- --:--:-- --:--:-- 0
100 193k 100 193k 0 0 4318k 0 --:--:-- --:--:-- --:--:-- 4708k
install for i386
* installing *source* package 'RTNduals' ...
** using staged installation
** R
** inst
** byte-compile and prepare package for lazy loading
** help
*** installing help indices
converting help for package 'RTNduals'
finding HTML links ... done
MBR-class html
RTNduals-package html
mbrAssociation-methods html
mbrGet-methods html
mbrPlotDuals html
mbrPlotInteraction html
mbrPriorEvidenceTable-methods html
tni2mbrPreprocess-methods html
** building package indices
** installing vignettes
** testing if installed package can be loaded from temporary location
** testing if installed package can be loaded from final location
** testing if installed package keeps a record of temporary installation path
install for x64
* installing *source* package 'RTNduals' ...
** testing if installed package can be loaded
* MD5 sums
packaged installation of 'RTNduals' as RTNduals_1.10.0.zip
* DONE (RTNduals)
* installing to library 'C:/Users/biocbuild/bbs-3.10-bioc/R/library'
package 'RTNduals' successfully unpacked and MD5 sums checked
|
RTNduals.Rcheck/tests_i386/runTests.Rout
R version 3.6.3 (2020-02-29) -- "Holding the Windsock"
Copyright (C) 2020 The R Foundation for Statistical Computing
Platform: i386-w64-mingw32/i386 (32-bit)
R is free software and comes with ABSOLUTELY NO WARRANTY.
You are welcome to redistribute it under certain conditions.
Type 'license()' or 'licence()' for distribution details.
R is a collaborative project with many contributors.
Type 'contributors()' for more information and
'citation()' on how to cite R or R packages in publications.
Type 'demo()' for some demos, 'help()' for on-line help, or
'help.start()' for an HTML browser interface to help.
Type 'q()' to quit R.
> BiocGenerics:::testPackage("RTNduals")
-Preprocessing for input data...
--Mapping 'expData' to 'rowAnnotation'...
--Checking 'regulatoryElements' in 'rowAnnotation'...
--Checking 'expData'...
--Checking 'regulatoryElements' in 'expData'...
-Preprocessing complete!
-Performing permutation analysis...
--For 2 regulons...
|
| | 0%
|
|======= | 10%
|
|============== | 20%
|
|===================== | 30%
|
|============================ | 40%
|
|=================================== | 50%
|
|========================================== | 60%
|
|================================================= | 70%
|
|======================================================== | 80%
|
|=============================================================== | 90%
|
|======================================================================| 100%
-Permutation analysis complete!
-Performing bootstrap analysis...
--For 2 regulons...
|
| | 0%
|
|======= | 10%
|
|============== | 20%
|
|===================== | 30%
|
|============================ | 40%
|
|=================================== | 50%
|
|========================================== | 60%
|
|================================================= | 70%
|
|======================================================== | 80%
|
|=============================================================== | 90%
|
|======================================================================| 100%
-Bootstrap analysis complete!
-Applying dpi filter...
-DPI filter complete!
-Checking regulons and regulatory elements...
-Extrating inferred regulatory associations...
-Mapping network triplets between regulons...
-Assessing overlap between 2 regulons...
|
| | 0%
|
|======================================================================| 100%
-Assessing correlation between 2 regulons...
RUNIT TEST PROTOCOL -- Wed Apr 15 06:27:51 2020
***********************************************
Number of test functions: 1
Number of errors: 0
Number of failures: 0
1 Test Suite :
RTNduals RUnit Tests - 1 test function, 0 errors, 0 failures
Number of test functions: 1
Number of errors: 0
Number of failures: 0
Warning message:
No 'dual regulon' has been observed for the input parameters.
>
> proc.time()
user system elapsed
17.01 1.18 18.20
|
RTNduals.Rcheck/tests_x64/runTests.Rout
R version 3.6.3 (2020-02-29) -- "Holding the Windsock"
Copyright (C) 2020 The R Foundation for Statistical Computing
Platform: x86_64-w64-mingw32/x64 (64-bit)
R is free software and comes with ABSOLUTELY NO WARRANTY.
You are welcome to redistribute it under certain conditions.
Type 'license()' or 'licence()' for distribution details.
R is a collaborative project with many contributors.
Type 'contributors()' for more information and
'citation()' on how to cite R or R packages in publications.
Type 'demo()' for some demos, 'help()' for on-line help, or
'help.start()' for an HTML browser interface to help.
Type 'q()' to quit R.
> BiocGenerics:::testPackage("RTNduals")
-Preprocessing for input data...
--Mapping 'expData' to 'rowAnnotation'...
--Checking 'regulatoryElements' in 'rowAnnotation'...
--Checking 'expData'...
--Checking 'regulatoryElements' in 'expData'...
-Preprocessing complete!
-Performing permutation analysis...
--For 2 regulons...
|
| | 0%
|
|======= | 10%
|
|============== | 20%
|
|===================== | 30%
|
|============================ | 40%
|
|=================================== | 50%
|
|========================================== | 60%
|
|================================================= | 70%
|
|======================================================== | 80%
|
|=============================================================== | 90%
|
|======================================================================| 100%
-Permutation analysis complete!
-Performing bootstrap analysis...
--For 2 regulons...
|
| | 0%
|
|======= | 10%
|
|============== | 20%
|
|===================== | 30%
|
|============================ | 40%
|
|=================================== | 50%
|
|========================================== | 60%
|
|================================================= | 70%
|
|======================================================== | 80%
|
|=============================================================== | 90%
|
|======================================================================| 100%
-Bootstrap analysis complete!
-Applying dpi filter...
-DPI filter complete!
-Checking regulons and regulatory elements...
-Extrating inferred regulatory associations...
-Mapping network triplets between regulons...
-Assessing overlap between 2 regulons...
|
| | 0%
|
|======================================================================| 100%
-Assessing correlation between 2 regulons...
RUNIT TEST PROTOCOL -- Wed Apr 15 06:28:10 2020
***********************************************
Number of test functions: 1
Number of errors: 0
Number of failures: 0
1 Test Suite :
RTNduals RUnit Tests - 1 test function, 0 errors, 0 failures
Number of test functions: 1
Number of errors: 0
Number of failures: 0
Warning message:
No 'dual regulon' has been observed for the input parameters.
>
> proc.time()
user system elapsed
17.85 0.57 18.43
|
|
RTNduals.Rcheck/examples_i386/RTNduals-Ex.timings
|
RTNduals.Rcheck/examples_x64/RTNduals-Ex.timings
|