| Back to Multiple platform build/check report for BioC 3.10 |
|
This page was generated on 2020-04-15 12:28:15 -0400 (Wed, 15 Apr 2020).
| Package 1441/1823 | Hostname | OS / Arch | INSTALL | BUILD | CHECK | BUILD BIN | ||||||
| RIVER 1.10.0 Yungil Kim
| malbec1 | Linux (Ubuntu 18.04.4 LTS) / x86_64 | OK | OK | OK | |||||||
| tokay1 | Windows Server 2012 R2 Standard / x64 | [ OK ] | OK | WARNINGS | OK | |||||||
| merida1 | OS X 10.11.6 El Capitan / x86_64 | OK | OK | OK | OK |
| Package: RIVER |
| Version: 1.10.0 |
| Command: C:\cygwin\bin\curl.exe -O https://malbec1.bioconductor.org/BBS/3.10/bioc/src/contrib/RIVER_1.10.0.tar.gz && rm -rf RIVER.buildbin-libdir && mkdir RIVER.buildbin-libdir && C:\Users\biocbuild\bbs-3.10-bioc\R\bin\R.exe CMD INSTALL --merge-multiarch --build --library=RIVER.buildbin-libdir RIVER_1.10.0.tar.gz && C:\Users\biocbuild\bbs-3.10-bioc\R\bin\R.exe CMD INSTALL RIVER_1.10.0.zip && rm RIVER_1.10.0.tar.gz RIVER_1.10.0.zip |
| StartedAt: 2020-04-14 19:22:03 -0400 (Tue, 14 Apr 2020) |
| EndedAt: 2020-04-14 19:22:38 -0400 (Tue, 14 Apr 2020) |
| EllapsedTime: 35.5 seconds |
| RetCode: 0 |
| Status: OK |
##############################################################################
##############################################################################
###
### Running command:
###
### C:\cygwin\bin\curl.exe -O https://malbec1.bioconductor.org/BBS/3.10/bioc/src/contrib/RIVER_1.10.0.tar.gz && rm -rf RIVER.buildbin-libdir && mkdir RIVER.buildbin-libdir && C:\Users\biocbuild\bbs-3.10-bioc\R\bin\R.exe CMD INSTALL --merge-multiarch --build --library=RIVER.buildbin-libdir RIVER_1.10.0.tar.gz && C:\Users\biocbuild\bbs-3.10-bioc\R\bin\R.exe CMD INSTALL RIVER_1.10.0.zip && rm RIVER_1.10.0.tar.gz RIVER_1.10.0.zip
###
##############################################################################
##############################################################################
% Total % Received % Xferd Average Speed Time Time Time Current
Dload Upload Total Spent Left Speed
0 0 0 0 0 0 0 0 --:--:-- --:--:-- --:--:-- 0
52 1005k 52 528k 0 0 1181k 0 --:--:-- --:--:-- --:--:-- 1189k
100 1005k 100 1005k 0 0 2041k 0 --:--:-- --:--:-- --:--:-- 2051k
install for i386
* installing *source* package 'RIVER' ...
** using staged installation
** R
** inst
** byte-compile and prepare package for lazy loading
** help
*** installing help indices
converting help for package 'RIVER'
finding HTML links ... done
RIVER html
appRIVER html
evaRIVER html
getData html
Rd warning: C:/Users/biocbuild/bbs-3.10-bioc/tmpdir/Rtmpymf735/R.INSTALLc8c5c618fb/RIVER/man/getData.Rd:38: file link 'ExpressionSet' in package 'Biobase' does not exist and so has been treated as a topic
getFuncRvFeat html
getFuncRvPosteriors html
integratedEM html
mleBeta html
mleTheta html
plotPosteriors html
testPosteriors html
** building package indices
** installing vignettes
** testing if installed package can be loaded from temporary location
** testing if installed package can be loaded from final location
** testing if installed package keeps a record of temporary installation path
install for x64
* installing *source* package 'RIVER' ...
** testing if installed package can be loaded
* MD5 sums
packaged installation of 'RIVER' as RIVER_1.10.0.zip
* DONE (RIVER)
* installing to library 'C:/Users/biocbuild/bbs-3.10-bioc/R/library'
package 'RIVER' successfully unpacked and MD5 sums checked