| Back to Multiple platform build/check report for BioC 3.10 |
|
This page was generated on 2020-04-15 12:31:30 -0400 (Wed, 15 Apr 2020).
| Package 1245/1823 | Hostname | OS / Arch | INSTALL | BUILD | CHECK | BUILD BIN | ||||||
| PepsNMR 1.4.0 Manon Martin
| malbec1 | Linux (Ubuntu 18.04.4 LTS) / x86_64 | OK | OK | OK | |||||||
| tokay1 | Windows Server 2012 R2 Standard / x64 | OK | OK | [ OK ] | OK | |||||||
| merida1 | OS X 10.11.6 El Capitan / x86_64 | OK | OK | OK | OK |
| Package: PepsNMR |
| Version: 1.4.0 |
| Command: C:\Users\biocbuild\bbs-3.10-bioc\R\bin\R.exe CMD check --force-multiarch --install=check:PepsNMR.install-out.txt --library=C:\Users\biocbuild\bbs-3.10-bioc\R\library --no-vignettes --timings PepsNMR_1.4.0.tar.gz |
| StartedAt: 2020-04-15 05:26:38 -0400 (Wed, 15 Apr 2020) |
| EndedAt: 2020-04-15 05:52:14 -0400 (Wed, 15 Apr 2020) |
| EllapsedTime: 1535.9 seconds |
| RetCode: 0 |
| Status: OK |
| CheckDir: PepsNMR.Rcheck |
| Warnings: 0 |
##############################################################################
##############################################################################
###
### Running command:
###
### C:\Users\biocbuild\bbs-3.10-bioc\R\bin\R.exe CMD check --force-multiarch --install=check:PepsNMR.install-out.txt --library=C:\Users\biocbuild\bbs-3.10-bioc\R\library --no-vignettes --timings PepsNMR_1.4.0.tar.gz
###
##############################################################################
##############################################################################
* using log directory 'C:/Users/biocbuild/bbs-3.10-bioc/meat/PepsNMR.Rcheck'
* using R version 3.6.3 (2020-02-29)
* using platform: x86_64-w64-mingw32 (64-bit)
* using session charset: ISO8859-1
* using option '--no-vignettes'
* checking for file 'PepsNMR/DESCRIPTION' ... OK
* checking extension type ... Package
* this is package 'PepsNMR' version '1.4.0'
* package encoding: UTF-8
* checking package namespace information ... OK
* checking package dependencies ... OK
* checking if this is a source package ... OK
* checking if there is a namespace ... OK
* checking for hidden files and directories ... OK
* checking for portable file names ... OK
* checking whether package 'PepsNMR' can be installed ... OK
* checking installed package size ... OK
* checking package directory ... OK
* checking 'build' directory ... OK
* checking DESCRIPTION meta-information ... OK
* checking top-level files ... OK
* checking for left-over files ... OK
* checking index information ... OK
* checking package subdirectories ... OK
* checking R files for non-ASCII characters ... OK
* checking R files for syntax errors ... OK
* loading checks for arch 'i386'
** checking whether the package can be loaded ... OK
** checking whether the package can be loaded with stated dependencies ... OK
** checking whether the package can be unloaded cleanly ... OK
** checking whether the namespace can be loaded with stated dependencies ... OK
** checking whether the namespace can be unloaded cleanly ... OK
* loading checks for arch 'x64'
** checking whether the package can be loaded ... OK
** checking whether the package can be loaded with stated dependencies ... OK
** checking whether the package can be unloaded cleanly ... OK
** checking whether the namespace can be loaded with stated dependencies ... OK
** checking whether the namespace can be unloaded cleanly ... OK
* checking dependencies in R code ... OK
* checking S3 generic/method consistency ... OK
* checking replacement functions ... OK
* checking foreign function calls ... OK
* checking R code for possible problems ... OK
* checking Rd files ... OK
* checking Rd metadata ... OK
* checking Rd cross-references ... OK
* checking for missing documentation entries ... OK
* checking for code/documentation mismatches ... OK
* checking Rd \usage sections ... OK
* checking Rd contents ... OK
* checking for unstated dependencies in examples ... OK
* checking files in 'vignettes' ... OK
* checking examples ...
** running examples for arch 'i386' ... OK
Examples with CPU or elapsed time > 5s
user system elapsed
PreprocessingChain 332.81 29.03 362.05
PEPSNMR-package 320.25 32.88 356.01
Warping 9.91 1.56 11.47
** running examples for arch 'x64' ... OK
Examples with CPU or elapsed time > 5s
user system elapsed
PEPSNMR-package 330.11 33.81 363.94
PreprocessingChain 307.50 24.69 332.18
Warping 8.80 1.18 9.97
* checking for unstated dependencies in vignettes ... OK
* checking package vignettes in 'inst/doc' ... OK
* checking running R code from vignettes ... SKIPPED
* checking re-building of vignette outputs ... SKIPPED
* checking PDF version of manual ... OK
* DONE
Status: OK
PepsNMR.Rcheck/00install.out
##############################################################################
##############################################################################
###
### Running command:
###
### C:\cygwin\bin\curl.exe -O https://malbec1.bioconductor.org/BBS/3.10/bioc/src/contrib/PepsNMR_1.4.0.tar.gz && rm -rf PepsNMR.buildbin-libdir && mkdir PepsNMR.buildbin-libdir && C:\Users\biocbuild\bbs-3.10-bioc\R\bin\R.exe CMD INSTALL --merge-multiarch --build --library=PepsNMR.buildbin-libdir PepsNMR_1.4.0.tar.gz && C:\Users\biocbuild\bbs-3.10-bioc\R\bin\R.exe CMD INSTALL PepsNMR_1.4.0.zip && rm PepsNMR_1.4.0.tar.gz PepsNMR_1.4.0.zip
###
##############################################################################
##############################################################################
% Total % Received % Xferd Average Speed Time Time Time Current
Dload Upload Total Spent Left Speed
0 0 0 0 0 0 0 0 --:--:-- --:--:-- --:--:-- 0
100 152k 100 152k 0 0 3807k 0 --:--:-- --:--:-- --:--:-- 4241k
install for i386
* installing *source* package 'PepsNMR' ...
** using staged installation
** R
** inst
** byte-compile and prepare package for lazy loading
** help
*** installing help indices
converting help for package 'PepsNMR'
finding HTML links ... done
Apodization html
BaselineCorrection html
Bucketing html
Draw html
DrawPCA html
DrawSignal html
FirstOrderPhaseCorrection html
FourierTransform html
GroupDelayCorrection html
InternalReferencing html
NegativeValuesZeroing html
Normalization html
PEPSNMR-internal html
PEPSNMR-package html
PreprocessingChain html
ReadFids html
RegionRemoval html
SolventSuppression html
Warping html
WindowSelection html
ZeroFilling html
ZeroOrderPhaseCorrection html
ZoneAggregation html
** building package indices
** installing vignettes
** testing if installed package can be loaded from temporary location
** testing if installed package can be loaded from final location
** testing if installed package keeps a record of temporary installation path
install for x64
* installing *source* package 'PepsNMR' ...
** testing if installed package can be loaded
* MD5 sums
packaged installation of 'PepsNMR' as PepsNMR_1.4.0.zip
* DONE (PepsNMR)
* installing to library 'C:/Users/biocbuild/bbs-3.10-bioc/R/library'
package 'PepsNMR' successfully unpacked and MD5 sums checked
|
PepsNMR.Rcheck/examples_i386/PepsNMR-Ex.timings
|
PepsNMR.Rcheck/examples_x64/PepsNMR-Ex.timings
|