| Back to Multiple platform build/check report for BioC 3.10 | 
 | 
This page was generated on 2020-03-17 13:06:42 -0400 (Tue, 17 Mar 2020).
| Package 1182/1823 | Hostname | OS / Arch | INSTALL | BUILD | CHECK | BUILD BIN | ||||||
| OMICsPCA 1.4.0 Subhadeep Das 
 | malbec1 | Linux (Ubuntu 18.04.4 LTS) / x86_64 | OK | OK | OK |  | ||||||
| tokay1 | Windows Server 2012 R2 Standard / x64 | [ OK ] | OK | OK | OK |  | ||||||
| merida1 | OS X 10.11.6 El Capitan / x86_64 | OK | OK | WARNINGS | OK |  | 
| Package: OMICsPCA | 
| Version: 1.4.0 | 
| Command: C:\cygwin\bin\curl.exe -O https://malbec1.bioconductor.org/BBS/3.10/bioc/src/contrib/OMICsPCA_1.4.0.tar.gz && rm -rf OMICsPCA.buildbin-libdir && mkdir OMICsPCA.buildbin-libdir && C:\Users\biocbuild\bbs-3.10-bioc\R\bin\R.exe CMD INSTALL --merge-multiarch --build --library=OMICsPCA.buildbin-libdir OMICsPCA_1.4.0.tar.gz && C:\Users\biocbuild\bbs-3.10-bioc\R\bin\R.exe CMD INSTALL OMICsPCA_1.4.0.zip && rm OMICsPCA_1.4.0.tar.gz OMICsPCA_1.4.0.zip | 
| StartedAt: 2020-03-16 20:38:47 -0400 (Mon, 16 Mar 2020) | 
| EndedAt: 2020-03-16 20:40:26 -0400 (Mon, 16 Mar 2020) | 
| EllapsedTime: 98.5 seconds | 
| RetCode: 0 | 
| Status: OK | 
##############################################################################
##############################################################################
###
### Running command:
###
###   C:\cygwin\bin\curl.exe -O https://malbec1.bioconductor.org/BBS/3.10/bioc/src/contrib/OMICsPCA_1.4.0.tar.gz && rm -rf OMICsPCA.buildbin-libdir && mkdir OMICsPCA.buildbin-libdir && C:\Users\biocbuild\bbs-3.10-bioc\R\bin\R.exe CMD INSTALL --merge-multiarch --build --library=OMICsPCA.buildbin-libdir OMICsPCA_1.4.0.tar.gz && C:\Users\biocbuild\bbs-3.10-bioc\R\bin\R.exe CMD INSTALL OMICsPCA_1.4.0.zip && rm OMICsPCA_1.4.0.tar.gz OMICsPCA_1.4.0.zip
###
##############################################################################
##############################################################################
  % Total    % Received % Xferd  Average Speed   Time    Time     Time  Current
                                 Dload  Upload   Total   Spent    Left  Speed
  0     0    0     0    0     0      0      0 --:--:-- --:--:-- --:--:--     0
100 33712  100 33712    0     0   732k      0 --:--:-- --:--:-- --:--:--  802k
install for i386
* installing *source* package 'OMICsPCA' ...
** using staged installation
** R
** inst
** byte-compile and prepare package for lazy loading
** help
*** installing help indices
  converting help for package 'OMICsPCA'
    finding HTML links ... done
    analyse_individuals                     html  
    analyse_integrated_individuals          html  
    analyse_integrated_variables            html  
    analyse_variables                       html  
    chart_correlation                       html  
    cluster                                 html  
    cluster_boxplot                         html  
    cluster_parameters                      html  
    create_group                            html  
    descriptor                              html  
    extract                                 html  
    extract_assay                           html  
    integrate_pca                           html  
    integrate_variables                     html  
    intersect                               html  
    merge_cells                             html  
    plot_density                            html  
    plot_density_3D                         html  
    plot_integrated_density                 html  
    plot_integrated_density_3D              html  
    prepare_dataset                         html  
** building package indices
** installing vignettes
** testing if installed package can be loaded from temporary location
** testing if installed package can be loaded from final location
** testing if installed package keeps a record of temporary installation path
install for x64
* installing *source* package 'OMICsPCA' ...
** testing if installed package can be loaded
* MD5 sums
packaged installation of 'OMICsPCA' as OMICsPCA_1.4.0.zip
* DONE (OMICsPCA)
* installing to library 'C:/Users/biocbuild/bbs-3.10-bioc/R/library'
package 'OMICsPCA' successfully unpacked and MD5 sums checked