| Back to Multiple platform build/check report for BioC 3.10 |
|
This page was generated on 2020-04-15 12:21:05 -0400 (Wed, 15 Apr 2020).
| Package 1155/1823 | Hostname | OS / Arch | INSTALL | BUILD | CHECK | BUILD BIN | ||||||
| NOISeq 2.30.0 Sonia Tarazona
| malbec1 | Linux (Ubuntu 18.04.4 LTS) / x86_64 | OK | OK | OK | |||||||
| tokay1 | Windows Server 2012 R2 Standard / x64 | OK | OK | [ OK ] | OK | |||||||
| merida1 | OS X 10.11.6 El Capitan / x86_64 | OK | OK | OK | OK |
| Package: NOISeq |
| Version: 2.30.0 |
| Command: C:\Users\biocbuild\bbs-3.10-bioc\R\bin\R.exe CMD check --force-multiarch --install=check:NOISeq.install-out.txt --library=C:\Users\biocbuild\bbs-3.10-bioc\R\library --no-vignettes --timings NOISeq_2.30.0.tar.gz |
| StartedAt: 2020-04-15 05:08:21 -0400 (Wed, 15 Apr 2020) |
| EndedAt: 2020-04-15 05:11:04 -0400 (Wed, 15 Apr 2020) |
| EllapsedTime: 162.6 seconds |
| RetCode: 0 |
| Status: OK |
| CheckDir: NOISeq.Rcheck |
| Warnings: 0 |
##############################################################################
##############################################################################
###
### Running command:
###
### C:\Users\biocbuild\bbs-3.10-bioc\R\bin\R.exe CMD check --force-multiarch --install=check:NOISeq.install-out.txt --library=C:\Users\biocbuild\bbs-3.10-bioc\R\library --no-vignettes --timings NOISeq_2.30.0.tar.gz
###
##############################################################################
##############################################################################
* using log directory 'C:/Users/biocbuild/bbs-3.10-bioc/meat/NOISeq.Rcheck'
* using R version 3.6.3 (2020-02-29)
* using platform: x86_64-w64-mingw32 (64-bit)
* using session charset: ISO8859-1
* using option '--no-vignettes'
* checking for file 'NOISeq/DESCRIPTION' ... OK
* checking extension type ... Package
* this is package 'NOISeq' version '2.30.0'
* checking package namespace information ... OK
* checking package dependencies ... OK
* checking if this is a source package ... OK
* checking if there is a namespace ... OK
* checking for hidden files and directories ... OK
* checking for portable file names ... OK
* checking whether package 'NOISeq' can be installed ... OK
* checking installed package size ... OK
* checking package directory ... OK
* checking 'build' directory ... OK
* checking DESCRIPTION meta-information ... OK
* checking top-level files ... OK
* checking for left-over files ... OK
* checking index information ... OK
* checking package subdirectories ... OK
* checking R files for non-ASCII characters ... OK
* checking R files for syntax errors ... OK
* loading checks for arch 'i386'
** checking whether the package can be loaded ... OK
** checking whether the package can be loaded with stated dependencies ... OK
** checking whether the package can be unloaded cleanly ... OK
** checking whether the namespace can be loaded with stated dependencies ... OK
** checking whether the namespace can be unloaded cleanly ... OK
* loading checks for arch 'x64'
** checking whether the package can be loaded ... OK
** checking whether the package can be loaded with stated dependencies ... OK
** checking whether the package can be unloaded cleanly ... OK
** checking whether the namespace can be loaded with stated dependencies ... OK
** checking whether the namespace can be unloaded cleanly ... OK
* checking dependencies in R code ... OK
* checking S3 generic/method consistency ... OK
* checking replacement functions ... OK
* checking foreign function calls ... OK
* checking R code for possible problems ... NOTE
.calcFactorQuantile : <anonymous>: no visible global function
definition for 'quantile'
CV: no visible global function definition for 'sd'
DE.plot: no visible global function definition for 'par'
DE.plot: no visible global function definition for 'plot'
DE.plot: no visible global function definition for 'points'
DE.plot: no visible global function definition for 'axis'
DE.plot: no visible global function definition for 'na.omit'
DE.plot: no visible global function definition for 'aggregate'
DE.plot: no visible global function definition for 'abline'
DE.plot: no visible global function definition for 'rect'
DE.plot: no visible global function definition for 'segments'
DE.plot: no visible global function definition for 'text'
DE.plot: no visible global function definition for 'layout'
DE.plot: no visible global function definition for 'barplot'
DE.plot: no visible global function definition for 'legend'
GC.dat: no visible global function definition for 'quantile'
GC.dat: no visible global function definition for 'aggregate'
GC.dat: no visible global function definition for 'lm'
GC.plot: no visible global function definition for 'par'
GC.plot: no visible global function definition for 'matplot'
GC.plot: no visible global function definition for 'text'
GC.plot: no visible global function definition for 'pf'
GC.plot: no visible global function definition for 'legend'
GC.plot: no visible global function definition for 'layout'
MD: no visible global function definition for 'combn'
MD.plot: no visible global function definition for 'quantile'
MD.plot: no visible global function definition for 'plot'
MD.plot: no visible global function definition for 'points'
MD.plot: no visible global function definition for 'legend'
MDbio: no visible global function definition for 'combn'
MDbio: no visible global function definition for 'quantile'
PCA.plot: no visible global function definition for 'plot'
PCA.plot: no visible global function definition for 'colors'
PCA.plot: no visible global function definition for 'points'
PCA.plot: no visible global function definition for 'legend'
QCreport: no visible global function definition for 'pdf'
QCreport: no visible global function definition for 'layout'
QCreport: no visible global function definition for 'par'
QCreport: no visible global function definition for 'plot'
QCreport: no visible global function definition for 'text'
QCreport: no visible global function definition for 'abline'
QCreport : <anonymous>: no visible global function definition for 'pf'
QCreport: no visible global function definition for 'dev.off'
allMDbio: no visible binding for global variable 'sd'
biodetection.plot: no visible global function definition for 'par'
biodetection.plot: no visible global function definition for 'barplot'
biodetection.plot: no visible global function definition for 'axis'
biodetection.plot: no visible global function definition for 'abline'
biodetection.plot: no visible global function definition for 'legend'
biodetection.plot: no visible global function definition for
'prop.test'
biodetection.plot: no visible global function definition for 'lines'
cd.dat : <anonymous>: no visible binding for global variable 'median'
cd.dat: no visible binding for global variable 'quantile'
cd.plot: no visible binding for global variable 'density'
cd.plot: no visible global function definition for 'plot'
cd.plot: no visible global function definition for 'abline'
cd.plot: no visible global function definition for 'median'
cd.plot: no visible global function definition for 'lines'
cd.plot: no visible global function definition for 'legend'
countsbio.plot: no visible global function definition for 'par'
countsbio.plot: no visible global function definition for 'barplot'
countsbio.plot: no visible global function definition for 'abline'
countsbio.plot: no visible global function definition for 'mtext'
countsbio.plot: no visible global function definition for 'legend'
countsbio.plot: no visible global function definition for 'boxplot'
countsbio.plot: no visible global function definition for 'axis'
degenes: no visible global function definition for 'na.omit'
filtered.data : <anonymous>: no visible global function definition for
'wilcox.test'
filtered.data: no visible global function definition for 'p.adjust'
filtered.data : <anonymous>: no visible global function definition for
'prop.test'
length.dat: no visible global function definition for 'quantile'
length.dat: no visible global function definition for 'aggregate'
length.dat: no visible global function definition for 'lm'
length.plot: no visible global function definition for 'par'
length.plot: no visible global function definition for 'matplot'
length.plot: no visible global function definition for 'text'
length.plot: no visible global function definition for 'pf'
length.plot: no visible global function definition for 'legend'
length.plot: no visible global function definition for 'layout'
noiseqbio: no visible global function definition for 'density'
noiseqbio: no visible global function definition for 'approxfun'
noiseqbio: no visible global function definition for 'lines'
noiseqbio: no visible global function definition for 'legend'
plot.y2: no visible global function definition for 'plot'
plot.y2: no visible global function definition for 'axis'
plot.y2: no visible global function definition for 'points'
plot.y2: no visible global function definition for 'lines'
plot.y2: no visible global function definition for 'supsmu'
plot.y2: no visible global function definition for 'mtext'
plot.y2: no visible global function definition for 'par'
plot.y2: no visible global function definition for 'box'
probdeg: no visible global function definition for 'na.omit'
rpkm: no visible global function definition for 'na.omit'
saturation.dat: no visible global function definition for 'rmultinom'
saturation.plot: no visible global function definition for 'par'
saturation.plot: no visible global function definition for 'colors'
saturation.plot: no visible global function definition for 'plot'
saturation.plot: no visible global function definition for 'lines'
saturation.plot: no visible global function definition for 'points'
saturation.plot: no visible global function definition for 'na.omit'
saturation.plot: no visible global function definition for 'layout'
saturation.plot: no visible global function definition for 'rect'
saturation.plot: no visible global function definition for 'text'
share.info: no visible global function definition for 'kmeans'
share.info : <anonymous>: no visible global function definition for
'sd'
share.info: no visible global function definition for 'quantile'
sim.samples: no visible global function definition for 'runif'
sim.samples: no visible global function definition for 'rmultinom'
tmm: no visible global function definition for 'na.omit'
uqua: no visible binding for global variable 'quantile'
uqua: no visible global function definition for 'na.omit'
Undefined global functions or variables:
abline aggregate approxfun axis barplot box boxplot colors combn
density dev.off kmeans layout legend lines lm matplot median mtext
na.omit p.adjust par pdf pf plot points prop.test quantile rect
rmultinom runif sd segments supsmu text wilcox.test
Consider adding
importFrom("grDevices", "colors", "dev.off", "pdf")
importFrom("graphics", "abline", "axis", "barplot", "box", "boxplot",
"layout", "legend", "lines", "matplot", "mtext", "par",
"plot", "points", "rect", "segments", "text")
importFrom("stats", "aggregate", "approxfun", "density", "kmeans",
"lm", "median", "na.omit", "p.adjust", "pf", "prop.test",
"quantile", "rmultinom", "runif", "sd", "supsmu",
"wilcox.test")
importFrom("utils", "combn")
to your NAMESPACE file.
* checking Rd files ... OK
* checking Rd metadata ... OK
* checking Rd cross-references ... OK
* checking for missing documentation entries ... OK
* checking for code/documentation mismatches ... OK
* checking Rd \usage sections ... OK
* checking Rd contents ... OK
* checking for unstated dependencies in examples ... OK
* checking contents of 'data' directory ... OK
* checking data for non-ASCII characters ... OK
* checking data for ASCII and uncompressed saves ... OK
* checking installed files from 'inst/doc' ... OK
* checking files in 'vignettes' ... OK
* checking examples ...
** running examples for arch 'i386' ... OK
Examples with CPU or elapsed time > 5s
user system elapsed
noiseq 21.82 1.43 23.25
QCreport 7.45 0.20 7.75
noiseqbio 6.64 0.04 6.68
** running examples for arch 'x64' ... OK
Examples with CPU or elapsed time > 5s
user system elapsed
noiseq 19.63 0.19 19.81
noiseqbio 10.33 0.05 10.37
QCreport 6.46 0.11 6.57
* checking for unstated dependencies in vignettes ... OK
* checking package vignettes in 'inst/doc' ... OK
* checking running R code from vignettes ... SKIPPED
* checking re-building of vignette outputs ... SKIPPED
* checking PDF version of manual ... OK
* DONE
Status: 1 NOTE
See
'C:/Users/biocbuild/bbs-3.10-bioc/meat/NOISeq.Rcheck/00check.log'
for details.
NOISeq.Rcheck/00install.out
##############################################################################
##############################################################################
###
### Running command:
###
### C:\cygwin\bin\curl.exe -O https://malbec1.bioconductor.org/BBS/3.10/bioc/src/contrib/NOISeq_2.30.0.tar.gz && rm -rf NOISeq.buildbin-libdir && mkdir NOISeq.buildbin-libdir && C:\Users\biocbuild\bbs-3.10-bioc\R\bin\R.exe CMD INSTALL --merge-multiarch --build --library=NOISeq.buildbin-libdir NOISeq_2.30.0.tar.gz && C:\Users\biocbuild\bbs-3.10-bioc\R\bin\R.exe CMD INSTALL NOISeq_2.30.0.zip && rm NOISeq_2.30.0.tar.gz NOISeq_2.30.0.zip
###
##############################################################################
##############################################################################
% Total % Received % Xferd Average Speed Time Time Time Current
Dload Upload Total Spent Left Speed
0 0 0 0 0 0 0 0 --:--:-- --:--:-- --:--:-- 0
100 755k 100 755k 0 0 4418k 0 --:--:-- --:--:-- --:--:-- 4498k
install for i386
* installing *source* package 'NOISeq' ...
** using staged installation
** R
** data
** inst
** byte-compile and prepare package for lazy loading
** help
*** installing help indices
converting help for package 'NOISeq'
finding HTML links ... done
ARSyNSeq html
Biodetection html
CD html
CountsBio html
DE.plot html
GCcontentBias html
LengthBias html
Marioni html
Output html
PCA.GENES html
PCA html
QCreport html
Saturation html
dat html
dat2save html
degenes html
example html
explo.plot html
filter.low.counts html
myCounts html
noiseq html
noiseqbio html
normalization html
readData html
** building package indices
** installing vignettes
'NOISeq.Rnw' using 'UTF-8'
** testing if installed package can be loaded from temporary location
** testing if installed package can be loaded from final location
** testing if installed package keeps a record of temporary installation path
install for x64
* installing *source* package 'NOISeq' ...
** testing if installed package can be loaded
* MD5 sums
packaged installation of 'NOISeq' as NOISeq_2.30.0.zip
* DONE (NOISeq)
* installing to library 'C:/Users/biocbuild/bbs-3.10-bioc/R/library'
package 'NOISeq' successfully unpacked and MD5 sums checked
|
NOISeq.Rcheck/examples_i386/NOISeq-Ex.timings
|
NOISeq.Rcheck/examples_x64/NOISeq-Ex.timings
|