| Back to Multiple platform build/check report for BioC 3.10 |
|
This page was generated on 2020-04-15 12:40:34 -0400 (Wed, 15 Apr 2020).
| Package 1025/1823 | Hostname | OS / Arch | INSTALL | BUILD | CHECK | BUILD BIN | ||||||
| MethylMix 2.16.0 Olivier Gevaert
| malbec1 | Linux (Ubuntu 18.04.4 LTS) / x86_64 | OK | OK | OK | |||||||
| tokay1 | Windows Server 2012 R2 Standard / x64 | OK | OK | OK | OK | |||||||
| merida1 | OS X 10.11.6 El Capitan / x86_64 | OK | OK | [ OK ] | OK |
| Package: MethylMix |
| Version: 2.16.0 |
| Command: /Library/Frameworks/R.framework/Versions/Current/Resources/bin/R CMD check --install=check:MethylMix.install-out.txt --library=/Library/Frameworks/R.framework/Versions/Current/Resources/library --no-vignettes --timings MethylMix_2.16.0.tar.gz |
| StartedAt: 2020-04-15 03:47:40 -0400 (Wed, 15 Apr 2020) |
| EndedAt: 2020-04-15 03:50:38 -0400 (Wed, 15 Apr 2020) |
| EllapsedTime: 177.9 seconds |
| RetCode: 0 |
| Status: OK |
| CheckDir: MethylMix.Rcheck |
| Warnings: 0 |
##############################################################################
##############################################################################
###
### Running command:
###
### /Library/Frameworks/R.framework/Versions/Current/Resources/bin/R CMD check --install=check:MethylMix.install-out.txt --library=/Library/Frameworks/R.framework/Versions/Current/Resources/library --no-vignettes --timings MethylMix_2.16.0.tar.gz
###
##############################################################################
##############################################################################
* using log directory ‘/Users/biocbuild/bbs-3.10-bioc/meat/MethylMix.Rcheck’
* using R version 3.6.3 (2020-02-29)
* using platform: x86_64-apple-darwin15.6.0 (64-bit)
* using session charset: UTF-8
* using option ‘--no-vignettes’
* checking for file ‘MethylMix/DESCRIPTION’ ... OK
* checking extension type ... Package
* this is package ‘MethylMix’ version ‘2.16.0’
* package encoding: UTF-8
* checking package namespace information ... OK
* checking package dependencies ... OK
* checking if this is a source package ... OK
* checking if there is a namespace ... OK
* checking for hidden files and directories ... OK
* checking for portable file names ... OK
* checking for sufficient/correct file permissions ... OK
* checking whether package ‘MethylMix’ can be installed ... OK
* checking installed package size ... OK
* checking package directory ... OK
* checking ‘build’ directory ... OK
* checking DESCRIPTION meta-information ... OK
* checking top-level files ... OK
* checking for left-over files ... OK
* checking index information ... OK
* checking package subdirectories ... OK
* checking R files for non-ASCII characters ... OK
* checking R files for syntax errors ... OK
* checking whether the package can be loaded ... OK
* checking whether the package can be loaded with stated dependencies ... OK
* checking whether the package can be unloaded cleanly ... OK
* checking whether the namespace can be loaded with stated dependencies ... OK
* checking whether the namespace can be unloaded cleanly ... OK
* checking dependencies in R code ... NOTE
Namespace in Imports field not imported from: ‘digest’
All declared Imports should be used.
* checking S3 generic/method consistency ... OK
* checking replacement functions ... OK
* checking foreign function calls ... OK
* checking R code for possible problems ... OK
* checking Rd files ... OK
* checking Rd metadata ... OK
* checking Rd cross-references ... OK
* checking for missing documentation entries ... OK
* checking for code/documentation mismatches ... OK
* checking Rd \usage sections ... OK
* checking Rd contents ... OK
* checking for unstated dependencies in examples ... OK
* checking contents of ‘data’ directory ... OK
* checking data for non-ASCII characters ... OK
* checking data for ASCII and uncompressed saves ... OK
* checking files in ‘vignettes’ ... OK
* checking examples ... OK
Examples with CPU or elapsed time > 5s
user system elapsed
MethylMix_PlotModel 37.942 0.226 39.297
MethylMix 27.800 0.127 28.222
MethylMix_Predict 27.605 0.194 28.187
* checking for unstated dependencies in ‘tests’ ... OK
* checking tests ...
Running ‘testthat.R’
OK
* checking for unstated dependencies in vignettes ... OK
* checking package vignettes in ‘inst/doc’ ... OK
* checking running R code from vignettes ... SKIPPED
* checking re-building of vignette outputs ... SKIPPED
* checking PDF version of manual ... OK
* DONE
Status: 1 NOTE
See
‘/Users/biocbuild/bbs-3.10-bioc/meat/MethylMix.Rcheck/00check.log’
for details.
MethylMix.Rcheck/00install.out
############################################################################## ############################################################################## ### ### Running command: ### ### /Library/Frameworks/R.framework/Versions/Current/Resources/bin/R CMD INSTALL MethylMix ### ############################################################################## ############################################################################## * installing to library ‘/Library/Frameworks/R.framework/Versions/3.6/Resources/library’ * installing *source* package ‘MethylMix’ ... ** using staged installation ** R ** data *** moving datasets to lazyload DB ** byte-compile and prepare package for lazy loading ** help *** installing help indices ** building package indices ** installing vignettes ** testing if installed package can be loaded from temporary location ** testing if installed package can be loaded from final location ** testing if installed package keeps a record of temporary installation path * DONE (MethylMix)
MethylMix.Rcheck/tests/testthat.Rout
R version 3.6.3 (2020-02-29) -- "Holding the Windsock"
Copyright (C) 2020 The R Foundation for Statistical Computing
Platform: x86_64-apple-darwin15.6.0 (64-bit)
R is free software and comes with ABSOLUTELY NO WARRANTY.
You are welcome to redistribute it under certain conditions.
Type 'license()' or 'licence()' for distribution details.
R is a collaborative project with many contributors.
Type 'contributors()' for more information and
'citation()' on how to cite R or R packages in publications.
Type 'demo()' for some demos, 'help()' for on-line help, or
'help.start()' for an HTML browser interface to help.
Type 'q()' to quit R.
> library(testthat)
> library(MethylMix)
>
> test_check("MethylMix")
Found 251 samples with both methylation and expression data.
Correlating methylation data with gene expression...
Found 9 transcriptionally predictive genes.
Starting Beta mixture modeling.
Running Beta mixture model on 9 genes and on 251 samples.
ERBB2 : 2 components are best.
FAAH : 2 components are best.
FOXD1 : 2 components are best.
ME1 : 2 components are best.
MGMT : 2 components are best.
OAS1 : 2 components are best.
SOX10 : 2 components are best.
TRAF6 : 2 components are best.
ZNF217 : 2 components are best.
══ testthat results ═══════════════════════════════════════════════════════════
[ OK: 2 | SKIPPED: 0 | WARNINGS: 1 | FAILED: 0 ]
>
> proc.time()
user system elapsed
30.081 0.277 30.620
MethylMix.Rcheck/MethylMix-Ex.timings
| name | user | system | elapsed | |
| ClusterProbes | 0 | 0 | 0 | |
| Download_DNAmethylation | 0.000 | 0.000 | 0.001 | |
| Download_GeneExpression | 0.001 | 0.001 | 0.001 | |
| GetData | 0.000 | 0.000 | 0.001 | |
| MethylMix | 27.800 | 0.127 | 28.222 | |
| MethylMix_ModelGeneExpression | 0.063 | 0.002 | 0.065 | |
| MethylMix_PlotModel | 37.942 | 0.226 | 39.297 | |
| MethylMix_Predict | 27.605 | 0.194 | 28.187 | |
| Preprocess_DNAmethylation | 0.000 | 0.000 | 0.001 | |
| Preprocess_GeneExpression | 0 | 0 | 0 | |