| Back to Multiple platform build/check report for BioC 3.10 |
|
This page was generated on 2020-04-15 12:25:34 -0400 (Wed, 15 Apr 2020).
| Package 981/1823 | Hostname | OS / Arch | INSTALL | BUILD | CHECK | BUILD BIN | ||||||
| MEAL 1.16.2 Carlos Ruiz-Arenas
| malbec1 | Linux (Ubuntu 18.04.4 LTS) / x86_64 | OK | ERROR | skipped | |||||||
| tokay1 | Windows Server 2012 R2 Standard / x64 | [ OK ] | ERROR | skipped | skipped | |||||||
| merida1 | OS X 10.11.6 El Capitan / x86_64 | OK | ERROR | skipped | skipped |
| Package: MEAL |
| Version: 1.16.2 |
| Command: C:\cygwin\bin\curl.exe -O https://malbec1.bioconductor.org/BBS/3.10/bioc/src/contrib/MEAL_1.16.2.tar.gz && rm -rf MEAL.buildbin-libdir && mkdir MEAL.buildbin-libdir && C:\Users\biocbuild\bbs-3.10-bioc\R\bin\R.exe CMD INSTALL --merge-multiarch --build --library=MEAL.buildbin-libdir MEAL_1.16.2.tar.gz && C:\Users\biocbuild\bbs-3.10-bioc\R\bin\R.exe CMD INSTALL MEAL_1.16.2.zip && rm MEAL_1.16.2.tar.gz MEAL_1.16.2.zip |
| StartedAt: 2020-04-14 20:37:07 -0400 (Tue, 14 Apr 2020) |
| EndedAt: 2020-04-14 20:38:02 -0400 (Tue, 14 Apr 2020) |
| EllapsedTime: 54.3 seconds |
| RetCode: 0 |
| Status: OK |
##############################################################################
##############################################################################
###
### Running command:
###
### C:\cygwin\bin\curl.exe -O https://malbec1.bioconductor.org/BBS/3.10/bioc/src/contrib/MEAL_1.16.2.tar.gz && rm -rf MEAL.buildbin-libdir && mkdir MEAL.buildbin-libdir && C:\Users\biocbuild\bbs-3.10-bioc\R\bin\R.exe CMD INSTALL --merge-multiarch --build --library=MEAL.buildbin-libdir MEAL_1.16.2.tar.gz && C:\Users\biocbuild\bbs-3.10-bioc\R\bin\R.exe CMD INSTALL MEAL_1.16.2.zip && rm MEAL_1.16.2.tar.gz MEAL_1.16.2.zip
###
##############################################################################
##############################################################################
% Total % Received % Xferd Average Speed Time Time Time Current
Dload Upload Total Spent Left Speed
0 0 0 0 0 0 0 0 --:--:-- --:--:-- --:--:-- 0
100 46940 100 46940 0 0 986k 0 --:--:-- --:--:-- --:--:-- 1091k
install for i386
* installing *source* package 'MEAL' ...
** using staged installation
** R
** byte-compile and prepare package for lazy loading
** help
*** installing help indices
converting help for package 'MEAL'
finding HTML links ... done
MEAL-defunct html
MEAL html
computeRDAR2 html
correlationMethExprs html
exportResults html
filterResults html
getGeneVals html
getProbeResults html
getRDAresults html
plotFeature html
plotRDA html
plotRegion html
runBlockFinder html
runBumphunter html
runDMRcate html
runDiffMeanAnalysis html
runDiffVarAnalysis html
runPipeline html
runRDA html
Rd warning: C:/Users/biocbuild/bbs-3.10-bioc/tmpdir/RtmpWCNCna/R.INSTALL24c46bea7720/MEAL/man/runRDA.Rd:55: file link 'rda' in package 'vegan' does not exist and so has been treated as a topic
runRegionAnalysis html
topRDAhits html
** building package indices
** installing vignettes
** testing if installed package can be loaded from temporary location
** testing if installed package can be loaded from final location
** testing if installed package keeps a record of temporary installation path
install for x64
* installing *source* package 'MEAL' ...
** testing if installed package can be loaded
* MD5 sums
packaged installation of 'MEAL' as MEAL_1.16.2.zip
* DONE (MEAL)
* installing to library 'C:/Users/biocbuild/bbs-3.10-bioc/R/library'
package 'MEAL' successfully unpacked and MD5 sums checked