| Back to Multiple platform build/check report for BioC 3.10 | 
 | 
This page was generated on 2020-04-15 12:31:29 -0400 (Wed, 15 Apr 2020).
| Package 921/1823 | Hostname | OS / Arch | INSTALL | BUILD | CHECK | BUILD BIN | ||||||
| LoomExperiment 1.4.0 Bioconductor Package Maintainer 
 | malbec1 | Linux (Ubuntu 18.04.4 LTS) / x86_64 | OK | OK | OK |  | ||||||
| tokay1 | Windows Server 2012 R2 Standard / x64 | [ OK ] | OK | OK | OK |  | ||||||
| merida1 | OS X 10.11.6 El Capitan / x86_64 | OK | OK | OK | OK |  | 
| Package: LoomExperiment | 
| Version: 1.4.0 | 
| Command: C:\cygwin\bin\curl.exe -O https://malbec1.bioconductor.org/BBS/3.10/bioc/src/contrib/LoomExperiment_1.4.0.tar.gz && rm -rf LoomExperiment.buildbin-libdir && mkdir LoomExperiment.buildbin-libdir && C:\Users\biocbuild\bbs-3.10-bioc\R\bin\R.exe CMD INSTALL --merge-multiarch --build --library=LoomExperiment.buildbin-libdir LoomExperiment_1.4.0.tar.gz && C:\Users\biocbuild\bbs-3.10-bioc\R\bin\R.exe CMD INSTALL LoomExperiment_1.4.0.zip && rm LoomExperiment_1.4.0.tar.gz LoomExperiment_1.4.0.zip | 
| StartedAt: 2020-04-14 19:52:38 -0400 (Tue, 14 Apr 2020) | 
| EndedAt: 2020-04-14 19:53:37 -0400 (Tue, 14 Apr 2020) | 
| EllapsedTime: 58.3 seconds | 
| RetCode: 0 | 
| Status: OK | 
##############################################################################
##############################################################################
###
### Running command:
###
###   C:\cygwin\bin\curl.exe -O https://malbec1.bioconductor.org/BBS/3.10/bioc/src/contrib/LoomExperiment_1.4.0.tar.gz && rm -rf LoomExperiment.buildbin-libdir && mkdir LoomExperiment.buildbin-libdir && C:\Users\biocbuild\bbs-3.10-bioc\R\bin\R.exe CMD INSTALL --merge-multiarch --build --library=LoomExperiment.buildbin-libdir LoomExperiment_1.4.0.tar.gz && C:\Users\biocbuild\bbs-3.10-bioc\R\bin\R.exe CMD INSTALL LoomExperiment_1.4.0.zip && rm LoomExperiment_1.4.0.tar.gz LoomExperiment_1.4.0.zip
###
##############################################################################
##############################################################################
  % Total    % Received % Xferd  Average Speed   Time    Time     Time  Current
                                 Dload  Upload   Total   Spent    Left  Speed
  0     0    0     0    0     0      0      0 --:--:-- --:--:-- --:--:--     0
100 34731  100 34731    0     0   822k      0 --:--:-- --:--:-- --:--:--  892k
install for i386
* installing *source* package 'LoomExperiment' ...
** using staged installation
** R
** inst
** byte-compile and prepare package for lazy loading
** help
*** installing help indices
  converting help for package 'LoomExperiment'
    finding HTML links ... done
    L1_DRG_20_example                       html  
    LoomExperiment-class                    html  
    finding level-2 HTML links ... done
    LoomFile-class                          html  
    LoomGraph-class                         html  
    LoomGraphs-class                        html  
    export-method                           html  
    import-method                           html  
** building package indices
** installing vignettes
** testing if installed package can be loaded from temporary location
** testing if installed package can be loaded from final location
** testing if installed package keeps a record of temporary installation path
install for x64
* installing *source* package 'LoomExperiment' ...
** testing if installed package can be loaded
* MD5 sums
packaged installation of 'LoomExperiment' as LoomExperiment_1.4.0.zip
* DONE (LoomExperiment)
* installing to library 'C:/Users/biocbuild/bbs-3.10-bioc/R/library'
package 'LoomExperiment' successfully unpacked and MD5 sums checked