| Back to Multiple platform build/check report for BioC 3.10 |
|
This page was generated on 2020-04-15 12:37:52 -0400 (Wed, 15 Apr 2020).
| Package 889/1823 | Hostname | OS / Arch | INSTALL | BUILD | CHECK | BUILD BIN | ||||||
| KEGGprofile 1.28.0 Shilin Zhao
| malbec1 | Linux (Ubuntu 18.04.4 LTS) / x86_64 | OK | OK | OK | |||||||
| tokay1 | Windows Server 2012 R2 Standard / x64 | OK | OK | OK | OK | |||||||
| merida1 | OS X 10.11.6 El Capitan / x86_64 | OK | OK | [ OK ] | OK |
| Package: KEGGprofile |
| Version: 1.28.0 |
| Command: /Library/Frameworks/R.framework/Versions/Current/Resources/bin/R CMD check --install=check:KEGGprofile.install-out.txt --library=/Library/Frameworks/R.framework/Versions/Current/Resources/library --no-vignettes --timings KEGGprofile_1.28.0.tar.gz |
| StartedAt: 2020-04-15 03:21:36 -0400 (Wed, 15 Apr 2020) |
| EndedAt: 2020-04-15 03:24:22 -0400 (Wed, 15 Apr 2020) |
| EllapsedTime: 165.3 seconds |
| RetCode: 0 |
| Status: OK |
| CheckDir: KEGGprofile.Rcheck |
| Warnings: 0 |
##############################################################################
##############################################################################
###
### Running command:
###
### /Library/Frameworks/R.framework/Versions/Current/Resources/bin/R CMD check --install=check:KEGGprofile.install-out.txt --library=/Library/Frameworks/R.framework/Versions/Current/Resources/library --no-vignettes --timings KEGGprofile_1.28.0.tar.gz
###
##############################################################################
##############################################################################
* using log directory ‘/Users/biocbuild/bbs-3.10-bioc/meat/KEGGprofile.Rcheck’
* using R version 3.6.3 (2020-02-29)
* using platform: x86_64-apple-darwin15.6.0 (64-bit)
* using session charset: UTF-8
* using option ‘--no-vignettes’
* checking for file ‘KEGGprofile/DESCRIPTION’ ... OK
* checking extension type ... Package
* this is package ‘KEGGprofile’ version ‘1.28.0’
* checking package namespace information ... OK
* checking package dependencies ... OK
* checking if this is a source package ... OK
* checking if there is a namespace ... OK
* checking for hidden files and directories ... OK
* checking for portable file names ... OK
* checking for sufficient/correct file permissions ... OK
* checking whether package ‘KEGGprofile’ can be installed ... OK
* checking installed package size ... OK
* checking package directory ... OK
* checking ‘build’ directory ... OK
* checking DESCRIPTION meta-information ... OK
* checking top-level files ... OK
* checking for left-over files ... OK
* checking index information ... OK
* checking package subdirectories ... OK
* checking R files for non-ASCII characters ... OK
* checking R files for syntax errors ... OK
* checking whether the package can be loaded ... OK
* checking whether the package can be loaded with stated dependencies ... OK
* checking whether the package can be unloaded cleanly ... OK
* checking whether the namespace can be loaded with stated dependencies ... OK
* checking whether the namespace can be unloaded cleanly ... OK
* checking dependencies in R code ... OK
* checking S3 generic/method consistency ... OK
* checking replacement functions ... OK
* checking foreign function calls ... OK
* checking R code for possible problems ... OK
* checking Rd files ... OK
* checking Rd metadata ... OK
* checking Rd cross-references ... OK
* checking for missing documentation entries ... OK
* checking for code/documentation mismatches ... OK
* checking Rd \usage sections ... OK
* checking Rd contents ... OK
* checking for unstated dependencies in examples ... OK
* checking contents of ‘data’ directory ... OK
* checking data for non-ASCII characters ... OK
* checking data for ASCII and uncompressed saves ... OK
* checking sizes of PDF files under ‘inst/doc’ ... OK
* checking files in ‘vignettes’ ... OK
* checking examples ... OK
Examples with CPU or elapsed time > 5s
user system elapsed
plot_pathway 8.175 0.742 8.927
convertId 0.522 0.024 9.421
* checking for unstated dependencies in vignettes ... OK
* checking package vignettes in ‘inst/doc’ ... OK
* checking running R code from vignettes ... SKIPPED
* checking re-building of vignette outputs ... SKIPPED
* checking PDF version of manual ... OK
* DONE
Status: OK
KEGGprofile.Rcheck/00install.out
############################################################################## ############################################################################## ### ### Running command: ### ### /Library/Frameworks/R.framework/Versions/Current/Resources/bin/R CMD INSTALL KEGGprofile ### ############################################################################## ############################################################################## * installing to library ‘/Library/Frameworks/R.framework/Versions/3.6/Resources/library’ * installing *source* package ‘KEGGprofile’ ... ** using staged installation ** R ** data ** inst ** byte-compile and prepare package for lazy loading ** help *** installing help indices ** building package indices ** installing vignettes ** testing if installed package can be loaded from temporary location ** testing if installed package can be loaded from final location ** testing if installed package keeps a record of temporary installation path * DONE (KEGGprofile)
KEGGprofile.Rcheck/KEGGprofile-Ex.timings
| name | user | system | elapsed | |
| col_by_value | 0.013 | 0.002 | 0.016 | |
| convertId | 0.522 | 0.024 | 9.421 | |
| download_KEGGfile | 0.057 | 0.013 | 4.701 | |
| download_latest_pathway | 0 | 0 | 0 | |
| find_enriched_pathway | 2.962 | 0.111 | 3.107 | |
| newIdMatrix | 0.001 | 0.000 | 0.001 | |
| parse_XMLfile | 0.083 | 0.001 | 0.084 | |
| plot_pathway | 8.175 | 0.742 | 8.927 | |
| plot_pathway_cor | 3.261 | 0.135 | 3.427 | |
| plot_pathway_overall | 3.392 | 0.121 | 3.538 | |
| plot_profile | 1.888 | 0.154 | 2.074 | |