| Back to Multiple platform build/check report for BioC 3.10 |
|
This page was generated on 2020-04-15 12:21:17 -0400 (Wed, 15 Apr 2020).
| Package 890/1823 | Hostname | OS / Arch | INSTALL | BUILD | CHECK | BUILD BIN | ||||||
| KEGGREST 1.26.1 Bioconductor Package Maintainer
| malbec1 | Linux (Ubuntu 18.04.4 LTS) / x86_64 | OK | OK | OK | |||||||
| tokay1 | Windows Server 2012 R2 Standard / x64 | [ OK ] | OK | OK | OK | |||||||
| merida1 | OS X 10.11.6 El Capitan / x86_64 | OK | OK | OK | OK |
| Package: KEGGREST |
| Version: 1.26.1 |
| Command: C:\cygwin\bin\curl.exe -O https://malbec1.bioconductor.org/BBS/3.10/bioc/src/contrib/KEGGREST_1.26.1.tar.gz && rm -rf KEGGREST.buildbin-libdir && mkdir KEGGREST.buildbin-libdir && C:\Users\biocbuild\bbs-3.10-bioc\R\bin\R.exe CMD INSTALL --merge-multiarch --build --library=KEGGREST.buildbin-libdir KEGGREST_1.26.1.tar.gz && C:\Users\biocbuild\bbs-3.10-bioc\R\bin\R.exe CMD INSTALL KEGGREST_1.26.1.zip && rm KEGGREST_1.26.1.tar.gz KEGGREST_1.26.1.zip |
| StartedAt: 2020-04-14 19:19:03 -0400 (Tue, 14 Apr 2020) |
| EndedAt: 2020-04-14 19:19:24 -0400 (Tue, 14 Apr 2020) |
| EllapsedTime: 21.0 seconds |
| RetCode: 0 |
| Status: OK |
##############################################################################
##############################################################################
###
### Running command:
###
### C:\cygwin\bin\curl.exe -O https://malbec1.bioconductor.org/BBS/3.10/bioc/src/contrib/KEGGREST_1.26.1.tar.gz && rm -rf KEGGREST.buildbin-libdir && mkdir KEGGREST.buildbin-libdir && C:\Users\biocbuild\bbs-3.10-bioc\R\bin\R.exe CMD INSTALL --merge-multiarch --build --library=KEGGREST.buildbin-libdir KEGGREST_1.26.1.tar.gz && C:\Users\biocbuild\bbs-3.10-bioc\R\bin\R.exe CMD INSTALL KEGGREST_1.26.1.zip && rm KEGGREST_1.26.1.tar.gz KEGGREST_1.26.1.zip
###
##############################################################################
##############################################################################
% Total % Received % Xferd Average Speed Time Time Time Current
Dload Upload Total Spent Left Speed
0 0 0 0 0 0 0 0 --:--:-- --:--:-- --:--:-- 0
100 14224 100 14224 0 0 345k 0 --:--:-- --:--:-- --:--:-- 385k
install for i386
* installing *source* package 'KEGGREST' ...
** using staged installation
** R
** inst
** byte-compile and prepare package for lazy loading
** help
*** installing help indices
converting help for package 'KEGGREST'
finding HTML links ... done
keggConv html
keggFind html
keggGet html
keggInfo html
keggLink html
keggList html
listDatabases html
mark.pathway.by.objects html
** building package indices
** installing vignettes
** testing if installed package can be loaded from temporary location
** testing if installed package can be loaded from final location
** testing if installed package keeps a record of temporary installation path
install for x64
* installing *source* package 'KEGGREST' ...
** testing if installed package can be loaded
* MD5 sums
packaged installation of 'KEGGREST' as KEGGREST_1.26.1.zip
* DONE (KEGGREST)
* installing to library 'C:/Users/biocbuild/bbs-3.10-bioc/R/library'
package 'KEGGREST' successfully unpacked and MD5 sums checked